Workbook

Sheet Block1
C1: Bedarf A | D1: Bedarf B | E1: Leistung A/B | F1: Verdienst A / Verdienst B
C2: 500 | D2: 1000 | E2: 4 | F2: =(C2/D2)*E2 -> 2
C3: =C2/35 -> 14.285714 | F3: Relativ zum Bedarf | H3: Nach Leistung | J3: Arithm. Mitelwert Leistung und Bedarf | L3: Geometrischer Mitelwert Leistung und Bedarf | N3: Erst Bedarfe, dann Leistung | P3: Niedrigste Bedarfe zuerst | R3: Gleiche Distanz zum Bedarf | T3: Gleichverteilung
B4: Menge | C4: Bedarf A erfüllbar | D4: Bedarf B erfüllbar | E4: Beide Bedarfe erfüllbar | F4: A | G4: B | H4: A | I4: B | J4: A | K4: B | L4: A | M4: B | N4: A | O4: B | P4: A | Q4: B | R4: A | S4: B | T4: A | U4: B
A5: 5 | B5: 300 | C5: =IF(B5>=$C$2,1,0) -> 0 | D5: =IF(B5>=$D$2,1,0) -> 0 | E5: =IF(B5>=($C$2+$D$2),1,0) -> 0 | F5: =$B5/(1+($D$2/$C$2)) -> 100 | G5: =$B5/(1+($C$2/$D$2)) -> 200 | H5: =$B5/(1+1/$E$2) -> 240 | I5: =$B5/(1+$E$2) -> 60 | J5: =(F5+H5)/2 -> 170 | K5: =(G5+I5)/2 -> 130 | L5: =$B5/(1+1/$F$2) -> 200 | M5: =$B5/(1+$F$2) -> 100 | N5: =IF($E5=0,F5,C$2+(($B5-SUM($C$2:$D$2))/(1+1/$E$2))) -> 100 | O5: =IF($E5=0,G5,D$2+(($B5-SUM($C$2:$D$2))/(1+$E$2))) -> 200 | P5: =IF(D5=0,B5,$C$2) -> 300 | Q5: =IF(D5=0,0,MIN(B5-$C$2,$D$2)) -> 0 | R5: =MIN(MAX($B5/2+($C$2-$D$2)/2,0),$B5) -> 0 | S5: =MIN(MAX($B5/2+($D$2-$C$2)/2,0),$B5) -> 300 | T5: =$B5/2 -> 150 | U5: =$B5/2 -> 150 | V5: =J5/K5 -> 1.3076923
A6: 6 | B6: =B5+A6*30 -> 480 | C6: =IF(B6>=$C$2,1,0) -> 0 | D6: =IF(B6>=$D$2,1,0) -> 0 | E6: =IF(B6>=($C$2+$D$2),1,0) -> 0 | F6: =$B6/(1+($D$2/$C$2)) -> 160 | G6: =$B6/(1+($C$2/$D$2)) -> 320 | H6: =$B6/(1+1/$E$2) -> 384 | I6: =$B6/(1+$E$2) -> 96 | J6: =(F6+H6)/2 -> 272 | K6: =(G6+I6)/2 -> 208 | L6: =$B6/(1+1/$F$2) -> 320 | M6: =$B6/(1+$F$2) -> 160 | N6: =IF($E6=0,F6,C$2+(($B6-SUM($C$2:$D$2))/(1+1/$E$2))) -> 160 | O6: =IF($E6=0,G6,D$2+(($B6-SUM($C$2:$D$2))/(1+$E$2))) -> 320 | P6: =IF(D6=0,B6,$C$2) -> 480 | Q6: =IF(D6=0,0,MIN(B6-$C$2,$D$2)) -> 0 | R6: =MIN(MAX($B6/2+($C$2-$D$2)/2,0),$B6) -> 0 | S6: =MIN(MAX($B6/2+($D$2-$C$2)/2,0),$B6) -> 480 | T6: =$B6/2 -> 240 | U6: =$B6/2 -> 240 | V6: =J6/K6 -> 1.3076923
A7: 7 | B7: =B6+A7*30 -> 690 | C7: =IF(B7>=$C$2,1,0) -> 1 | D7: =IF(B7>=$D$2,1,0) -> 0 | E7: =IF(B7>=($C$2+$D$2),1,0) -> 0 | F7: =$B7/(1+($D$2/$C$2)) -> 230 | G7: =$B7/(1+($C$2/$D$2)) -> 460 | H7: =$B7/(1+1/$E$2) -> 552 | I7: =$B7/(1+$E$2) -> 138 | J7: =(F7+H7)/2 -> 391 | K7: =(G7+I7)/2 -> 299 | L7: =$B7/(1+1/$F$2) -> 460 | M7: =$B7/(1+$F$2) -> 230 | N7: =IF($E7=0,F7,C$2+(($B7-SUM($C$2:$D$2))/(1+1/$E$2))) -> 230 | O7: =IF($E7=0,G7,D$2+(($B7-SUM($C$2:$D$2))/(1+$E$2))) -> 460 | P7: =IF(D7=0,B7,$C$2) -> 690 | Q7: =IF(D7=0,0,MIN(B7-$C$2,$D$2)) -> 0 | R7: =MIN(MAX($B7/2+($C$2-$D$2)/2,0),$B7) -> 95 | S7: =MIN(MAX($B7/2+($D$2-$C$2)/2,0),$B7) -> 595 | T7: =$B7/2 -> 345 | U7: =$B7/2 -> 345 | V7: =J7/K7 -> 1.3076923
A8: 8 | B8: =B7+A8*30 -> 930 | C8: =IF(B8>=$C$2,1,0) -> 1 | D8: =IF(B8>=$D$2,1,0) -> 0 | E8: =IF(B8>=($C$2+$D$2),1,0) -> 0 | F8: =$B8/(1+($D$2/$C$2)) -> 310 | G8: =$B8/(1+($C$2/$D$2)) -> 620 | H8: =$B8/(1+1/$E$2) -> 744 | I8: =$B8/(1+$E$2) -> 186 | J8: =(F8+H8)/2 -> 527 | K8: =(G8+I8)/2 -> 403 | L8: =$B8/(1+1/$F$2) -> 620 | M8: =$B8/(1+$F$2) -> 310 | N8: =IF($E8=0,F8,C$2+(($B8-SUM($C$2:$D$2))/(1+1/$E$2))) -> 310 | O8: =IF($E8=0,G8,D$2+(($B8-SUM($C$2:$D$2))/(1+$E$2))) -> 620 | P8: =IF(D8=0,B8,$C$2) -> 930 | Q8: =IF(D8=0,0,MIN(B8-$C$2,$D$2)) -> 0 | R8: =MIN(MAX($B8/2+($C$2-$D$2)/2,0),$B8) -> 215 | S8: =MIN(MAX($B8/2+($D$2-$C$2)/2,0),$B8) -> 715 | T8: =$B8/2 -> 465 | U8: =$B8/2 -> 465 | V8: =J8/K8 -> 1.3076923
A9: 9 | B9: =B8+A9*30 -> 1200 | C9: =IF(B9>=$C$2,1,0) -> 1 | D9: =IF(B9>=$D$2,1,0) -> 1 | E9: =IF(B9>=($C$2+$D$2),1,0) -> 0 | F9: =$B9/(1+($D$2/$C$2)) -> 400 | G9: =$B9/(1+($C$2/$D$2)) -> 800 | H9: =$B9/(1+1/$E$2) -> 960 | I9: =$B9/(1+$E$2) -> 240 | J9: =(F9+H9)/2 -> 680 | K9: =(G9+I9)/2 -> 520 | L9: =$B9/(1+1/$F$2) -> 800 | M9: =$B9/(1+$F$2) -> 400 | N9: =IF($E9=0,F9,C$2+(($B9-SUM($C$2:$D$2))/(1+1/$E$2))) -> 400 | O9: =IF($E9=0,G9,D$2+(($B9-SUM($C$2:$D$2))/(1+$E$2))) -> 800 | P9: =IF(D9=0,B9,$C$2) -> 500 | Q9: =IF(D9=0,0,MIN(B9-$C$2,$D$2)) -> 700 | R9: =MIN(MAX($B9/2+($C$2-$D$2)/2,0),$B9) -> 350 | S9: =MIN(MAX($B9/2+($D$2-$C$2)/2,0),$B9) -> 850 | T9: =$B9/2 -> 600 | U9: =$B9/2 -> 600 | V9: =J9/K9 -> 1.3076923
A10: 10 | B10: =B9+A10*30 -> 1500 | C10: =IF(B10>=$C$2,1,0) -> 1 | D10: =IF(B10>=$D$2,1,0) -> 1 | E10: =IF(B10>=($C$2+$D$2),1,0) -> 1 | F10: =$B10/(1+($D$2/$C$2)) -> 500 | G10: =$B10/(1+($C$2/$D$2)) -> 1000 | H10: =$B10/(1+1/$E$2) -> 1200 | I10: =$B10/(1+$E$2) -> 300 | J10: =(F10+H10)/2 -> 850 | K10: =(G10+I10)/2 -> 650 | L10: =$B10/(1+1/$F$2) -> 1000 | M10: =$B10/(1+$F$2) -> 500 | N10: =IF($E10=0,F10,C$2+(($B10-SUM($C$2:$D$2))/(1+1/$E$2))) -> 500 | O10: =IF($E10=0,G10,D$2+(($B10-SUM($C$2:$D$2))/(1+$E$2))) -> 1000 | P10: =IF(D10=0,B10,$C$2) -> 500 | Q10: =IF(D10=0,0,MIN(B10-$C$2,$D$2)) -> 1000 | R10: =MIN(MAX($B10/2+($C$2-$D$2)/2,0),$B10) -> 500 | S10: =MIN(MAX($B10/2+($D$2-$C$2)/2,0),$B10) -> 1000 | T10: =$B10/2 -> 750 | U10: =$B10/2 -> 750 | V10: =J10/K10 -> 1.3076923
A11: 11 | B11: =B10+A11*30 -> 1830 | C11: =IF(B11>=$C$2,1,0) -> 1 | D11: =IF(B11>=$D$2,1,0) -> 1 | E11: =IF(B11>=($C$2+$D$2),1,0) -> 1 | F11: =$B11/(1+($D$2/$C$2)) -> 610 | G11: =$B11/(1+($C$2/$D$2)) -> 1220 | H11: =$B11/(1+1/$E$2) -> 1464 | I11: =$B11/(1+$E$2) -> 366 | J11: =(F11+H11)/2 -> 1037 | K11: =(G11+I11)/2 -> 793 | L11: =$B11/(1+1/$F$2) -> 1220 | M11: =$B11/(1+$F$2) -> 610 | N11: =IF($E11=0,F11,C$2+(($B11-SUM($C$2:$D$2))/(1+1/$E$2))) -> 764 | O11: =IF($E11=0,G11,D$2+(($B11-SUM($C$2:$D$2))/(1+$E$2))) -> 1066 | P11: =IF(D11=0,B11,$C$2) -> 500 | Q11: =IF(D11=0,0,MIN(B11-$C$2,$D$2)) -> 1000 | R11: =MIN(MAX($B11/2+($C$2-$D$2)/2,0),$B11) -> 665 | S11: =MIN(MAX($B11/2+($D$2-$C$2)/2,0),$B11) -> 1165 | T11: =$B11/2 -> 915 | U11: =$B11/2 -> 915 | V11: =J11/K11 -> 1.3076923
A12: 12 | B12: =B11+A12*30 -> 2190 | C12: =IF(B12>=$C$2,1,0) -> 1 | D12: =IF(B12>=$D$2,1,0) -> 1 | E12: =IF(B12>=($C$2+$D$2),1,0) -> 1 | F12: =$B12/(1+($D$2/$C$2)) -> 730 | G12: =$B12/(1+($C$2/$D$2)) -> 1460 | H12: =$B12/(1+1/$E$2) -> 1752 | I12: =$B12/(1+$E$2) -> 438 | J12: =(F12+H12)/2 -> 1241 | K12: =(G12+I12)/2 -> 949 | L12: =$B12/(1+1/$F$2) -> 1460 | M12: =$B12/(1+$F$2) -> 730 | N12: =IF($E12=0,F12,C$2+(($B12-SUM($C$2:$D$2))/(1+1/$E$2))) -> 1052 | O12: =IF($E12=0,G12,D$2+(($B12-SUM($C$2:$D$2))/(1+$E$2))) -> 1138 | P12: =IF(D12=0,B12,$C$2) -> 500 | Q12: =IF(D12=0,0,MIN(B12-$C$2,$D$2)) -> 1000 | R12: =MIN(MAX($B12/2+($C$2-$D$2)/2,0),$B12) -> 845 | S12: =MIN(MAX($B12/2+($D$2-$C$2)/2,0),$B12) -> 1345 | T12: =$B12/2 -> 1095 | U12: =$B12/2 -> 1095 | V12: =J12/K12 -> 1.3076923
A13: 13 | B13: =B12+A13*30 -> 2580 | C13: =IF(B13>=$C$2,1,0) -> 1 | D13: =IF(B13>=$D$2,1,0) -> 1 | E13: =IF(B13>=($C$2+$D$2),1,0) -> 1 | F13: =$B13/(1+($D$2/$C$2)) -> 860 | G13: =$B13/(1+($C$2/$D$2)) -> 1720 | H13: =$B13/(1+1/$E$2) -> 2064 | I13: =$B13/(1+$E$2) -> 516 | J13: =(F13+H13)/2 -> 1462 | K13: =(G13+I13)/2 -> 1118 | L13: =$B13/(1+1/$F$2) -> 1720 | M13: =$B13/(1+$F$2) -> 860 | N13: =IF($E13=0,F13,C$2+(($B13-SUM($C$2:$D$2))/(1+1/$E$2))) -> 1364 | O13: =IF($E13=0,G13,D$2+(($B13-SUM($C$2:$D$2))/(1+$E$2))) -> 1216 | P13: =IF(D13=0,B13,$C$2) -> 500 | Q13: =IF(D13=0,0,MIN(B13-$C$2,$D$2)) -> 1000 | R13: =MIN(MAX($B13/2+($C$2-$D$2)/2,0),$B13) -> 1040 | S13: =MIN(MAX($B13/2+($D$2-$C$2)/2,0),$B13) -> 1540 | T13: =$B13/2 -> 1290 | U13: =$B13/2 -> 1290 | V13: =J13/K13 -> 1.3076923
A14: 14 | B14: =B13+A14*30 -> 3000 | C14: =IF(B14>=$C$2,1,0) -> 1 | D14: =IF(B14>=$D$2,1,0) -> 1 | E14: =IF(B14>=($C$2+$D$2),1,0) -> 1 | F14: =$B14/(1+($D$2/$C$2)) -> 1000 | G14: =$B14/(1+($C$2/$D$2)) -> 2000 | H14: =$B14/(1+1/$E$2) -> 2400 | I14: =$B14/(1+$E$2) -> 600 | J14: =(F14+H14)/2 -> 1700 | K14: =(G14+I14)/2 -> 1300 | L14: =$B14/(1+1/$F$2) -> 2000 | M14: =$B14/(1+$F$2) -> 1000 | N14: =IF($E14=0,F14,C$2+(($B14-SUM($C$2:$D$2))/(1+1/$E$2))) -> 1700 | O14: =IF($E14=0,G14,D$2+(($B14-SUM($C$2:$D$2))/(1+$E$2))) -> 1300 | P14: =IF(D14=0,B14,$C$2) -> 500 | Q14: =IF(D14=0,0,MIN(B14-$C$2,$D$2)) -> 1000 | R14: =MIN(MAX($B14/2+($C$2-$D$2)/2,0),$B14) -> 1250 | S14: =MIN(MAX($B14/2+($D$2-$C$2)/2,0),$B14) -> 1750 | T14: =$B14/2 -> 1500 | U14: =$B14/2 -> 1500 | V14: =J14/K14 -> 1.3076923
A15: 15 | B15: =B14+A15*30 -> 3450 | C15: =IF(B15>=$C$2,1,0) -> 1 | D15: =IF(B15>=$D$2,1,0) -> 1 | E15: =IF(B15>=($C$2+$D$2),1,0) -> 1 | F15: =$B15/(1+($D$2/$C$2)) -> 1150 | G15: =$B15/(1+($C$2/$D$2)) -> 2300 | H15: =$B15/(1+1/$E$2) -> 2760 | I15: =$B15/(1+$E$2) -> 690 | J15: =(F15+H15)/2 -> 1955 | K15: =(G15+I15)/2 -> 1495 | L15: =$B15/(1+1/$F$2) -> 2300 | M15: =$B15/(1+$F$2) -> 1150 | N15: =IF($E15=0,F15,C$2+(($B15-SUM($C$2:$D$2))/(1+1/$E$2))) -> 2060 | O15: =IF($E15=0,G15,D$2+(($B15-SUM($C$2:$D$2))/(1+$E$2))) -> 1390 | P15: =IF(D15=0,B15,$C$2) -> 500 | Q15: =IF(D15=0,0,MIN(B15-$C$2,$D$2)) -> 1000 | R15: =MIN(MAX($B15/2+($C$2-$D$2)/2,0),$B15) -> 1475 | S15: =MIN(MAX($B15/2+($D$2-$C$2)/2,0),$B15) -> 1975 | T15: =$B15/2 -> 1725 | U15: =$B15/2 -> 1725 | V15: =J15/K15 -> 1.3076923
A16: 16 | B16: =B15+A16*30 -> 3930 | C16: =IF(B16>=$C$2,1,0) -> 1 | D16: =IF(B16>=$D$2,1,0) -> 1 | E16: =IF(B16>=($C$2+$D$2),1,0) -> 1 | F16: =$B16/(1+($D$2/$C$2)) -> 1310 | G16: =$B16/(1+($C$2/$D$2)) -> 2620 | H16: =$B16/(1+1/$E$2) -> 3144 | I16: =$B16/(1+$E$2) -> 786 | J16: =(F16+H16)/2 -> 2227 | K16: =(G16+I16)/2 -> 1703 | L16: =$B16/(1+1/$F$2) -> 2620 | M16: =$B16/(1+$F$2) -> 1310 | N16: =IF($E16=0,F16,C$2+(($B16-SUM($C$2:$D$2))/(1+1/$E$2))) -> 2444 | O16: =IF($E16=0,G16,D$2+(($B16-SUM($C$2:$D$2))/(1+$E$2))) -> 1486 | P16: =IF(D16=0,B16,$C$2) -> 500 | Q16: =IF(D16=0,0,MIN(B16-$C$2,$D$2)) -> 1000 | R16: =MIN(MAX($B16/2+($C$2-$D$2)/2,0),$B16) -> 1715 | S16: =MIN(MAX($B16/2+($D$2-$C$2)/2,0),$B16) -> 2215 | T16: =$B16/2 -> 1965 | U16: =$B16/2 -> 1965 | V16: =J16/K16 -> 1.3076923
A17: 17 | B17: =B16+A17*30 -> 4440 | C17: =IF(B17>=$C$2,1,0) -> 1 | D17: =IF(B17>=$D$2,1,0) -> 1 | E17: =IF(B17>=($C$2+$D$2),1,0) -> 1 | F17: =$B17/(1+($D$2/$C$2)) -> 1480 | G17: =$B17/(1+($C$2/$D$2)) -> 2960 | H17: =$B17/(1+1/$E$2) -> 3552 | I17: =$B17/(1+$E$2) -> 888 | J17: =(F17+H17)/2 -> 2516 | K17: =(G17+I17)/2 -> 1924 | L17: =$B17/(1+1/$F$2) -> 2960 | M17: =$B17/(1+$F$2) -> 1480 | N17: =IF($E17=0,F17,C$2+(($B17-SUM($C$2:$D$2))/(1+1/$E$2))) -> 2852 | O17: =IF($E17=0,G17,D$2+(($B17-SUM($C$2:$D$2))/(1+$E$2))) -> 1588 | P17: =IF(D17=0,B17,$C$2) -> 500 | Q17: =IF(D17=0,0,MIN(B17-$C$2,$D$2)) -> 1000 | R17: =MIN(MAX($B17/2+($C$2-$D$2)/2,0),$B17) -> 1970 | S17: =MIN(MAX($B17/2+($D$2-$C$2)/2,0),$B17) -> 2470 | T17: =$B17/2 -> 2220 | U17: =$B17/2 -> 2220 | V17: =J17/K17 -> 1.3076923
A21: Voll nach Leistung heißt:
A22: Block 1: 1/5 für B und 4/5 A
A23: 0 nach Leistung heißt:

Sheet Block2
C1: Bedarf A | D1: Bedarf B | E1: Leistung A/B | F1: Verdienst A / Verdienst B
C2: 300 | D2: 1200 | E2: 2 | F2: =(C2/D2)*E2 -> 0.5
C3: =C2/35 -> 8.5714286 | F3: Relativ zum Bedarf | H3: Nach Leistung | J3: Arithm. Mitelwert Leistung und Bedarf | L3: Geometrischer Mitelwert Leistung und Bedarf | N3: Erst Bedarfe, dann Leistung | P3: Niedrigste Bedarfe zuerst | R3: Gleiche Distanz zum Bedarf | T3: Gleichverteilung
B4: Menge | C4: Bedarf A erfüllbar | D4: Bedarf B erfüllbar | E4: Beide Bedarfe erfüllbar | F4: A | G4: B | H4: A | I4: B | J4: A | K4: B | L4: A | M4: B | N4: A | O4: B | P4: A | Q4: B | R4: A | S4: B | T4: A | U4: B
A5: 5 | B5: 300 | C5: =IF(B5>=$C$2,1,0) -> 1 | D5: =IF(B5>=$D$2,1,0) -> 0 | E5: =IF(B5>=($C$2+$D$2),1,0) -> 0 | F5: =$B5/(1+($D$2/$C$2)) -> 60 | G5: =$B5/(1+($C$2/$D$2)) -> 240 | H5: =$B5/(1+1/$E$2) -> 200 | I5: =$B5/(1+$E$2) -> 100 | J5: =(F5+H5)/2 -> 130 | K5: =(G5+I5)/2 -> 170 | L5: =$B5/(1+1/$F$2) -> 100 | M5: =$B5/(1+$F$2) -> 200 | N5: =IF($E5=0,F5,C$2+(($B5-SUM($C$2:$D$2))/(1+1/$E$2))) -> 60 | O5: =IF($E5=0,G5,D$2+(($B5-SUM($C$2:$D$2))/(1+$E$2))) -> 240 | P5: =IF(D5=0,B5,$C$2) -> 300 | Q5: =IF(D5=0,0,MIN(B5-$C$2,$D$2)) -> 0 | R5: =MIN(MAX($B5/2+($C$2-$D$2)/2,0),$B5) -> 0 | S5: =MIN(MAX($B5/2+($D$2-$C$2)/2,0),$B5) -> 300 | T5: =$B5/2 -> 150 | U5: =$B5/2 -> 150 | V5: =J5/K5 -> 0.76470588
A6: 6 | B6: =B5+A6*30 -> 480 | C6: =IF(B6>=$C$2,1,0) -> 1 | D6: =IF(B6>=$D$2,1,0) -> 0 | E6: =IF(B6>=($C$2+$D$2),1,0) -> 0 | F6: =$B6/(1+($D$2/$C$2)) -> 96 | G6: =$B6/(1+($C$2/$D$2)) -> 384 | H6: =$B6/(1+1/$E$2) -> 320 | I6: =$B6/(1+$E$2) -> 160 | J6: =(F6+H6)/2 -> 208 | K6: =(G6+I6)/2 -> 272 | L6: =$B6/(1+1/$F$2) -> 160 | M6: =$B6/(1+$F$2) -> 320 | N6: =IF($E6=0,F6,C$2+(($B6-SUM($C$2:$D$2))/(1+1/$E$2))) -> 96 | O6: =IF($E6=0,G6,D$2+(($B6-SUM($C$2:$D$2))/(1+$E$2))) -> 384 | P6: =IF(D6=0,B6,$C$2) -> 480 | Q6: =IF(D6=0,0,MIN(B6-$C$2,$D$2)) -> 0 | R6: =MIN(MAX($B6/2+($C$2-$D$2)/2,0),$B6) -> 0 | S6: =MIN(MAX($B6/2+($D$2-$C$2)/2,0),$B6) -> 480 | T6: =$B6/2 -> 240 | U6: =$B6/2 -> 240 | V6: =J6/K6 -> 0.76470588
A7: 7 | B7: =B6+A7*30 -> 690 | C7: =IF(B7>=$C$2,1,0) -> 1 | D7: =IF(B7>=$D$2,1,0) -> 0 | E7: =IF(B7>=($C$2+$D$2),1,0) -> 0 | F7: =$B7/(1+($D$2/$C$2)) -> 138 | G7: =$B7/(1+($C$2/$D$2)) -> 552 | H7: =$B7/(1+1/$E$2) -> 460 | I7: =$B7/(1+$E$2) -> 230 | J7: =(F7+H7)/2 -> 299 | K7: =(G7+I7)/2 -> 391 | L7: =$B7/(1+1/$F$2) -> 230 | M7: =$B7/(1+$F$2) -> 460 | N7: =IF($E7=0,F7,C$2+(($B7-SUM($C$2:$D$2))/(1+1/$E$2))) -> 138 | O7: =IF($E7=0,G7,D$2+(($B7-SUM($C$2:$D$2))/(1+$E$2))) -> 552 | P7: =IF(D7=0,B7,$C$2) -> 690 | Q7: =IF(D7=0,0,MIN(B7-$C$2,$D$2)) -> 0 | R7: =MIN(MAX($B7/2+($C$2-$D$2)/2,0),$B7) -> 0 | S7: =MIN(MAX($B7/2+($D$2-$C$2)/2,0),$B7) -> 690 | T7: =$B7/2 -> 345 | U7: =$B7/2 -> 345 | V7: =J7/K7 -> 0.76470588
A8: 8 | B8: =B7+A8*30 -> 930 | C8: =IF(B8>=$C$2,1,0) -> 1 | D8: =IF(B8>=$D$2,1,0) -> 0 | E8: =IF(B8>=($C$2+$D$2),1,0) -> 0 | F8: =$B8/(1+($D$2/$C$2)) -> 186 | G8: =$B8/(1+($C$2/$D$2)) -> 744 | H8: =$B8/(1+1/$E$2) -> 620 | I8: =$B8/(1+$E$2) -> 310 | J8: =(F8+H8)/2 -> 403 | K8: =(G8+I8)/2 -> 527 | L8: =$B8/(1+1/$F$2) -> 310 | M8: =$B8/(1+$F$2) -> 620 | N8: =IF($E8=0,F8,C$2+(($B8-SUM($C$2:$D$2))/(1+1/$E$2))) -> 186 | O8: =IF($E8=0,G8,D$2+(($B8-SUM($C$2:$D$2))/(1+$E$2))) -> 744 | P8: =IF(D8=0,B8,$C$2) -> 930 | Q8: =IF(D8=0,0,MIN(B8-$C$2,$D$2)) -> 0 | R8: =MIN(MAX($B8/2+($C$2-$D$2)/2,0),$B8) -> 15 | S8: =MIN(MAX($B8/2+($D$2-$C$2)/2,0),$B8) -> 915 | T8: =$B8/2 -> 465 | U8: =$B8/2 -> 465 | V8: =J8/K8 -> 0.76470588
A9: 9 | B9: =B8+A9*30 -> 1200 | C9: =IF(B9>=$C$2,1,0) -> 1 | D9: =IF(B9>=$D$2,1,0) -> 1 | E9: =IF(B9>=($C$2+$D$2),1,0) -> 0 | F9: =$B9/(1+($D$2/$C$2)) -> 240 | G9: =$B9/(1+($C$2/$D$2)) -> 960 | H9: =$B9/(1+1/$E$2) -> 800 | I9: =$B9/(1+$E$2) -> 400 | J9: =(F9+H9)/2 -> 520 | K9: =(G9+I9)/2 -> 680 | L9: =$B9/(1+1/$F$2) -> 400 | M9: =$B9/(1+$F$2) -> 800 | N9: =IF($E9=0,F9,C$2+(($B9-SUM($C$2:$D$2))/(1+1/$E$2))) -> 240 | O9: =IF($E9=0,G9,D$2+(($B9-SUM($C$2:$D$2))/(1+$E$2))) -> 960 | P9: =IF(D9=0,B9,$C$2) -> 300 | Q9: =IF(D9=0,0,MIN(B9-$C$2,$D$2)) -> 900 | R9: =MIN(MAX($B9/2+($C$2-$D$2)/2,0),$B9) -> 150 | S9: =MIN(MAX($B9/2+($D$2-$C$2)/2,0),$B9) -> 1050 | T9: =$B9/2 -> 600 | U9: =$B9/2 -> 600 | V9: =J9/K9 -> 0.76470588
A10: 10 | B10: =B9+A10*30 -> 1500 | C10: =IF(B10>=$C$2,1,0) -> 1 | D10: =IF(B10>=$D$2,1,0) -> 1 | E10: =IF(B10>=($C$2+$D$2),1,0) -> 1 | F10: =$B10/(1+($D$2/$C$2)) -> 300 | G10: =$B10/(1+($C$2/$D$2)) -> 1200 | H10: =$B10/(1+1/$E$2) -> 1000 | I10: =$B10/(1+$E$2) -> 500 | J10: =(F10+H10)/2 -> 650 | K10: =(G10+I10)/2 -> 850 | L10: =$B10/(1+1/$F$2) -> 500 | M10: =$B10/(1+$F$2) -> 1000 | N10: =IF($E10=0,F10,C$2+(($B10-SUM($C$2:$D$2))/(1+1/$E$2))) -> 300 | O10: =IF($E10=0,G10,D$2+(($B10-SUM($C$2:$D$2))/(1+$E$2))) -> 1200 | P10: =IF(D10=0,B10,$C$2) -> 300 | Q10: =IF(D10=0,0,MIN(B10-$C$2,$D$2)) -> 1200 | R10: =MIN(MAX($B10/2+($C$2-$D$2)/2,0),$B10) -> 300 | S10: =MIN(MAX($B10/2+($D$2-$C$2)/2,0),$B10) -> 1200 | T10: =$B10/2 -> 750 | U10: =$B10/2 -> 750 | V10: =J10/K10 -> 0.76470588
A11: 11 | B11: =B10+A11*30 -> 1830 | C11: =IF(B11>=$C$2,1,0) -> 1 | D11: =IF(B11>=$D$2,1,0) -> 1 | E11: =IF(B11>=($C$2+$D$2),1,0) -> 1 | F11: =$B11/(1+($D$2/$C$2)) -> 366 | G11: =$B11/(1+($C$2/$D$2)) -> 1464 | H11: =$B11/(1+1/$E$2) -> 1220 | I11: =$B11/(1+$E$2) -> 610 | J11: =(F11+H11)/2 -> 793 | K11: =(G11+I11)/2 -> 1037 | L11: =$B11/(1+1/$F$2) -> 610 | M11: =$B11/(1+$F$2) -> 1220 | N11: =IF($E11=0,F11,C$2+(($B11-SUM($C$2:$D$2))/(1+1/$E$2))) -> 520 | O11: =IF($E11=0,G11,D$2+(($B11-SUM($C$2:$D$2))/(1+$E$2))) -> 1310 | P11: =IF(D11=0,B11,$C$2) -> 300 | Q11: =IF(D11=0,0,MIN(B11-$C$2,$D$2)) -> 1200 | R11: =MIN(MAX($B11/2+($C$2-$D$2)/2,0),$B11) -> 465 | S11: =MIN(MAX($B11/2+($D$2-$C$2)/2,0),$B11) -> 1365 | T11: =$B11/2 -> 915 | U11: =$B11/2 -> 915 | V11: =J11/K11 -> 0.76470588
A12: 12 | B12: =B11+A12*30 -> 2190 | C12: =IF(B12>=$C$2,1,0) -> 1 | D12: =IF(B12>=$D$2,1,0) -> 1 | E12: =IF(B12>=($C$2+$D$2),1,0) -> 1 | F12: =$B12/(1+($D$2/$C$2)) -> 438 | G12: =$B12/(1+($C$2/$D$2)) -> 1752 | H12: =$B12/(1+1/$E$2) -> 1460 | I12: =$B12/(1+$E$2) -> 730 | J12: =(F12+H12)/2 -> 949 | K12: =(G12+I12)/2 -> 1241 | L12: =$B12/(1+1/$F$2) -> 730 | M12: =$B12/(1+$F$2) -> 1460 | N12: =IF($E12=0,F12,C$2+(($B12-SUM($C$2:$D$2))/(1+1/$E$2))) -> 760 | O12: =IF($E12=0,G12,D$2+(($B12-SUM($C$2:$D$2))/(1+$E$2))) -> 1430 | P12: =IF(D12=0,B12,$C$2) -> 300 | Q12: =IF(D12=0,0,MIN(B12-$C$2,$D$2)) -> 1200 | R12: =MIN(MAX($B12/2+($C$2-$D$2)/2,0),$B12) -> 645 | S12: =MIN(MAX($B12/2+($D$2-$C$2)/2,0),$B12) -> 1545 | T12: =$B12/2 -> 1095 | U12: =$B12/2 -> 1095 | V12: =J12/K12 -> 0.76470588
A13: 13 | B13: =B12+A13*30 -> 2580 | C13: =IF(B13>=$C$2,1,0) -> 1 | D13: =IF(B13>=$D$2,1,0) -> 1 | E13: =IF(B13>=($C$2+$D$2),1,0) -> 1 | F13: =$B13/(1+($D$2/$C$2)) -> 516 | G13: =$B13/(1+($C$2/$D$2)) -> 2064 | H13: =$B13/(1+1/$E$2) -> 1720 | I13: =$B13/(1+$E$2) -> 860 | J13: =(F13+H13)/2 -> 1118 | K13: =(G13+I13)/2 -> 1462 | L13: =$B13/(1+1/$F$2) -> 860 | M13: =$B13/(1+$F$2) -> 1720 | N13: =IF($E13=0,F13,C$2+(($B13-SUM($C$2:$D$2))/(1+1/$E$2))) -> 1020 | O13: =IF($E13=0,G13,D$2+(($B13-SUM($C$2:$D$2))/(1+$E$2))) -> 1560 | P13: =IF(D13=0,B13,$C$2) -> 300 | Q13: =IF(D13=0,0,MIN(B13-$C$2,$D$2)) -> 1200 | R13: =MIN(MAX($B13/2+($C$2-$D$2)/2,0),$B13) -> 840 | S13: =MIN(MAX($B13/2+($D$2-$C$2)/2,0),$B13) -> 1740 | T13: =$B13/2 -> 1290 | U13: =$B13/2 -> 1290 | V13: =J13/K13 -> 0.76470588
A14: 14 | B14: =B13+A14*30 -> 3000 | C14: =IF(B14>=$C$2,1,0) -> 1 | D14: =IF(B14>=$D$2,1,0) -> 1 | E14: =IF(B14>=($C$2+$D$2),1,0) -> 1 | F14: =$B14/(1+($D$2/$C$2)) -> 600 | G14: =$B14/(1+($C$2/$D$2)) -> 2400 | H14: =$B14/(1+1/$E$2) -> 2000 | I14: =$B14/(1+$E$2) -> 1000 | J14: =(F14+H14)/2 -> 1300 | K14: =(G14+I14)/2 -> 1700 | L14: =$B14/(1+1/$F$2) -> 1000 | M14: =$B14/(1+$F$2) -> 2000 | N14: =IF($E14=0,F14,C$2+(($B14-SUM($C$2:$D$2))/(1+1/$E$2))) -> 1300 | O14: =IF($E14=0,G14,D$2+(($B14-SUM($C$2:$D$2))/(1+$E$2))) -> 1700 | P14: =IF(D14=0,B14,$C$2) -> 300 | Q14: =IF(D14=0,0,MIN(B14-$C$2,$D$2)) -> 1200 | R14: =MIN(MAX($B14/2+($C$2-$D$2)/2,0),$B14) -> 1050 | S14: =MIN(MAX($B14/2+($D$2-$C$2)/2,0),$B14) -> 1950 | T14: =$B14/2 -> 1500 | U14: =$B14/2 -> 1500 | V14: =J14/K14 -> 0.76470588
A15: 15 | B15: =B14+A15*30 -> 3450 | C15: =IF(B15>=$C$2,1,0) -> 1 | D15: =IF(B15>=$D$2,1,0) -> 1 | E15: =IF(B15>=($C$2+$D$2),1,0) -> 1 | F15: =$B15/(1+($D$2/$C$2)) -> 690 | G15: =$B15/(1+($C$2/$D$2)) -> 2760 | H15: =$B15/(1+1/$E$2) -> 2300 | I15: =$B15/(1+$E$2) -> 1150 | J15: =(F15+H15)/2 -> 1495 | K15: =(G15+I15)/2 -> 1955 | L15: =$B15/(1+1/$F$2) -> 1150 | M15: =$B15/(1+$F$2) -> 2300 | N15: =IF($E15=0,F15,C$2+(($B15-SUM($C$2:$D$2))/(1+1/$E$2))) -> 1600 | O15: =IF($E15=0,G15,D$2+(($B15-SUM($C$2:$D$2))/(1+$E$2))) -> 1850 | P15: =IF(D15=0,B15,$C$2) -> 300 | Q15: =IF(D15=0,0,MIN(B15-$C$2,$D$2)) -> 1200 | R15: =MIN(MAX($B15/2+($C$2-$D$2)/2,0),$B15) -> 1275 | S15: =MIN(MAX($B15/2+($D$2-$C$2)/2,0),$B15) -> 2175 | T15: =$B15/2 -> 1725 | U15: =$B15/2 -> 1725 | V15: =J15/K15 -> 0.76470588
A16: 16 | B16: =B15+A16*30 -> 3930 | C16: =IF(B16>=$C$2,1,0) -> 1 | D16: =IF(B16>=$D$2,1,0) -> 1 | E16: =IF(B16>=($C$2+$D$2),1,0) -> 1 | F16: =$B16/(1+($D$2/$C$2)) -> 786 | G16: =$B16/(1+($C$2/$D$2)) -> 3144 | H16: =$B16/(1+1/$E$2) -> 2620 | I16: =$B16/(1+$E$2) -> 1310 | J16: =(F16+H16)/2 -> 1703 | K16: =(G16+I16)/2 -> 2227 | L16: =$B16/(1+1/$F$2) -> 1310 | M16: =$B16/(1+$F$2) -> 2620 | N16: =IF($E16=0,F16,C$2+(($B16-SUM($C$2:$D$2))/(1+1/$E$2))) -> 1920 | O16: =IF($E16=0,G16,D$2+(($B16-SUM($C$2:$D$2))/(1+$E$2))) -> 2010 | P16: =IF(D16=0,B16,$C$2) -> 300 | Q16: =IF(D16=0,0,MIN(B16-$C$2,$D$2)) -> 1200 | R16: =MIN(MAX($B16/2+($C$2-$D$2)/2,0),$B16) -> 1515 | S16: =MIN(MAX($B16/2+($D$2-$C$2)/2,0),$B16) -> 2415 | T16: =$B16/2 -> 1965 | U16: =$B16/2 -> 1965 | V16: =J16/K16 -> 0.76470588
A17: 17 | B17: =B16+A17*30 -> 4440 | C17: =IF(B17>=$C$2,1,0) -> 1 | D17: =IF(B17>=$D$2,1,0) -> 1 | E17: =IF(B17>=($C$2+$D$2),1,0) -> 1 | F17: =$B17/(1+($D$2/$C$2)) -> 888 | G17: =$B17/(1+($C$2/$D$2)) -> 3552 | H17: =$B17/(1+1/$E$2) -> 2960 | I17: =$B17/(1+$E$2) -> 1480 | J17: =(F17+H17)/2 -> 1924 | K17: =(G17+I17)/2 -> 2516 | L17: =$B17/(1+1/$F$2) -> 1480 | M17: =$B17/(1+$F$2) -> 2960 | N17: =IF($E17=0,F17,C$2+(($B17-SUM($C$2:$D$2))/(1+1/$E$2))) -> 2260 | O17: =IF($E17=0,G17,D$2+(($B17-SUM($C$2:$D$2))/(1+$E$2))) -> 2180 | P17: =IF(D17=0,B17,$C$2) -> 300 | Q17: =IF(D17=0,0,MIN(B17-$C$2,$D$2)) -> 1200 | R17: =MIN(MAX($B17/2+($C$2-$D$2)/2,0),$B17) -> 1770 | S17: =MIN(MAX($B17/2+($D$2-$C$2)/2,0),$B17) -> 2670 | T17: =$B17/2 -> 2220 | U17: =$B17/2 -> 2220 | V17: =J17/K17 -> 0.76470588

Sheet Gewichte
B1: Voll nach Leistung | C1: Voll nach Bedarf | D1: Mittelwert | E1: Gewicht Bedarf bei Gleichverteilung | F1: Gewicht Leistung bei Gleichverteilung | G1: Bedarf | H1: Gewicht Bedarf exakte Bedarfserfüllung | L1: Endowment | M1: e bekommt | N1: Voll nach Bedarf: e bekommt | O1: Voll nach Leistung: e bekommt | P1: Gewicht Bedarf
A2: L Block 1 | B2: =4/5 -> 0.8 | C2: =1/3 -> 0.33333333 | D2: =AVERAGE(B2:C2) -> 0.56666667 | F2: =(0.5-C2)/(B2-C2) -> 0.35714286 | G2: 500 | L2: 500 | M2: 500 | N2: =1/3*L2 -> 166.66667 | O2: =4/5*L2 -> 400 | P2: =(O2-M2)/(O2-N2) -> -0.42857143
A3: B Block 1 | B3: 0.2 | C3: =2/3 -> 0.66666667 | D3: =AVERAGE(B3:C3) -> 0.43333333 | E3: =(0.5-B3)/(C3-B3) -> 0.64285714 | G3: 1000 | L3: 100000 | M3: 500 | N3: =1/3 -> 0.33333333 | O3: =4/5 -> 0.8 | P3: =(O3-(M3/L3))/(O3-N3) -> 1.7035714
A4: L Block 2 | B4: =2/3 -> 0.66666667 | C4: 0.2 | G4: 300
A5: B Block 2 | B5: =1/3 -> 0.33333333 | C5: 0.8 | E5: =(0.5-B5)/(C5-B5) -> 0.35714286 | G5: 1200
A8: endowment | B8: Bedarf B Block 1 | C8: Bedarf L Block 1 | D8: Gewicht Bedarf bei voller Bedarfsdeckung N Block 1 | F8: Bedarf B Block 1 | G8: Bedarf L Block 1 | H8: Gewicht Bedarf bei voller Bedarfsdeckung N Block 2
A9: 300 | B9: 1000 | C9: 500 | F9: 1200 | G9: 300
A10: 480 | B10: 1000 | C10: 500 | F10: 1200 | G10: 300
A11: 690 | B11: 1000 | C11: 500 | F11: 1200 | G11: 300
A12: 930 | B12: 1000 | C12: 500 | F12: 1200 | G12: 300
A13: 1200 | B13: 1000 | C13: 500 | D13: =(1000/A13-$B$3)/($C$3-$B$3) -> 1.3571429 | F13: 1200 | G13: 300 | H13: =(F13/A13-$B$3)/($C$3-$B$3) -> 1.7142857
A14: 1500 | B14: 1000 | C14: 500 | D14: =(1000/A14-$B$3)/($C$3-$B$3) -> 1 | F14: 1200 | G14: 300 | H14: =(F14/A14-$B$3)/($C$3-$B$3) -> 1.2857143 | K14: 300 | L14: 480 | M14: 690 | N14: 930 | O14: 1200 | P14: 1500 | Q14: 1830 | R14: 2190 | S14: 2580 | T14: 3000 | U14: 3450 | V14: 3930 | W14: 4440 | X14: 4980
A15: 1830 | B15: 1000 | C15: 500 | D15: =(1000/A15-$B$3)/($C$3-$B$3) -> 0.74238876 | F15: 1200 | G15: 300 | H15: =(F15/A15-$B$3)/($C$3-$B$3) -> 0.9765808
A16: 2190 | B16: 1000 | C16: 500 | D16: =(1000/A16-$B$3)/($C$3-$B$3) -> 0.54990215 | F16: 1200 | G16: 300 | H16: =(F16/A16-$B$3)/($C$3-$B$3) -> 0.74559687
A17: 2580 | B17: 1000 | C17: 500 | D17: =(1000/A17-$B$3)/($C$3-$B$3) -> 0.40199336 | F17: 1200 | G17: 300 | H17: =(F17/A17-$B$3)/($C$3-$B$3) -> 0.56810631
A18: 3000 | B18: 1000 | C18: 500 | D18: =(1000/A18-$B$3)/($C$3-$B$3) -> 0.28571429 | F18: 1200 | G18: 300 | H18: =(F18/A18-$B$3)/($C$3-$B$3) -> 0.42857143
A19: 3450 | B19: 1000 | C19: 500 | D19: =(1000/A19-$B$3)/($C$3-$B$3) -> 0.19254658 | F19: 1200 | G19: 300 | H19: =(F19/A19-$B$3)/($C$3-$B$3) -> 0.31677019
A20: 3930 | B20: 1000 | C20: 500 | D20: =(1000/A20-$B$3)/($C$3-$B$3) -> 0.11668484 | F20: 1200 | G20: 300 | H20: =(F20/A20-$B$3)/($C$3-$B$3) -> 0.2257361
A21: 4440 | B21: 1000 | C21: 500 | D21: =(1000/A21-$B$3)/($C$3-$B$3) -> 0.054054054 | F21: 1200 | G21: 300 | H21: =(F21/A21-$B$3)/($C$3-$B$3) -> 0.15057915
A22: 4980 | B22: 1000 | C22: 500 | D22: =(1000/A22-$B$3)/($C$3-$B$3) -> 0.0017211704 | F22: 1200 | G22: 300 | H22: =(F22/A22-$B$3)/($C$3-$B$3) -> 0.08777969

Sheet Block1 alte Studie
C1: Bedarf A | D1: Bedarf B | E1: Leistung A/B | F1: Verdienst A / Verdienst B | H1: Skalierung
C2: 500 | D2: 1000 | E2: 1 | F2: =(C2/D2)*E2 -> 0.5 | H2: 2
F3: Relativ zum Bedarf | H3: Nach Leistung | J3: Arithm. Mitelwert Leistung und Bedarf | L3: Geometrischer Mitelwert Leistung und Bedarf | N3: Erst Bedarfe, dann Leistung | P3: Niedrigste Bedarfe zuerst | R3: Gleiche Distanz zum Bedarf | T3: Gleichverteilung
B4: Menge | C4: Bedarf A erfüllbar | D4: Bedarf B erfüllbar | E4: Beide Bedarfe erfüllbar | F4: A | G4: B | H4: A | I4: B | J4: A | K4: B | L4: A | M4: B | N4: A | O4: B | P4: A | Q4: B | R4: A | S4: B | T4: A | U4: B
A5: 5 | B5: 300 | C5: =IF(B5>=$C$2,1,0) -> 0 | D5: =IF(B5>=$D$2,1,0) -> 0 | E5: =IF(B5>=($C$2+$D$2),1,0) -> 0 | F5: =$B5/(1+($D$2/$C$2)) -> 100 | G5: =$B5/(1+($C$2/$D$2)) -> 200 | H5: =$B5/(1+1/$E$2) -> 150 | I5: =$B5/(1+$E$2) -> 150 | J5: =(F5+H5)/2 -> 125 | K5: =(G5+I5)/2 -> 175 | L5: =$B5/(1+1/$F$2) -> 100 | M5: =$B5/(1+$F$2) -> 200 | N5: =IF($E5=0,F5,C$2+(($B5-SUM($C$2:$D$2))/(1+1/$E$2))) -> 100 | O5: =IF($E5=0,G5,D$2+(($B5-SUM($C$2:$D$2))/(1+$E$2))) -> 200 | P5: =IF(D5=0,B5,$C$2) -> 300 | Q5: =IF(D5=0,0,MIN(B5-$C$2,$D$2)) -> 0 | R5: =MIN(MAX($B5/2+($C$2-$D$2)/2,0),$B5) -> 0 | S5: =MIN(MAX($B5/2+($D$2-$C$2)/2,0),$B5) -> 300 | T5: =$B5/2 -> 150 | U5: =$B5/2 -> 150 | V5: =J5/K5 -> 0.71428571
A6: 6 | B6: =B5+A6*30 -> 480 | C6: =IF(B6>=$C$2,1,0) -> 0 | D6: =IF(B6>=$D$2,1,0) -> 0 | E6: =IF(B6>=($C$2+$D$2),1,0) -> 0 | F6: =$B6/(1+($D$2/$C$2)) -> 160 | G6: =$B6/(1+($C$2/$D$2)) -> 320 | H6: =$B6/(1+1/$E$2) -> 240 | I6: =$B6/(1+$E$2) -> 240 | J6: =(F6+H6)/2 -> 200 | K6: =(G6+I6)/2 -> 280 | L6: =$B6/(1+1/$F$2) -> 160 | M6: =$B6/(1+$F$2) -> 320 | N6: =IF($E6=0,F6,C$2+(($B6-SUM($C$2:$D$2))/(1+1/$E$2))) -> 160 | O6: =IF($E6=0,G6,D$2+(($B6-SUM($C$2:$D$2))/(1+$E$2))) -> 320 | P6: =IF(D6=0,B6,$C$2) -> 480 | Q6: =IF(D6=0,0,MIN(B6-$C$2,$D$2)) -> 0 | R6: =MIN(MAX($B6/2+($C$2-$D$2)/2,0),$B6) -> 0 | S6: =MIN(MAX($B6/2+($D$2-$C$2)/2,0),$B6) -> 480 | T6: =$B6/2 -> 240 | U6: =$B6/2 -> 240 | V6: =J6/K6 -> 0.71428571
A7: 7 | B7: =B6+A7*30 -> 690 | C7: =IF(B7>=$C$2,1,0) -> 1 | D7: =IF(B7>=$D$2,1,0) -> 0 | E7: =IF(B7>=($C$2+$D$2),1,0) -> 0 | F7: =$B7/(1+($D$2/$C$2)) -> 230 | G7: =$B7/(1+($C$2/$D$2)) -> 460 | H7: =$B7/(1+1/$E$2) -> 345 | I7: =$B7/(1+$E$2) -> 345 | J7: =(F7+H7)/2 -> 287.5 | K7: =(G7+I7)/2 -> 402.5 | L7: =$B7/(1+1/$F$2) -> 230 | M7: =$B7/(1+$F$2) -> 460 | N7: =IF($E7=0,F7,C$2+(($B7-SUM($C$2:$D$2))/(1+1/$E$2))) -> 230 | O7: =IF($E7=0,G7,D$2+(($B7-SUM($C$2:$D$2))/(1+$E$2))) -> 460 | P7: =IF(D7=0,B7,$C$2) -> 690 | Q7: =IF(D7=0,0,MIN(B7-$C$2,$D$2)) -> 0 | R7: =MIN(MAX($B7/2+($C$2-$D$2)/2,0),$B7) -> 95 | S7: =MIN(MAX($B7/2+($D$2-$C$2)/2,0),$B7) -> 595 | T7: =$B7/2 -> 345 | U7: =$B7/2 -> 345 | V7: =J7/K7 -> 0.71428571
A8: 8 | B8: =B7+A8*30 -> 930 | C8: =IF(B8>=$C$2,1,0) -> 1 | D8: =IF(B8>=$D$2,1,0) -> 0 | E8: =IF(B8>=($C$2+$D$2),1,0) -> 0 | F8: =$B8/(1+($D$2/$C$2)) -> 310 | G8: =$B8/(1+($C$2/$D$2)) -> 620 | H8: =$B8/(1+1/$E$2) -> 465 | I8: =$B8/(1+$E$2) -> 465 | J8: =(F8+H8)/2 -> 387.5 | K8: =(G8+I8)/2 -> 542.5 | L8: =$B8/(1+1/$F$2) -> 310 | M8: =$B8/(1+$F$2) -> 620 | N8: =IF($E8=0,F8,C$2+(($B8-SUM($C$2:$D$2))/(1+1/$E$2))) -> 310 | O8: =IF($E8=0,G8,D$2+(($B8-SUM($C$2:$D$2))/(1+$E$2))) -> 620 | P8: =IF(D8=0,B8,$C$2) -> 930 | Q8: =IF(D8=0,0,MIN(B8-$C$2,$D$2)) -> 0 | R8: =MIN(MAX($B8/2+($C$2-$D$2)/2,0),$B8) -> 215 | S8: =MIN(MAX($B8/2+($D$2-$C$2)/2,0),$B8) -> 715 | T8: =$B8/2 -> 465 | U8: =$B8/2 -> 465 | V8: =J8/K8 -> 0.71428571
A9: 9 | B9: =B8+A9*30 -> 1200 | C9: =IF(B9>=$C$2,1,0) -> 1 | D9: =IF(B9>=$D$2,1,0) -> 1 | E9: =IF(B9>=($C$2+$D$2),1,0) -> 0 | F9: =$B9/(1+($D$2/$C$2)) -> 400 | G9: =$B9/(1+($C$2/$D$2)) -> 800 | H9: =$B9/(1+1/$E$2) -> 600 | I9: =$B9/(1+$E$2) -> 600 | J9: =(F9+H9)/2 -> 500 | K9: =(G9+I9)/2 -> 700 | L9: =$B9/(1+1/$F$2) -> 400 | M9: =$B9/(1+$F$2) -> 800 | N9: =IF($E9=0,F9,C$2+(($B9-SUM($C$2:$D$2))/(1+1/$E$2))) -> 400 | O9: =IF($E9=0,G9,D$2+(($B9-SUM($C$2:$D$2))/(1+$E$2))) -> 800 | P9: =IF(D9=0,B9,$C$2) -> 500 | Q9: =IF(D9=0,0,MIN(B9-$C$2,$D$2)) -> 700 | R9: =MIN(MAX($B9/2+($C$2-$D$2)/2,0),$B9) -> 350 | S9: =MIN(MAX($B9/2+($D$2-$C$2)/2,0),$B9) -> 850 | T9: =$B9/2 -> 600 | U9: =$B9/2 -> 600 | V9: =J9/K9 -> 0.71428571
A10: 10 | B10: =B9+A10*30 -> 1500 | C10: =IF(B10>=$C$2,1,0) -> 1 | D10: =IF(B10>=$D$2,1,0) -> 1 | E10: =IF(B10>=($C$2+$D$2),1,0) -> 1 | F10: =$B10/(1+($D$2/$C$2)) -> 500 | G10: =$B10/(1+($C$2/$D$2)) -> 1000 | H10: =$B10/(1+1/$E$2) -> 750 | I10: =$B10/(1+$E$2) -> 750 | J10: =(F10+H10)/2 -> 625 | K10: =(G10+I10)/2 -> 875 | L10: =$B10/(1+1/$F$2) -> 500 | M10: =$B10/(1+$F$2) -> 1000 | N10: =IF($E10=0,F10,C$2+(($B10-SUM($C$2:$D$2))/(1+1/$E$2))) -> 500 | O10: =IF($E10=0,G10,D$2+(($B10-SUM($C$2:$D$2))/(1+$E$2))) -> 1000 | P10: =IF(D10=0,B10,$C$2) -> 500 | Q10: =IF(D10=0,0,MIN(B10-$C$2,$D$2)) -> 1000 | R10: =MIN(MAX($B10/2+($C$2-$D$2)/2,0),$B10) -> 500 | S10: =MIN(MAX($B10/2+($D$2-$C$2)/2,0),$B10) -> 1000 | T10: =$B10/2 -> 750 | U10: =$B10/2 -> 750 | V10: =J10/K10 -> 0.71428571
A11: 11 | B11: =B10+A11*30 -> 1830 | C11: =IF(B11>=$C$2,1,0) -> 1 | D11: =IF(B11>=$D$2,1,0) -> 1 | E11: =IF(B11>=($C$2+$D$2),1,0) -> 1 | F11: =$B11/(1+($D$2/$C$2)) -> 610 | G11: =$B11/(1+($C$2/$D$2)) -> 1220 | H11: =$B11/(1+1/$E$2) -> 915 | I11: =$B11/(1+$E$2) -> 915 | J11: =(F11+H11)/2 -> 762.5 | K11: =(G11+I11)/2 -> 1067.5 | L11: =$B11/(1+1/$F$2) -> 610 | M11: =$B11/(1+$F$2) -> 1220 | N11: =IF($E11=0,F11,C$2+(($B11-SUM($C$2:$D$2))/(1+1/$E$2))) -> 665 | O11: =IF($E11=0,G11,D$2+(($B11-SUM($C$2:$D$2))/(1+$E$2))) -> 1165 | P11: =IF(D11=0,B11,$C$2) -> 500 | Q11: =IF(D11=0,0,MIN(B11-$C$2,$D$2)) -> 1000 | R11: =MIN(MAX($B11/2+($C$2-$D$2)/2,0),$B11) -> 665 | S11: =MIN(MAX($B11/2+($D$2-$C$2)/2,0),$B11) -> 1165 | T11: =$B11/2 -> 915 | U11: =$B11/2 -> 915 | V11: =J11/K11 -> 0.71428571
A12: 12 | B12: =B11+A12*30 -> 2190 | C12: =IF(B12>=$C$2,1,0) -> 1 | D12: =IF(B12>=$D$2,1,0) -> 1 | E12: =IF(B12>=($C$2+$D$2),1,0) -> 1 | F12: =$B12/(1+($D$2/$C$2)) -> 730 | G12: =$B12/(1+($C$2/$D$2)) -> 1460 | H12: =$B12/(1+1/$E$2) -> 1095 | I12: =$B12/(1+$E$2) -> 1095 | J12: =(F12+H12)/2 -> 912.5 | K12: =(G12+I12)/2 -> 1277.5 | L12: =$B12/(1+1/$F$2) -> 730 | M12: =$B12/(1+$F$2) -> 1460 | N12: =IF($E12=0,F12,C$2+(($B12-SUM($C$2:$D$2))/(1+1/$E$2))) -> 845 | O12: =IF($E12=0,G12,D$2+(($B12-SUM($C$2:$D$2))/(1+$E$2))) -> 1345 | P12: =IF(D12=0,B12,$C$2) -> 500 | Q12: =IF(D12=0,0,MIN(B12-$C$2,$D$2)) -> 1000 | R12: =MIN(MAX($B12/2+($C$2-$D$2)/2,0),$B12) -> 845 | S12: =MIN(MAX($B12/2+($D$2-$C$2)/2,0),$B12) -> 1345 | T12: =$B12/2 -> 1095 | U12: =$B12/2 -> 1095 | V12: =J12/K12 -> 0.71428571
A13: 13 | B13: =B12+A13*30 -> 2580 | C13: =IF(B13>=$C$2,1,0) -> 1 | D13: =IF(B13>=$D$2,1,0) -> 1 | E13: =IF(B13>=($C$2+$D$2),1,0) -> 1 | F13: =$B13/(1+($D$2/$C$2)) -> 860 | G13: =$B13/(1+($C$2/$D$2)) -> 1720 | H13: =$B13/(1+1/$E$2) -> 1290 | I13: =$B13/(1+$E$2) -> 1290 | J13: =(F13+H13)/2 -> 1075 | K13: =(G13+I13)/2 -> 1505 | L13: =$B13/(1+1/$F$2) -> 860 | M13: =$B13/(1+$F$2) -> 1720 | N13: =IF($E13=0,F13,C$2+(($B13-SUM($C$2:$D$2))/(1+1/$E$2))) -> 1040 | O13: =IF($E13=0,G13,D$2+(($B13-SUM($C$2:$D$2))/(1+$E$2))) -> 1540 | P13: =IF(D13=0,B13,$C$2) -> 500 | Q13: =IF(D13=0,0,MIN(B13-$C$2,$D$2)) -> 1000 | R13: =MIN(MAX($B13/2+($C$2-$D$2)/2,0),$B13) -> 1040 | S13: =MIN(MAX($B13/2+($D$2-$C$2)/2,0),$B13) -> 1540 | T13: =$B13/2 -> 1290 | U13: =$B13/2 -> 1290 | V13: =J13/K13 -> 0.71428571
A14: 14 | B14: =B13+A14*30 -> 3000 | C14: =IF(B14>=$C$2,1,0) -> 1 | D14: =IF(B14>=$D$2,1,0) -> 1 | E14: =IF(B14>=($C$2+$D$2),1,0) -> 1 | F14: =$B14/(1+($D$2/$C$2)) -> 1000 | G14: =$B14/(1+($C$2/$D$2)) -> 2000 | H14: =$B14/(1+1/$E$2) -> 1500 | I14: =$B14/(1+$E$2) -> 1500 | J14: =(F14+H14)/2 -> 1250 | K14: =(G14+I14)/2 -> 1750 | L14: =$B14/(1+1/$F$2) -> 1000 | M14: =$B14/(1+$F$2) -> 2000 | N14: =IF($E14=0,F14,C$2+(($B14-SUM($C$2:$D$2))/(1+1/$E$2))) -> 1250 | O14: =IF($E14=0,G14,D$2+(($B14-SUM($C$2:$D$2))/(1+$E$2))) -> 1750 | P14: =IF(D14=0,B14,$C$2) -> 500 | Q14: =IF(D14=0,0,MIN(B14-$C$2,$D$2)) -> 1000 | R14: =MIN(MAX($B14/2+($C$2-$D$2)/2,0),$B14) -> 1250 | S14: =MIN(MAX($B14/2+($D$2-$C$2)/2,0),$B14) -> 1750 | T14: =$B14/2 -> 1500 | U14: =$B14/2 -> 1500 | V14: =J14/K14 -> 0.71428571
A15: 15 | B15: =B14+A15*30 -> 3450 | C15: =IF(B15>=$C$2,1,0) -> 1 | D15: =IF(B15>=$D$2,1,0) -> 1 | E15: =IF(B15>=($C$2+$D$2),1,0) -> 1 | F15: =$B15/(1+($D$2/$C$2)) -> 1150 | G15: =$B15/(1+($C$2/$D$2)) -> 2300 | H15: =$B15/(1+1/$E$2) -> 1725 | I15: =$B15/(1+$E$2) -> 1725 | J15: =(F15+H15)/2 -> 1437.5 | K15: =(G15+I15)/2 -> 2012.5 | L15: =$B15/(1+1/$F$2) -> 1150 | M15: =$B15/(1+$F$2) -> 2300 | N15: =IF($E15=0,F15,C$2+(($B15-SUM($C$2:$D$2))/(1+1/$E$2))) -> 1475 | O15: =IF($E15=0,G15,D$2+(($B15-SUM($C$2:$D$2))/(1+$E$2))) -> 1975 | P15: =IF(D15=0,B15,$C$2) -> 500 | Q15: =IF(D15=0,0,MIN(B15-$C$2,$D$2)) -> 1000 | R15: =MIN(MAX($B15/2+($C$2-$D$2)/2,0),$B15) -> 1475 | S15: =MIN(MAX($B15/2+($D$2-$C$2)/2,0),$B15) -> 1975 | T15: =$B15/2 -> 1725 | U15: =$B15/2 -> 1725 | V15: =J15/K15 -> 0.71428571
A16: 16 | B16: =B15+A16*30 -> 3930 | C16: =IF(B16>=$C$2,1,0) -> 1 | D16: =IF(B16>=$D$2,1,0) -> 1 | E16: =IF(B16>=($C$2+$D$2),1,0) -> 1 | F16: =$B16/(1+($D$2/$C$2)) -> 1310 | G16: =$B16/(1+($C$2/$D$2)) -> 2620 | H16: =$B16/(1+1/$E$2) -> 1965 | I16: =$B16/(1+$E$2) -> 1965 | J16: =(F16+H16)/2 -> 1637.5 | K16: =(G16+I16)/2 -> 2292.5 | L16: =$B16/(1+1/$F$2) -> 1310 | M16: =$B16/(1+$F$2) -> 2620 | N16: =IF($E16=0,F16,C$2+(($B16-SUM($C$2:$D$2))/(1+1/$E$2))) -> 1715 | O16: =IF($E16=0,G16,D$2+(($B16-SUM($C$2:$D$2))/(1+$E$2))) -> 2215 | P16: =IF(D16=0,B16,$C$2) -> 500 | Q16: =IF(D16=0,0,MIN(B16-$C$2,$D$2)) -> 1000 | R16: =MIN(MAX($B16/2+($C$2-$D$2)/2,0),$B16) -> 1715 | S16: =MIN(MAX($B16/2+($D$2-$C$2)/2,0),$B16) -> 2215 | T16: =$B16/2 -> 1965 | U16: =$B16/2 -> 1965 | V16: =J16/K16 -> 0.71428571
A17: 17 | B17: =B16+A17*30 -> 4440 | C17: =IF(B17>=$C$2,1,0) -> 1 | D17: =IF(B17>=$D$2,1,0) -> 1 | E17: =IF(B17>=($C$2+$D$2),1,0) -> 1 | F17: =$B17/(1+($D$2/$C$2)) -> 1480 | G17: =$B17/(1+($C$2/$D$2)) -> 2960 | H17: =$B17/(1+1/$E$2) -> 2220 | I17: =$B17/(1+$E$2) -> 2220 | J17: =(F17+H17)/2 -> 1850 | K17: =(G17+I17)/2 -> 2590 | L17: =$B17/(1+1/$F$2) -> 1480 | M17: =$B17/(1+$F$2) -> 2960 | N17: =IF($E17=0,F17,C$2+(($B17-SUM($C$2:$D$2))/(1+1/$E$2))) -> 1970 | O17: =IF($E17=0,G17,D$2+(($B17-SUM($C$2:$D$2))/(1+$E$2))) -> 2470 | P17: =IF(D17=0,B17,$C$2) -> 500 | Q17: =IF(D17=0,0,MIN(B17-$C$2,$D$2)) -> 1000 | R17: =MIN(MAX($B17/2+($C$2-$D$2)/2,0),$B17) -> 1970 | S17: =MIN(MAX($B17/2+($D$2-$C$2)/2,0),$B17) -> 2470 | T17: =$B17/2 -> 2220 | U17: =$B17/2 -> 2220 | V17: =J17/K17 -> 0.71428571
A21: Voll nach Leistung heißt:
A22: Block 1: 1/5 für B und 4/5 A
A23: 0 nach Leistung heißt:

Sheet Block 1 neu N
D1: Bedarf E | E1: Bedarf N | F1: Leistung A/B | G1: Verdienst A / Verdienst B | I1: Skalierung
D2: ='Block1 alte Studie'!C2*'Block 1 neu N'!$I$2 -> 640 | E2: ='Block1 alte Studie'!D2*'Block 1 neu N'!$I$2 -> 1280 | F2: 1 | G2: =(D2/E2)*F2 -> 0.5 | I2: 1.28 | J2: =D2+E2 -> 1920
G3: Relativ zum Bedarf | I3: Nach Leistung | K3: Arithm. Mitelwert Leistung und Bedarf | M3: Geometrischer Mitelwert Leistung und Bedarf | O3: Erst Bedarfe, dann Leistung | Q3: Priority E | S3: Priority N | U3: First Priority E, then Priority N | W3: Gleiche Distanz zum Bedarf | Y3: Priority E, then equity with lower bound of need N | AA3: Gleichverteilung
B4: Menge | D4: Bedarf E erfüllbar | E4: Bedarf N erfüllbar | F4: Beide Bedarfe erfüllbar | G4: E | H4: N | I4: E | J4: N | K4: E | L4: N | M4: E | N4: N | O4: E | P4: N | Q4: E | R4: N | S4: E | T4: N | U4: E | V4: N | W4: A | X4: B | Y4: E | Z4: N | AA4: A | AB4: B
A5: 1 | B5: 240 | D5: =IF(B5>=$D$2,1,0) -> 0 | E5: =IF(B5>=$E$2,1,0) -> 0 | F5: =IF(B5>=($D$2+$E$2),1,0) -> 0 | G5: =$B5/(1+($E$2/$D$2)) -> 80 | H5: =$B5/(1+($D$2/$E$2)) -> 160 | I5: =$B5/(1+1/$F$2) -> 120 | J5: =$B5/(1+$F$2) -> 120 | K5: =(G5+I5)/2 -> 100 | L5: =(H5+J5)/2 -> 140 | M5: =$B5/(1+1/$G$2) -> 80 | N5: =$B5/(1+$G$2) -> 160 | O5: =IF($F5=0,G5,D$2+(($B5-SUM($D$2:$E$2))/(1+1/$F$2))) -> 80 | P5: =IF($F5=0,H5,E$2+(($B5-SUM($D$2:$E$2))/(1+$F$2))) -> 160 | Q5: =MIN(B5,$D$2) -> 240 | R5: =B5-Q5 -> 0 | S5: =B5-T5 -> 0 | T5: =MIN(B5,$E$2) -> 240 | U5: =IF(F5=0,Q5,S5) -> 240 | V5: =B5-U5 -> 0 | W5: =MIN(MAX($B5/2+($D$2-$E$2)/2,0),$B5) -> 0 | X5: =MIN(MAX($B5/2+($E$2-$D$2)/2,0),$B5) -> 240 | Y5: =IF(F5=1,IF(J5<$E$2,S5,I5),MIN(I5,Q5)) -> 120 | Z5: =B5-Y5 -> 120 | AA5: =$B5/2 -> 120 | AB5: =$B5/2 -> 120 | AC5: =K5/L5 -> 0.71428571
A6: 2 | B6: =$B$5*C6 -> 360 | C6: 1.5 | D6: =IF(B6>=$D$2,1,0) -> 0 | E6: =IF(B6>=$E$2,1,0) -> 0 | F6: =IF(B6>=($D$2+$E$2),1,0) -> 0 | G6: =$B6/(1+($E$2/$D$2)) -> 120 | H6: =$B6/(1+($D$2/$E$2)) -> 240 | I6: =$B6/(1+1/$F$2) -> 180 | J6: =$B6/(1+$F$2) -> 180 | K6: =(G6+I6)/2 -> 150 | L6: =(H6+J6)/2 -> 210 | M6: =$B6/(1+1/$G$2) -> 120 | N6: =$B6/(1+$G$2) -> 240 | O6: =IF($F6=0,G6,D$2+(($B6-SUM($D$2:$E$2))/(1+1/$F$2))) -> 120 | P6: =IF($F6=0,H6,E$2+(($B6-SUM($D$2:$E$2))/(1+$F$2))) -> 240 | Q6: =MIN(B6,$D$2) -> 360 | R6: =B6-Q6 -> 0 | S6: =B6-T6 -> 0 | T6: =MIN(B6,$E$2) -> 360 | U6: =IF(F6=0,Q6,S6) -> 360 | V6: =B6-U6 -> 0 | W6: =MIN(MAX($B6/2+($D$2-$E$2)/2,0),$B6) -> 0 | X6: =MIN(MAX($B6/2+($E$2-$D$2)/2,0),$B6) -> 360 | Y6: =IF(F6=1,IF(J6<$E$2,S6,I6),MIN(I6,Q6)) -> 180 | Z6: =B6-Y6 -> 180 | AA6: =$B6/2 -> 180 | AB6: =$B6/2 -> 180 | AC6: =K6/L6 -> 0.71428571
A7: 3 | B7: =$B$5*C7 -> 480 | C7: 2 | D7: =IF(B7>=$D$2,1,0) -> 0 | E7: =IF(B7>=$E$2,1,0) -> 0 | F7: =IF(B7>=($D$2+$E$2),1,0) -> 0 | G7: =$B7/(1+($E$2/$D$2)) -> 160 | H7: =$B7/(1+($D$2/$E$2)) -> 320 | I7: =$B7/(1+1/$F$2) -> 240 | J7: =$B7/(1+$F$2) -> 240 | K7: =(G7+I7)/2 -> 200 | L7: =(H7+J7)/2 -> 280 | M7: =$B7/(1+1/$G$2) -> 160 | N7: =$B7/(1+$G$2) -> 320 | O7: =IF($F7=0,G7,D$2+(($B7-SUM($D$2:$E$2))/(1+1/$F$2))) -> 160 | P7: =IF($F7=0,H7,E$2+(($B7-SUM($D$2:$E$2))/(1+$F$2))) -> 320 | Q7: =MIN(B7,$D$2) -> 480 | R7: =B7-Q7 -> 0 | S7: =B7-T7 -> 0 | T7: =MIN(B7,$E$2) -> 480 | U7: =IF(F7=0,Q7,S7) -> 480 | V7: =B7-U7 -> 0 | W7: =MIN(MAX($B7/2+($D$2-$E$2)/2,0),$B7) -> 0 | X7: =MIN(MAX($B7/2+($E$2-$D$2)/2,0),$B7) -> 480 | Y7: =IF(F7=1,IF(J7<$E$2,S7,I7),MIN(I7,Q7)) -> 240 | Z7: =B7-Y7 -> 240 | AA7: =$B7/2 -> 240 | AB7: =$B7/2 -> 240 | AC7: =K7/L7 -> 0.71428571
A8: 4 | B8: =$B$5*C8 -> 720 | C8: 3 | D8: =IF(B8>=$D$2,1,0) -> 1 | E8: =IF(B8>=$E$2,1,0) -> 0 | F8: =IF(B8>=($D$2+$E$2),1,0) -> 0 | G8: =$B8/(1+($E$2/$D$2)) -> 240 | H8: =$B8/(1+($D$2/$E$2)) -> 480 | I8: =$B8/(1+1/$F$2) -> 360 | J8: =$B8/(1+$F$2) -> 360 | K8: =(G8+I8)/2 -> 300 | L8: =(H8+J8)/2 -> 420 | M8: =$B8/(1+1/$G$2) -> 240 | N8: =$B8/(1+$G$2) -> 480 | O8: =IF($F8=0,G8,D$2+(($B8-SUM($D$2:$E$2))/(1+1/$F$2))) -> 240 | P8: =IF($F8=0,H8,E$2+(($B8-SUM($D$2:$E$2))/(1+$F$2))) -> 480 | Q8: =MIN(B8,$D$2) -> 640 | R8: =B8-Q8 -> 80 | S8: =B8-T8 -> 0 | T8: =MIN(B8,$E$2) -> 720 | U8: =IF(F8=0,Q8,S8) -> 640 | V8: =B8-U8 -> 80 | W8: =MIN(MAX($B8/2+($D$2-$E$2)/2,0),$B8) -> 40 | X8: =MIN(MAX($B8/2+($E$2-$D$2)/2,0),$B8) -> 680 | Y8: =IF(F8=1,IF(J8<$E$2,S8,I8),MIN(I8,Q8)) -> 360 | Z8: =B8-Y8 -> 360 | AA8: =$B8/2 -> 360 | AB8: =$B8/2 -> 360 | AC8: =K8/L8 -> 0.71428571
A9: 5 | B9: =$B$5*C9 -> 1200 | C9: 5 | D9: =IF(B9>=$D$2,1,0) -> 1 | E9: =IF(B9>=$E$2,1,0) -> 0 | F9: =IF(B9>=($D$2+$E$2),1,0) -> 0 | G9: =$B9/(1+($E$2/$D$2)) -> 400 | H9: =$B9/(1+($D$2/$E$2)) -> 800 | I9: =$B9/(1+1/$F$2) -> 600 | J9: =$B9/(1+$F$2) -> 600 | K9: =(G9+I9)/2 -> 500 | L9: =(H9+J9)/2 -> 700 | M9: =$B9/(1+1/$G$2) -> 400 | N9: =$B9/(1+$G$2) -> 800 | O9: =IF($F9=0,G9,D$2+(($B9-SUM($D$2:$E$2))/(1+1/$F$2))) -> 400 | P9: =IF($F9=0,H9,E$2+(($B9-SUM($D$2:$E$2))/(1+$F$2))) -> 800 | Q9: =MIN(B9,$D$2) -> 640 | R9: =B9-Q9 -> 560 | S9: =B9-T9 -> 0 | T9: =MIN(B9,$E$2) -> 1200 | U9: =IF(F9=0,Q9,S9) -> 640 | V9: =B9-U9 -> 560 | W9: =MIN(MAX($B9/2+($D$2-$E$2)/2,0),$B9) -> 280 | X9: =MIN(MAX($B9/2+($E$2-$D$2)/2,0),$B9) -> 920 | Y9: =IF(F9=1,IF(J9<$E$2,S9,I9),MIN(I9,Q9)) -> 600 | Z9: =B9-Y9 -> 600 | AA9: =$B9/2 -> 600 | AB9: =$B9/2 -> 600 | AC9: =K9/L9 -> 0.71428571
A10: 6 | B10: =$B$5*C10 -> 1680 | C10: 7 | D10: =IF(B10>=$D$2,1,0) -> 1 | E10: =IF(B10>=$E$2,1,0) -> 1 | F10: =IF(B10>=($D$2+$E$2),1,0) -> 0 | G10: =$B10/(1+($E$2/$D$2)) -> 560 | H10: =$B10/(1+($D$2/$E$2)) -> 1120 | I10: =$B10/(1+1/$F$2) -> 840 | J10: =$B10/(1+$F$2) -> 840 | K10: =(G10+I10)/2 -> 700 | L10: =(H10+J10)/2 -> 980 | M10: =$B10/(1+1/$G$2) -> 560 | N10: =$B10/(1+$G$2) -> 1120 | O10: =IF($F10=0,G10,D$2+(($B10-SUM($D$2:$E$2))/(1+1/$F$2))) -> 560 | P10: =IF($F10=0,H10,E$2+(($B10-SUM($D$2:$E$2))/(1+$F$2))) -> 1120 | Q10: =MIN(B10,$D$2) -> 640 | R10: =B10-Q10 -> 1040 | S10: =B10-T10 -> 400 | T10: =MIN(B10,$E$2) -> 1280 | U10: =IF(F10=0,Q10,S10) -> 640 | V10: =B10-U10 -> 1040 | W10: =MIN(MAX($B10/2+($D$2-$E$2)/2,0),$B10) -> 520 | X10: =MIN(MAX($B10/2+($E$2-$D$2)/2,0),$B10) -> 1160 | Y10: =IF(F10=1,IF(J10<$E$2,S10,I10),MIN(I10,Q10)) -> 640 | Z10: =B10-Y10 -> 1040 | AA10: =$B10/2 -> 840 | AB10: =$B10/2 -> 840 | AC10: =K10/L10 -> 0.71428571
A11: 7 | B11: =$B$5*C11 -> 1920 | C11: 8 | D11: =IF(B11>=$D$2,1,0) -> 1 | E11: =IF(B11>=$E$2,1,0) -> 1 | F11: =IF(B11>=($D$2+$E$2),1,0) -> 1 | G11: =$B11/(1+($E$2/$D$2)) -> 640 | H11: =$B11/(1+($D$2/$E$2)) -> 1280 | I11: =$B11/(1+1/$F$2) -> 960 | J11: =$B11/(1+$F$2) -> 960 | K11: =(G11+I11)/2 -> 800 | L11: =(H11+J11)/2 -> 1120 | M11: =$B11/(1+1/$G$2) -> 640 | N11: =$B11/(1+$G$2) -> 1280 | O11: =IF($F11=0,G11,D$2+(($B11-SUM($D$2:$E$2))/(1+1/$F$2))) -> 640 | P11: =IF($F11=0,H11,E$2+(($B11-SUM($D$2:$E$2))/(1+$F$2))) -> 1280 | Q11: =MIN(B11,$D$2) -> 640 | R11: =B11-Q11 -> 1280 | S11: =B11-T11 -> 640 | T11: =MIN(B11,$E$2) -> 1280 | U11: =IF(F11=0,Q11,S11) -> 640 | V11: =B11-U11 -> 1280 | W11: =MIN(MAX($B11/2+($D$2-$E$2)/2,0),$B11) -> 640 | X11: =MIN(MAX($B11/2+($E$2-$D$2)/2,0),$B11) -> 1280 | Y11: =IF(F11=1,IF(J11<$E$2,S11,I11),MIN(I11,Q11)) -> 640 | Z11: =B11-Y11 -> 1280 | AA11: =$B11/2 -> 960 | AB11: =$B11/2 -> 960 | AC11: =K11/L11 -> 0.71428571
A12: 8 | B12: =$B$5*C12 -> 2400 | C12: 10 | D12: =IF(B12>=$D$2,1,0) -> 1 | E12: =IF(B12>=$E$2,1,0) -> 1 | F12: =IF(B12>=($D$2+$E$2),1,0) -> 1 | G12: =$B12/(1+($E$2/$D$2)) -> 800 | H12: =$B12/(1+($D$2/$E$2)) -> 1600 | I12: =$B12/(1+1/$F$2) -> 1200 | J12: =$B12/(1+$F$2) -> 1200 | K12: =(G12+I12)/2 -> 1000 | L12: =(H12+J12)/2 -> 1400 | M12: =$B12/(1+1/$G$2) -> 800 | N12: =$B12/(1+$G$2) -> 1600 | O12: =IF($F12=0,G12,D$2+(($B12-SUM($D$2:$E$2))/(1+1/$F$2))) -> 880 | P12: =IF($F12=0,H12,E$2+(($B12-SUM($D$2:$E$2))/(1+$F$2))) -> 1520 | Q12: =MIN(B12,$D$2) -> 640 | R12: =B12-Q12 -> 1760 | S12: =B12-T12 -> 1120 | T12: =MIN(B12,$E$2) -> 1280 | U12: =IF(F12=0,Q12,S12) -> 1120 | V12: =B12-U12 -> 1280 | W12: =MIN(MAX($B12/2+($D$2-$E$2)/2,0),$B12) -> 880 | X12: =MIN(MAX($B12/2+($E$2-$D$2)/2,0),$B12) -> 1520 | Y12: =IF(F12=1,IF(J12<$E$2,S12,I12),MIN(I12,Q12)) -> 1120 | Z12: =B12-Y12 -> 1280 | AA12: =$B12/2 -> 1200 | AB12: =$B12/2 -> 1200 | AC12: =K12/L12 -> 0.71428571
A13: 9 | B13: =$B$5*C13 -> 3120 | C13: 13 | D13: =IF(B13>=$D$2,1,0) -> 1 | E13: =IF(B13>=$E$2,1,0) -> 1 | F13: =IF(B13>=($D$2+$E$2),1,0) -> 1 | G13: =$B13/(1+($E$2/$D$2)) -> 1040 | H13: =$B13/(1+($D$2/$E$2)) -> 2080 | I13: =$B13/(1+1/$F$2) -> 1560 | J13: =$B13/(1+$F$2) -> 1560 | K13: =(G13+I13)/2 -> 1300 | L13: =(H13+J13)/2 -> 1820 | M13: =$B13/(1+1/$G$2) -> 1040 | N13: =$B13/(1+$G$2) -> 2080 | O13: =IF($F13=0,G13,D$2+(($B13-SUM($D$2:$E$2))/(1+1/$F$2))) -> 1240 | P13: =IF($F13=0,H13,E$2+(($B13-SUM($D$2:$E$2))/(1+$F$2))) -> 1880 | Q13: =MIN(B13,$D$2) -> 640 | R13: =B13-Q13 -> 2480 | S13: =B13-T13 -> 1840 | T13: =MIN(B13,$E$2) -> 1280 | U13: =IF(F13=0,Q13,S13) -> 1840 | V13: =B13-U13 -> 1280 | W13: =MIN(MAX($B13/2+($D$2-$E$2)/2,0),$B13) -> 1240 | X13: =MIN(MAX($B13/2+($E$2-$D$2)/2,0),$B13) -> 1880 | Y13: =IF(F13=1,IF(J13<$E$2,S13,I13),MIN(I13,Q13)) -> 1560 | Z13: =B13-Y13 -> 1560 | AA13: =$B13/2 -> 1560 | AB13: =$B13/2 -> 1560 | AC13: =K13/L13 -> 0.71428571
A14: 10 | B14: =$B$5*C14 -> 4320 | C14: 18 | D14: =IF(B14>=$D$2,1,0) -> 1 | E14: =IF(B14>=$E$2,1,0) -> 1 | F14: =IF(B14>=($D$2+$E$2),1,0) -> 1 | G14: =$B14/(1+($E$2/$D$2)) -> 1440 | H14: =$B14/(1+($D$2/$E$2)) -> 2880 | I14: =$B14/(1+1/$F$2) -> 2160 | J14: =$B14/(1+$F$2) -> 2160 | K14: =(G14+I14)/2 -> 1800 | L14: =(H14+J14)/2 -> 2520 | M14: =$B14/(1+1/$G$2) -> 1440 | N14: =$B14/(1+$G$2) -> 2880 | O14: =IF($F14=0,G14,D$2+(($B14-SUM($D$2:$E$2))/(1+1/$F$2))) -> 1840 | P14: =IF($F14=0,H14,E$2+(($B14-SUM($D$2:$E$2))/(1+$F$2))) -> 2480 | Q14: =MIN(B14,$D$2) -> 640 | R14: =B14-Q14 -> 3680 | S14: =B14-T14 -> 3040 | T14: =MIN(B14,$E$2) -> 1280 | U14: =IF(F14=0,Q14,S14) -> 3040 | V14: =B14-U14 -> 1280 | W14: =MIN(MAX($B14/2+($D$2-$E$2)/2,0),$B14) -> 1840 | X14: =MIN(MAX($B14/2+($E$2-$D$2)/2,0),$B14) -> 2480 | Y14: =IF(F14=1,IF(J14<$E$2,S14,I14),MIN(I14,Q14)) -> 2160 | Z14: =B14-Y14 -> 2160 | AA14: =$B14/2 -> 2160 | AB14: =$B14/2 -> 2160 | AC14: =K14/L14 -> 0.71428571
A15: 11 | B15: =$B$5*C15 -> 5520 | C15: 23 | D15: =IF(B15>=$D$2,1,0) -> 1 | E15: =IF(B15>=$E$2,1,0) -> 1 | F15: =IF(B15>=($D$2+$E$2),1,0) -> 1 | G15: =$B15/(1+($E$2/$D$2)) -> 1840 | H15: =$B15/(1+($D$2/$E$2)) -> 3680 | I15: =$B15/(1+1/$F$2) -> 2760 | J15: =$B15/(1+$F$2) -> 2760 | K15: =(G15+I15)/2 -> 2300 | L15: =(H15+J15)/2 -> 3220 | M15: =$B15/(1+1/$G$2) -> 1840 | N15: =$B15/(1+$G$2) -> 3680 | O15: =IF($F15=0,G15,D$2+(($B15-SUM($D$2:$E$2))/(1+1/$F$2))) -> 2440 | P15: =IF($F15=0,H15,E$2+(($B15-SUM($D$2:$E$2))/(1+$F$2))) -> 3080 | Q15: =MIN(B15,$D$2) -> 640 | R15: =B15-Q15 -> 4880 | S15: =B15-T15 -> 4240 | T15: =MIN(B15,$E$2) -> 1280 | U15: =IF(F15=0,Q15,S15) -> 4240 | V15: =B15-U15 -> 1280 | W15: =MIN(MAX($B15/2+($D$2-$E$2)/2,0),$B15) -> 2440 | X15: =MIN(MAX($B15/2+($E$2-$D$2)/2,0),$B15) -> 3080 | Y15: =IF(F15=1,IF(J15<$E$2,S15,I15),MIN(I15,Q15)) -> 2760 | Z15: =B15-Y15 -> 2760 | AA15: =$B15/2 -> 2760 | AB15: =$B15/2 -> 2760 | AC15: =K15/L15 -> 0.71428571
A16: 12 | B16: =$B$5*C16 -> 6720 | C16: 28 | D16: =IF(B16>=$D$2,1,0) -> 1 | E16: =IF(B16>=$E$2,1,0) -> 1 | F16: =IF(B16>=($D$2+$E$2),1,0) -> 1 | G16: =$B16/(1+($E$2/$D$2)) -> 2240 | H16: =$B16/(1+($D$2/$E$2)) -> 4480 | I16: =$B16/(1+1/$F$2) -> 3360 | J16: =$B16/(1+$F$2) -> 3360 | K16: =(G16+I16)/2 -> 2800 | L16: =(H16+J16)/2 -> 3920 | M16: =$B16/(1+1/$G$2) -> 2240 | N16: =$B16/(1+$G$2) -> 4480 | O16: =IF($F16=0,G16,D$2+(($B16-SUM($D$2:$E$2))/(1+1/$F$2))) -> 3040 | P16: =IF($F16=0,H16,E$2+(($B16-SUM($D$2:$E$2))/(1+$F$2))) -> 3680 | Q16: =MIN(B16,$D$2) -> 640 | R16: =B16-Q16 -> 6080 | S16: =B16-T16 -> 5440 | T16: =MIN(B16,$E$2) -> 1280 | U16: =IF(F16=0,Q16,S16) -> 5440 | V16: =B16-U16 -> 1280 | W16: =MIN(MAX($B16/2+($D$2-$E$2)/2,0),$B16) -> 3040 | X16: =MIN(MAX($B16/2+($E$2-$D$2)/2,0),$B16) -> 3680 | Y16: =IF(F16=1,IF(J16<$E$2,S16,I16),MIN(I16,Q16)) -> 3360 | Z16: =B16-Y16 -> 3360 | AA16: =$B16/2 -> 3360 | AB16: =$B16/2 -> 3360 | AC16: =K16/L16 -> 0.71428571
A17: 13 | B17: =$B$5*C17 -> 7920 | C17: 33 | D17: =IF(B17>=$D$2,1,0) -> 1 | E17: =IF(B17>=$E$2,1,0) -> 1 | F17: =IF(B17>=($D$2+$E$2),1,0) -> 1 | G17: =$B17/(1+($E$2/$D$2)) -> 2640 | H17: =$B17/(1+($D$2/$E$2)) -> 5280 | I17: =$B17/(1+1/$F$2) -> 3960 | J17: =$B17/(1+$F$2) -> 3960 | K17: =(G17+I17)/2 -> 3300 | L17: =(H17+J17)/2 -> 4620 | M17: =$B17/(1+1/$G$2) -> 2640 | N17: =$B17/(1+$G$2) -> 5280 | O17: =IF($F17=0,G17,D$2+(($B17-SUM($D$2:$E$2))/(1+1/$F$2))) -> 3640 | P17: =IF($F17=0,H17,E$2+(($B17-SUM($D$2:$E$2))/(1+$F$2))) -> 4280 | Q17: =MIN(B17,$D$2) -> 640 | R17: =B17-Q17 -> 7280 | S17: =B17-T17 -> 6640 | T17: =MIN(B17,$E$2) -> 1280 | U17: =IF(F17=0,Q17,S17) -> 6640 | V17: =B17-U17 -> 1280 | W17: =MIN(MAX($B17/2+($D$2-$E$2)/2,0),$B17) -> 3640 | X17: =MIN(MAX($B17/2+($E$2-$D$2)/2,0),$B17) -> 4280 | Y17: =IF(F17=1,IF(J17<$E$2,S17,I17),MIN(I17,Q17)) -> 3960 | Z17: =B17-Y17 -> 3960 | AA17: =$B17/2 -> 3960 | AB17: =$B17/2 -> 3960 | AC17: =K17/L17 -> 0.71428571
A18: 14 | B18: =$B$5*C18 -> 0 | D18: =IF(B18>=$D$2,1,0) -> 0 | E18: =IF(B18>=$E$2,1,0) -> 0 | F18: =IF(B18>=($D$2+$E$2),1,0) -> 0 | G18: =$B18/(1+($E$2/$D$2)) -> 0 | H18: =$B18/(1+($D$2/$E$2)) -> 0 | I18: =$B18/(1+1/$F$2) -> 0 | J18: =$B18/(1+$F$2) -> 0 | K18: =(G18+I18)/2 -> 0 | L18: =(H18+J18)/2 -> 0 | M18: =$B18/(1+1/$G$2) -> 0 | N18: =$B18/(1+$G$2) -> 0 | O18: =IF($F18=0,G18,D$2+(($B18-SUM($D$2:$E$2))/(1+1/$F$2))) -> 0 | P18: =IF($F18=0,H18,E$2+(($B18-SUM($D$2:$E$2))/(1+$F$2))) -> 0 | Q18: =MIN(B18,$D$2) -> 0 | R18: =B18-Q18 -> 0 | S18: =B18-T18 -> 0 | T18: =MIN(B18,$E$2) -> 0 | U18: =IF(F18=0,Q18,S18) -> 0 | V18: =B18-U18 -> 0 | W18: =MIN(MAX($B18/2+($D$2-$E$2)/2,0),$B18) -> 0 | X18: =MIN(MAX($B18/2+($E$2-$D$2)/2,0),$B18) -> 0 | Y18: =IF(D18=0,I18,IF(E18=0,Q18,IF(J18<$E$2,S18,I18))) -> 0 | Z18: =B18-Y18 -> 0 | AA18: =$B18/2 -> 0 | AB18: =$B18/2 -> 0 | AC18: =K18/L18 -> #DIV/0!
C20: =1920 -> 1920

Sheet Block 1 neu E
D1: Bedarf E | E1: Bedarf N | F1: Leistung A/B | G1: Verdienst A / Verdienst B | I1: Skalierung
D2: =('Block1 alte Studie'!C2*'Block 1 neu E'!$I$2+'Block1 alte Studie'!D2*'Block 1 neu E'!$I$2)/2 -> 960 | E2: =('Block1 alte Studie'!C2*'Block 1 neu E'!$I$2+'Block1 alte Studie'!D2*'Block 1 neu E'!$I$2)/2 -> 960 | F2: 2 | G2: =(D2/E2)*F2 -> 2 | I2: 1.28 | J2: =D2+E2 -> 1920
G3: Relativ zum Bedarf | I3: Nach Leistung | K3: Arithm. Mitelwert Leistung und Bedarf | M3: Geometrischer Mitelwert Leistung und Bedarf | O3: Erst Bedarfe, dann Leistung | Q3: Priority E | S3: Priority N | U3: First Priority E, then Priority N | W3: Gleiche Distanz zum Bedarf | Y3: Priority E, then equity with lower bound of need N | AA3: Gleichverteilung
B4: Menge | D4: Bedarf E erfüllbar | E4: Bedarf N erfüllbar | F4: Beide Bedarfe erfüllbar | G4: E | H4: N | I4: E | J4: N | K4: E | L4: N | M4: E | N4: N | O4: E | P4: N | Q4: E | R4: N | S4: E | T4: N | U4: E | V4: N | W4: A | X4: B | Y4: E | Z4: N | AA4: A | AB4: B
A5: 1 | B5: 240 | D5: =IF(B5>=$D$2,1,0) -> 0 | E5: =IF(B5>=$E$2,1,0) -> 0 | F5: =IF(B5>=($D$2+$E$2),1,0) -> 0 | G5: =$B5/(1+($E$2/$D$2)) -> 120 | H5: =$B5/(1+($D$2/$E$2)) -> 120 | I5: =$B5/(1+1/$F$2) -> 160 | J5: =$B5/(1+$F$2) -> 80 | K5: =(G5+I5)/2 -> 140 | L5: =(H5+J5)/2 -> 100 | M5: =$B5/(1+1/$G$2) -> 160 | N5: =$B5/(1+$G$2) -> 80 | O5: =IF($F5=0,G5,D$2+(($B5-SUM($D$2:$E$2))/(1+1/$F$2))) -> 120 | P5: =IF($F5=0,H5,E$2+(($B5-SUM($D$2:$E$2))/(1+$F$2))) -> 120 | Q5: =MIN(B5,$D$2) -> 240 | R5: =B5-Q5 -> 0 | S5: =B5-T5 -> 0 | T5: =MIN(B5,$E$2) -> 240 | U5: =IF(F5=0,Q5,S5) -> 240 | V5: =B5-U5 -> 0 | W5: =MIN(MAX($B5/2+($D$2-$E$2)/2,0),$B5) -> 120 | X5: =MIN(MAX($B5/2+($E$2-$D$2)/2,0),$B5) -> 120 | Y5: =IF(F5=1,IF(J5<$E$2,S5,I5),MIN(I5,Q5)) -> 160 | Z5: =B5-Y5 -> 80 | AA5: =$B5/2 -> 120 | AB5: =$B5/2 -> 120 | AC5: =K5/L5 -> 1.4
A6: 2 | B6: =$B$5*C6 -> 360 | C6: 1.5 | D6: =IF(B6>=$D$2,1,0) -> 0 | E6: =IF(B6>=$E$2,1,0) -> 0 | F6: =IF(B6>=($D$2+$E$2),1,0) -> 0 | G6: =$B6/(1+($E$2/$D$2)) -> 180 | H6: =$B6/(1+($D$2/$E$2)) -> 180 | I6: =$B6/(1+1/$F$2) -> 240 | J6: =$B6/(1+$F$2) -> 120 | K6: =(G6+I6)/2 -> 210 | L6: =(H6+J6)/2 -> 150 | M6: =$B6/(1+1/$G$2) -> 240 | N6: =$B6/(1+$G$2) -> 120 | O6: =IF($F6=0,G6,D$2+(($B6-SUM($D$2:$E$2))/(1+1/$F$2))) -> 180 | P6: =IF($F6=0,H6,E$2+(($B6-SUM($D$2:$E$2))/(1+$F$2))) -> 180 | Q6: =MIN(B6,$D$2) -> 360 | R6: =B6-Q6 -> 0 | S6: =B6-T6 -> 0 | T6: =MIN(B6,$E$2) -> 360 | U6: =IF(F6=0,Q6,S6) -> 360 | V6: =B6-U6 -> 0 | W6: =MIN(MAX($B6/2+($D$2-$E$2)/2,0),$B6) -> 180 | X6: =MIN(MAX($B6/2+($E$2-$D$2)/2,0),$B6) -> 180 | Y6: =IF(F6=1,IF(J6<$E$2,S6,I6),MIN(I6,Q6)) -> 240 | Z6: =B6-Y6 -> 120 | AA6: =$B6/2 -> 180 | AB6: =$B6/2 -> 180 | AC6: =K6/L6 -> 1.4
A7: 3 | B7: =$B$5*C7 -> 480 | C7: 2 | D7: =IF(B7>=$D$2,1,0) -> 0 | E7: =IF(B7>=$E$2,1,0) -> 0 | F7: =IF(B7>=($D$2+$E$2),1,0) -> 0 | G7: =$B7/(1+($E$2/$D$2)) -> 240 | H7: =$B7/(1+($D$2/$E$2)) -> 240 | I7: =$B7/(1+1/$F$2) -> 320 | J7: =$B7/(1+$F$2) -> 160 | K7: =(G7+I7)/2 -> 280 | L7: =(H7+J7)/2 -> 200 | M7: =$B7/(1+1/$G$2) -> 320 | N7: =$B7/(1+$G$2) -> 160 | O7: =IF($F7=0,G7,D$2+(($B7-SUM($D$2:$E$2))/(1+1/$F$2))) -> 240 | P7: =IF($F7=0,H7,E$2+(($B7-SUM($D$2:$E$2))/(1+$F$2))) -> 240 | Q7: =MIN(B7,$D$2) -> 480 | R7: =B7-Q7 -> 0 | S7: =B7-T7 -> 0 | T7: =MIN(B7,$E$2) -> 480 | U7: =IF(F7=0,Q7,S7) -> 480 | V7: =B7-U7 -> 0 | W7: =MIN(MAX($B7/2+($D$2-$E$2)/2,0),$B7) -> 240 | X7: =MIN(MAX($B7/2+($E$2-$D$2)/2,0),$B7) -> 240 | Y7: =IF(F7=1,IF(J7<$E$2,S7,I7),MIN(I7,Q7)) -> 320 | Z7: =B7-Y7 -> 160 | AA7: =$B7/2 -> 240 | AB7: =$B7/2 -> 240 | AC7: =K7/L7 -> 1.4
A8: 4 | B8: =$B$5*C8 -> 720 | C8: 3 | D8: =IF(B8>=$D$2,1,0) -> 0 | E8: =IF(B8>=$E$2,1,0) -> 0 | F8: =IF(B8>=($D$2+$E$2),1,0) -> 0 | G8: =$B8/(1+($E$2/$D$2)) -> 360 | H8: =$B8/(1+($D$2/$E$2)) -> 360 | I8: =$B8/(1+1/$F$2) -> 480 | J8: =$B8/(1+$F$2) -> 240 | K8: =(G8+I8)/2 -> 420 | L8: =(H8+J8)/2 -> 300 | M8: =$B8/(1+1/$G$2) -> 480 | N8: =$B8/(1+$G$2) -> 240 | O8: =IF($F8=0,G8,D$2+(($B8-SUM($D$2:$E$2))/(1+1/$F$2))) -> 360 | P8: =IF($F8=0,H8,E$2+(($B8-SUM($D$2:$E$2))/(1+$F$2))) -> 360 | Q8: =MIN(B8,$D$2) -> 720 | R8: =B8-Q8 -> 0 | S8: =B8-T8 -> 0 | T8: =MIN(B8,$E$2) -> 720 | U8: =IF(F8=0,Q8,S8) -> 720 | V8: =B8-U8 -> 0 | W8: =MIN(MAX($B8/2+($D$2-$E$2)/2,0),$B8) -> 360 | X8: =MIN(MAX($B8/2+($E$2-$D$2)/2,0),$B8) -> 360 | Y8: =IF(F8=1,IF(J8<$E$2,S8,I8),MIN(I8,Q8)) -> 480 | Z8: =B8-Y8 -> 240 | AA8: =$B8/2 -> 360 | AB8: =$B8/2 -> 360 | AC8: =K8/L8 -> 1.4
A9: 5 | B9: =$B$5*C9 -> 1200 | C9: 5 | D9: =IF(B9>=$D$2,1,0) -> 1 | E9: =IF(B9>=$E$2,1,0) -> 1 | F9: =IF(B9>=($D$2+$E$2),1,0) -> 0 | G9: =$B9/(1+($E$2/$D$2)) -> 600 | H9: =$B9/(1+($D$2/$E$2)) -> 600 | I9: =$B9/(1+1/$F$2) -> 800 | J9: =$B9/(1+$F$2) -> 400 | K9: =(G9+I9)/2 -> 700 | L9: =(H9+J9)/2 -> 500 | M9: =$B9/(1+1/$G$2) -> 800 | N9: =$B9/(1+$G$2) -> 400 | O9: =IF($F9=0,G9,D$2+(($B9-SUM($D$2:$E$2))/(1+1/$F$2))) -> 600 | P9: =IF($F9=0,H9,E$2+(($B9-SUM($D$2:$E$2))/(1+$F$2))) -> 600 | Q9: =MIN(B9,$D$2) -> 960 | R9: =B9-Q9 -> 240 | S9: =B9-T9 -> 240 | T9: =MIN(B9,$E$2) -> 960 | U9: =IF(F9=0,Q9,S9) -> 960 | V9: =B9-U9 -> 240 | W9: =MIN(MAX($B9/2+($D$2-$E$2)/2,0),$B9) -> 600 | X9: =MIN(MAX($B9/2+($E$2-$D$2)/2,0),$B9) -> 600 | Y9: =IF(F9=1,IF(J9<$E$2,S9,I9),MIN(I9,Q9)) -> 800 | Z9: =B9-Y9 -> 400 | AA9: =$B9/2 -> 600 | AB9: =$B9/2 -> 600 | AC9: =K9/L9 -> 1.4
A10: 6 | B10: =$B$5*C10 -> 1680 | C10: 7 | D10: =IF(B10>=$D$2,1,0) -> 1 | E10: =IF(B10>=$E$2,1,0) -> 1 | F10: =IF(B10>=($D$2+$E$2),1,0) -> 0 | G10: =$B10/(1+($E$2/$D$2)) -> 840 | H10: =$B10/(1+($D$2/$E$2)) -> 840 | I10: =$B10/(1+1/$F$2) -> 1120 | J10: =$B10/(1+$F$2) -> 560 | K10: =(G10+I10)/2 -> 980 | L10: =(H10+J10)/2 -> 700 | M10: =$B10/(1+1/$G$2) -> 1120 | N10: =$B10/(1+$G$2) -> 560 | O10: =IF($F10=0,G10,D$2+(($B10-SUM($D$2:$E$2))/(1+1/$F$2))) -> 840 | P10: =IF($F10=0,H10,E$2+(($B10-SUM($D$2:$E$2))/(1+$F$2))) -> 840 | Q10: =MIN(B10,$D$2) -> 960 | R10: =B10-Q10 -> 720 | S10: =B10-T10 -> 720 | T10: =MIN(B10,$E$2) -> 960 | U10: =IF(F10=0,Q10,S10) -> 960 | V10: =B10-U10 -> 720 | W10: =MIN(MAX($B10/2+($D$2-$E$2)/2,0),$B10) -> 840 | X10: =MIN(MAX($B10/2+($E$2-$D$2)/2,0),$B10) -> 840 | Y10: =IF(F10=1,IF(J10<$E$2,S10,I10),MIN(I10,Q10)) -> 960 | Z10: =B10-Y10 -> 720 | AA10: =$B10/2 -> 840 | AB10: =$B10/2 -> 840 | AC10: =K10/L10 -> 1.4
A11: 7 | B11: =$B$5*C11 -> 1920 | C11: 8 | D11: =IF(B11>=$D$2,1,0) -> 1 | E11: =IF(B11>=$E$2,1,0) -> 1 | F11: =IF(B11>=($D$2+$E$2),1,0) -> 1 | G11: =$B11/(1+($E$2/$D$2)) -> 960 | H11: =$B11/(1+($D$2/$E$2)) -> 960 | I11: =$B11/(1+1/$F$2) -> 1280 | J11: =$B11/(1+$F$2) -> 640 | K11: =(G11+I11)/2 -> 1120 | L11: =(H11+J11)/2 -> 800 | M11: =$B11/(1+1/$G$2) -> 1280 | N11: =$B11/(1+$G$2) -> 640 | O11: =IF($F11=0,G11,D$2+(($B11-SUM($D$2:$E$2))/(1+1/$F$2))) -> 960 | P11: =IF($F11=0,H11,E$2+(($B11-SUM($D$2:$E$2))/(1+$F$2))) -> 960 | Q11: =MIN(B11,$D$2) -> 960 | R11: =B11-Q11 -> 960 | S11: =B11-T11 -> 960 | T11: =MIN(B11,$E$2) -> 960 | U11: =IF(F11=0,Q11,S11) -> 960 | V11: =B11-U11 -> 960 | W11: =MIN(MAX($B11/2+($D$2-$E$2)/2,0),$B11) -> 960 | X11: =MIN(MAX($B11/2+($E$2-$D$2)/2,0),$B11) -> 960 | Y11: =IF(F11=1,IF(J11<$E$2,S11,I11),MIN(I11,Q11)) -> 960 | Z11: =B11-Y11 -> 960 | AA11: =$B11/2 -> 960 | AB11: =$B11/2 -> 960 | AC11: =K11/L11 -> 1.4
A12: 8 | B12: =$B$5*C12 -> 2400 | C12: 10 | D12: =IF(B12>=$D$2,1,0) -> 1 | E12: =IF(B12>=$E$2,1,0) -> 1 | F12: =IF(B12>=($D$2+$E$2),1,0) -> 1 | G12: =$B12/(1+($E$2/$D$2)) -> 1200 | H12: =$B12/(1+($D$2/$E$2)) -> 1200 | I12: =$B12/(1+1/$F$2) -> 1600 | J12: =$B12/(1+$F$2) -> 800 | K12: =(G12+I12)/2 -> 1400 | L12: =(H12+J12)/2 -> 1000 | M12: =$B12/(1+1/$G$2) -> 1600 | N12: =$B12/(1+$G$2) -> 800 | O12: =IF($F12=0,G12,D$2+(($B12-SUM($D$2:$E$2))/(1+1/$F$2))) -> 1280 | P12: =IF($F12=0,H12,E$2+(($B12-SUM($D$2:$E$2))/(1+$F$2))) -> 1120 | Q12: =MIN(B12,$D$2) -> 960 | R12: =B12-Q12 -> 1440 | S12: =B12-T12 -> 1440 | T12: =MIN(B12,$E$2) -> 960 | U12: =IF(F12=0,Q12,S12) -> 1440 | V12: =B12-U12 -> 960 | W12: =MIN(MAX($B12/2+($D$2-$E$2)/2,0),$B12) -> 1200 | X12: =MIN(MAX($B12/2+($E$2-$D$2)/2,0),$B12) -> 1200 | Y12: =IF(F12=1,IF(J12<$E$2,S12,I12),MIN(I12,Q12)) -> 1440 | Z12: =B12-Y12 -> 960 | AA12: =$B12/2 -> 1200 | AB12: =$B12/2 -> 1200 | AC12: =K12/L12 -> 1.4
A13: 9 | B13: =$B$5*C13 -> 3120 | C13: 13 | D13: =IF(B13>=$D$2,1,0) -> 1 | E13: =IF(B13>=$E$2,1,0) -> 1 | F13: =IF(B13>=($D$2+$E$2),1,0) -> 1 | G13: =$B13/(1+($E$2/$D$2)) -> 1560 | H13: =$B13/(1+($D$2/$E$2)) -> 1560 | I13: =$B13/(1+1/$F$2) -> 2080 | J13: =$B13/(1+$F$2) -> 1040 | K13: =(G13+I13)/2 -> 1820 | L13: =(H13+J13)/2 -> 1300 | M13: =$B13/(1+1/$G$2) -> 2080 | N13: =$B13/(1+$G$2) -> 1040 | O13: =IF($F13=0,G13,D$2+(($B13-SUM($D$2:$E$2))/(1+1/$F$2))) -> 1760 | P13: =IF($F13=0,H13,E$2+(($B13-SUM($D$2:$E$2))/(1+$F$2))) -> 1360 | Q13: =MIN(B13,$D$2) -> 960 | R13: =B13-Q13 -> 2160 | S13: =B13-T13 -> 2160 | T13: =MIN(B13,$E$2) -> 960 | U13: =IF(F13=0,Q13,S13) -> 2160 | V13: =B13-U13 -> 960 | W13: =MIN(MAX($B13/2+($D$2-$E$2)/2,0),$B13) -> 1560 | X13: =MIN(MAX($B13/2+($E$2-$D$2)/2,0),$B13) -> 1560 | Y13: =IF(F13=1,IF(J13<$E$2,S13,I13),MIN(I13,Q13)) -> 2080 | Z13: =B13-Y13 -> 1040 | AA13: =$B13/2 -> 1560 | AB13: =$B13/2 -> 1560 | AC13: =K13/L13 -> 1.4
A14: 10 | B14: =$B$5*C14 -> 4320 | C14: 18 | D14: =IF(B14>=$D$2,1,0) -> 1 | E14: =IF(B14>=$E$2,1,0) -> 1 | F14: =IF(B14>=($D$2+$E$2),1,0) -> 1 | G14: =$B14/(1+($E$2/$D$2)) -> 2160 | H14: =$B14/(1+($D$2/$E$2)) -> 2160 | I14: =$B14/(1+1/$F$2) -> 2880 | J14: =$B14/(1+$F$2) -> 1440 | K14: =(G14+I14)/2 -> 2520 | L14: =(H14+J14)/2 -> 1800 | M14: =$B14/(1+1/$G$2) -> 2880 | N14: =$B14/(1+$G$2) -> 1440 | O14: =IF($F14=0,G14,D$2+(($B14-SUM($D$2:$E$2))/(1+1/$F$2))) -> 2560 | P14: =IF($F14=0,H14,E$2+(($B14-SUM($D$2:$E$2))/(1+$F$2))) -> 1760 | Q14: =MIN(B14,$D$2) -> 960 | R14: =B14-Q14 -> 3360 | S14: =B14-T14 -> 3360 | T14: =MIN(B14,$E$2) -> 960 | U14: =IF(F14=0,Q14,S14) -> 3360 | V14: =B14-U14 -> 960 | W14: =MIN(MAX($B14/2+($D$2-$E$2)/2,0),$B14) -> 2160 | X14: =MIN(MAX($B14/2+($E$2-$D$2)/2,0),$B14) -> 2160 | Y14: =IF(F14=1,IF(J14<$E$2,S14,I14),MIN(I14,Q14)) -> 2880 | Z14: =B14-Y14 -> 1440 | AA14: =$B14/2 -> 2160 | AB14: =$B14/2 -> 2160 | AC14: =K14/L14 -> 1.4
A15: 11 | B15: =$B$5*C15 -> 5520 | C15: 23 | D15: =IF(B15>=$D$2,1,0) -> 1 | E15: =IF(B15>=$E$2,1,0) -> 1 | F15: =IF(B15>=($D$2+$E$2),1,0) -> 1 | G15: =$B15/(1+($E$2/$D$2)) -> 2760 | H15: =$B15/(1+($D$2/$E$2)) -> 2760 | I15: =$B15/(1+1/$F$2) -> 3680 | J15: =$B15/(1+$F$2) -> 1840 | K15: =(G15+I15)/2 -> 3220 | L15: =(H15+J15)/2 -> 2300 | M15: =$B15/(1+1/$G$2) -> 3680 | N15: =$B15/(1+$G$2) -> 1840 | O15: =IF($F15=0,G15,D$2+(($B15-SUM($D$2:$E$2))/(1+1/$F$2))) -> 3360 | P15: =IF($F15=0,H15,E$2+(($B15-SUM($D$2:$E$2))/(1+$F$2))) -> 2160 | Q15: =MIN(B15,$D$2) -> 960 | R15: =B15-Q15 -> 4560 | S15: =B15-T15 -> 4560 | T15: =MIN(B15,$E$2) -> 960 | U15: =IF(F15=0,Q15,S15) -> 4560 | V15: =B15-U15 -> 960 | W15: =MIN(MAX($B15/2+($D$2-$E$2)/2,0),$B15) -> 2760 | X15: =MIN(MAX($B15/2+($E$2-$D$2)/2,0),$B15) -> 2760 | Y15: =IF(F15=1,IF(J15<$E$2,S15,I15),MIN(I15,Q15)) -> 3680 | Z15: =B15-Y15 -> 1840 | AA15: =$B15/2 -> 2760 | AB15: =$B15/2 -> 2760 | AC15: =K15/L15 -> 1.4
A16: 12 | B16: =$B$5*C16 -> 6720 | C16: 28 | D16: =IF(B16>=$D$2,1,0) -> 1 | E16: =IF(B16>=$E$2,1,0) -> 1 | F16: =IF(B16>=($D$2+$E$2),1,0) -> 1 | G16: =$B16/(1+($E$2/$D$2)) -> 3360 | H16: =$B16/(1+($D$2/$E$2)) -> 3360 | I16: =$B16/(1+1/$F$2) -> 4480 | J16: =$B16/(1+$F$2) -> 2240 | K16: =(G16+I16)/2 -> 3920 | L16: =(H16+J16)/2 -> 2800 | M16: =$B16/(1+1/$G$2) -> 4480 | N16: =$B16/(1+$G$2) -> 2240 | O16: =IF($F16=0,G16,D$2+(($B16-SUM($D$2:$E$2))/(1+1/$F$2))) -> 4160 | P16: =IF($F16=0,H16,E$2+(($B16-SUM($D$2:$E$2))/(1+$F$2))) -> 2560 | Q16: =MIN(B16,$D$2) -> 960 | R16: =B16-Q16 -> 5760 | S16: =B16-T16 -> 5760 | T16: =MIN(B16,$E$2) -> 960 | U16: =IF(F16=0,Q16,S16) -> 5760 | V16: =B16-U16 -> 960 | W16: =MIN(MAX($B16/2+($D$2-$E$2)/2,0),$B16) -> 3360 | X16: =MIN(MAX($B16/2+($E$2-$D$2)/2,0),$B16) -> 3360 | Y16: =IF(F16=1,IF(J16<$E$2,S16,I16),MIN(I16,Q16)) -> 4480 | Z16: =B16-Y16 -> 2240 | AA16: =$B16/2 -> 3360 | AB16: =$B16/2 -> 3360 | AC16: =K16/L16 -> 1.4
A17: 13 | B17: =$B$5*C17 -> 7920 | C17: 33 | D17: =IF(B17>=$D$2,1,0) -> 1 | E17: =IF(B17>=$E$2,1,0) -> 1 | F17: =IF(B17>=($D$2+$E$2),1,0) -> 1 | G17: =$B17/(1+($E$2/$D$2)) -> 3960 | H17: =$B17/(1+($D$2/$E$2)) -> 3960 | I17: =$B17/(1+1/$F$2) -> 5280 | J17: =$B17/(1+$F$2) -> 2640 | K17: =(G17+I17)/2 -> 4620 | L17: =(H17+J17)/2 -> 3300 | M17: =$B17/(1+1/$G$2) -> 5280 | N17: =$B17/(1+$G$2) -> 2640 | O17: =IF($F17=0,G17,D$2+(($B17-SUM($D$2:$E$2))/(1+1/$F$2))) -> 4960 | P17: =IF($F17=0,H17,E$2+(($B17-SUM($D$2:$E$2))/(1+$F$2))) -> 2960 | Q17: =MIN(B17,$D$2) -> 960 | R17: =B17-Q17 -> 6960 | S17: =B17-T17 -> 6960 | T17: =MIN(B17,$E$2) -> 960 | U17: =IF(F17=0,Q17,S17) -> 6960 | V17: =B17-U17 -> 960 | W17: =MIN(MAX($B17/2+($D$2-$E$2)/2,0),$B17) -> 3960 | X17: =MIN(MAX($B17/2+($E$2-$D$2)/2,0),$B17) -> 3960 | Y17: =IF(F17=1,IF(J17<$E$2,S17,I17),MIN(I17,Q17)) -> 5280 | Z17: =B17-Y17 -> 2640 | AA17: =$B17/2 -> 3960 | AB17: =$B17/2 -> 3960 | AC17: =K17/L17 -> 1.4
A18: 14 | B18: =$B$5*C18 -> 0 | D18: =IF(B18>=$D$2,1,0) -> 0 | E18: =IF(B18>=$E$2,1,0) -> 0 | F18: =IF(B18>=($D$2+$E$2),1,0) -> 0 | G18: =$B18/(1+($E$2/$D$2)) -> 0 | H18: =$B18/(1+($D$2/$E$2)) -> 0 | I18: =$B18/(1+1/$F$2) -> 0 | J18: =$B18/(1+$F$2) -> 0 | K18: =(G18+I18)/2 -> 0 | L18: =(H18+J18)/2 -> 0 | M18: =$B18/(1+1/$G$2) -> 0 | N18: =$B18/(1+$G$2) -> 0 | O18: =IF($F18=0,G18,D$2+(($B18-SUM($D$2:$E$2))/(1+1/$F$2))) -> 0 | P18: =IF($F18=0,H18,E$2+(($B18-SUM($D$2:$E$2))/(1+$F$2))) -> 0 | Q18: =MIN(B18,$D$2) -> 0 | R18: =B18-Q18 -> 0 | S18: =B18-T18 -> 0 | T18: =MIN(B18,$E$2) -> 0 | U18: =IF(F18=0,Q18,S18) -> 0 | V18: =B18-U18 -> 0 | W18: =MIN(MAX($B18/2+($D$2-$E$2)/2,0),$B18) -> 0 | X18: =MIN(MAX($B18/2+($E$2-$D$2)/2,0),$B18) -> 0 | Y18: =IF(D18=0,I18,IF(E18=0,Q18,IF(J18<$E$2,S18,I18))) -> 0 | Z18: =B18-Y18 -> 0 | AA18: =$B18/2 -> 0 | AB18: =$B18/2 -> 0 | AC18: =K18/L18 -> #DIV/0!
C20: =1920 -> 1920

Sheet Block 1 neu NE
D1: Bedarf E | E1: Bedarf N | F1: Leistung A/B | G1: Verdienst A / Verdienst B | I1: Skalierung
D2: ='Block1 alte Studie'!C2*'Block 1 neu NE'!$I$2 -> 640 | E2: ='Block1 alte Studie'!D2*'Block 1 neu NE'!$I$2 -> 1280 | F2: 2 | G2: =(D2/E2)*F2 -> 1 | I2: 1.28 | J2: =D2+E2 -> 1920
G3: Relativ zum Bedarf | I3: Nach Leistung | K3: Arithm. Mitelwert Leistung und Bedarf | M3: Geometrischer Mitelwert Leistung und Bedarf | O3: Erst Bedarfe, dann Leistung | Q3: Priority E | S3: Priority N | U3: First Priority E, then Priority N | W3: Gleiche Distanz zum Bedarf | Y3: Priority E, then equity with lower bound of need N | AA3: Gleichverteilung
B4: Menge | D4: Bedarf E erfüllbar | E4: Bedarf N erfüllbar | F4: Beide Bedarfe erfüllbar | G4: E | H4: N | I4: E | J4: N | K4: E | L4: N | M4: E | N4: N | O4: E | P4: N | Q4: E | R4: N | S4: E | T4: N | U4: E | V4: N | W4: A | X4: B | Y4: E | Z4: N | AA4: A | AB4: B
A5: 1 | B5: 240 | D5: =IF(B5>=$D$2,1,0) -> 0 | E5: =IF(B5>=$E$2,1,0) -> 0 | F5: =IF(B5>=($D$2+$E$2),1,0) -> 0 | G5: =$B5/(1+($E$2/$D$2)) -> 80 | H5: =$B5/(1+($D$2/$E$2)) -> 160 | I5: =$B5/(1+1/$F$2) -> 160 | J5: =$B5/(1+$F$2) -> 80 | K5: =(G5+I5)/2 -> 120 | L5: =(H5+J5)/2 -> 120 | M5: =$B5/(1+1/$G$2) -> 120 | N5: =$B5/(1+$G$2) -> 120 | O5: =IF($F5=0,G5,D$2+(($B5-SUM($D$2:$E$2))/(1+1/$F$2))) -> 80 | P5: =IF($F5=0,H5,E$2+(($B5-SUM($D$2:$E$2))/(1+$F$2))) -> 160 | Q5: =MIN(B5,$D$2) -> 240 | R5: =B5-Q5 -> 0 | S5: =B5-T5 -> 0 | T5: =MIN(B5,$E$2) -> 240 | U5: =IF(F5=0,Q5,S5) -> 240 | V5: =B5-U5 -> 0 | W5: =MIN(MAX($B5/2+($D$2-$E$2)/2,0),$B5) -> 0 | X5: =MIN(MAX($B5/2+($E$2-$D$2)/2,0),$B5) -> 240 | Y5: =IF(F5=1,IF(J5<$E$2,S5,I5),MIN(I5,Q5)) -> 160 | Z5: =B5-Y5 -> 80 | AA5: =$B5/2 -> 120 | AB5: =$B5/2 -> 120 | AC5: =K5/L5 -> 1
A6: 2 | B6: =$B$5*C6 -> 360 | C6: 1.5 | D6: =IF(B6>=$D$2,1,0) -> 0 | E6: =IF(B6>=$E$2,1,0) -> 0 | F6: =IF(B6>=($D$2+$E$2),1,0) -> 0 | G6: =$B6/(1+($E$2/$D$2)) -> 120 | H6: =$B6/(1+($D$2/$E$2)) -> 240 | I6: =$B6/(1+1/$F$2) -> 240 | J6: =$B6/(1+$F$2) -> 120 | K6: =(G6+I6)/2 -> 180 | L6: =(H6+J6)/2 -> 180 | M6: =$B6/(1+1/$G$2) -> 180 | N6: =$B6/(1+$G$2) -> 180 | O6: =IF($F6=0,G6,D$2+(($B6-SUM($D$2:$E$2))/(1+1/$F$2))) -> 120 | P6: =IF($F6=0,H6,E$2+(($B6-SUM($D$2:$E$2))/(1+$F$2))) -> 240 | Q6: =MIN(B6,$D$2) -> 360 | R6: =B6-Q6 -> 0 | S6: =B6-T6 -> 0 | T6: =MIN(B6,$E$2) -> 360 | U6: =IF(F6=0,Q6,S6) -> 360 | V6: =B6-U6 -> 0 | W6: =MIN(MAX($B6/2+($D$2-$E$2)/2,0),$B6) -> 0 | X6: =MIN(MAX($B6/2+($E$2-$D$2)/2,0),$B6) -> 360 | Y6: =IF(F6=1,IF(J6<$E$2,S6,I6),MIN(I6,Q6)) -> 240 | Z6: =B6-Y6 -> 120 | AA6: =$B6/2 -> 180 | AB6: =$B6/2 -> 180 | AC6: =K6/L6 -> 1
A7: 3 | B7: =$B$5*C7 -> 480 | C7: 2 | D7: =IF(B7>=$D$2,1,0) -> 0 | E7: =IF(B7>=$E$2,1,0) -> 0 | F7: =IF(B7>=($D$2+$E$2),1,0) -> 0 | G7: =$B7/(1+($E$2/$D$2)) -> 160 | H7: =$B7/(1+($D$2/$E$2)) -> 320 | I7: =$B7/(1+1/$F$2) -> 320 | J7: =$B7/(1+$F$2) -> 160 | K7: =(G7+I7)/2 -> 240 | L7: =(H7+J7)/2 -> 240 | M7: =$B7/(1+1/$G$2) -> 240 | N7: =$B7/(1+$G$2) -> 240 | O7: =IF($F7=0,G7,D$2+(($B7-SUM($D$2:$E$2))/(1+1/$F$2))) -> 160 | P7: =IF($F7=0,H7,E$2+(($B7-SUM($D$2:$E$2))/(1+$F$2))) -> 320 | Q7: =MIN(B7,$D$2) -> 480 | R7: =B7-Q7 -> 0 | S7: =B7-T7 -> 0 | T7: =MIN(B7,$E$2) -> 480 | U7: =IF(F7=0,Q7,S7) -> 480 | V7: =B7-U7 -> 0 | W7: =MIN(MAX($B7/2+($D$2-$E$2)/2,0),$B7) -> 0 | X7: =MIN(MAX($B7/2+($E$2-$D$2)/2,0),$B7) -> 480 | Y7: =IF(F7=1,IF(J7<$E$2,S7,I7),MIN(I7,Q7)) -> 320 | Z7: =B7-Y7 -> 160 | AA7: =$B7/2 -> 240 | AB7: =$B7/2 -> 240 | AC7: =K7/L7 -> 1
A8: 4 | B8: =$B$5*C8 -> 720 | C8: 3 | D8: =IF(B8>=$D$2,1,0) -> 1 | E8: =IF(B8>=$E$2,1,0) -> 0 | F8: =IF(B8>=($D$2+$E$2),1,0) -> 0 | G8: =$B8/(1+($E$2/$D$2)) -> 240 | H8: =$B8/(1+($D$2/$E$2)) -> 480 | I8: =$B8/(1+1/$F$2) -> 480 | J8: =$B8/(1+$F$2) -> 240 | K8: =(G8+I8)/2 -> 360 | L8: =(H8+J8)/2 -> 360 | M8: =$B8/(1+1/$G$2) -> 360 | N8: =$B8/(1+$G$2) -> 360 | O8: =IF($F8=0,G8,D$2+(($B8-SUM($D$2:$E$2))/(1+1/$F$2))) -> 240 | P8: =IF($F8=0,H8,E$2+(($B8-SUM($D$2:$E$2))/(1+$F$2))) -> 480 | Q8: =MIN(B8,$D$2) -> 640 | R8: =B8-Q8 -> 80 | S8: =B8-T8 -> 0 | T8: =MIN(B8,$E$2) -> 720 | U8: =IF(F8=0,Q8,S8) -> 640 | V8: =B8-U8 -> 80 | W8: =MIN(MAX($B8/2+($D$2-$E$2)/2,0),$B8) -> 40 | X8: =MIN(MAX($B8/2+($E$2-$D$2)/2,0),$B8) -> 680 | Y8: =IF(F8=1,IF(J8<$E$2,S8,I8),MIN(I8,Q8)) -> 480 | Z8: =B8-Y8 -> 240 | AA8: =$B8/2 -> 360 | AB8: =$B8/2 -> 360 | AC8: =K8/L8 -> 1
A9: 5 | B9: =$B$5*C9 -> 1200 | C9: 5 | D9: =IF(B9>=$D$2,1,0) -> 1 | E9: =IF(B9>=$E$2,1,0) -> 0 | F9: =IF(B9>=($D$2+$E$2),1,0) -> 0 | G9: =$B9/(1+($E$2/$D$2)) -> 400 | H9: =$B9/(1+($D$2/$E$2)) -> 800 | I9: =$B9/(1+1/$F$2) -> 800 | J9: =$B9/(1+$F$2) -> 400 | K9: =(G9+I9)/2 -> 600 | L9: =(H9+J9)/2 -> 600 | M9: =$B9/(1+1/$G$2) -> 600 | N9: =$B9/(1+$G$2) -> 600 | O9: =IF($F9=0,G9,D$2+(($B9-SUM($D$2:$E$2))/(1+1/$F$2))) -> 400 | P9: =IF($F9=0,H9,E$2+(($B9-SUM($D$2:$E$2))/(1+$F$2))) -> 800 | Q9: =MIN(B9,$D$2) -> 640 | R9: =B9-Q9 -> 560 | S9: =B9-T9 -> 0 | T9: =MIN(B9,$E$2) -> 1200 | U9: =IF(F9=0,Q9,S9) -> 640 | V9: =B9-U9 -> 560 | W9: =MIN(MAX($B9/2+($D$2-$E$2)/2,0),$B9) -> 280 | X9: =MIN(MAX($B9/2+($E$2-$D$2)/2,0),$B9) -> 920 | Y9: =IF(F9=1,IF(J9<$E$2,S9,I9),MIN(I9,Q9)) -> 640 | Z9: =B9-Y9 -> 560 | AA9: =$B9/2 -> 600 | AB9: =$B9/2 -> 600 | AC9: =K9/L9 -> 1
A10: 6 | B10: =$B$5*C10 -> 1680 | C10: 7 | D10: =IF(B10>=$D$2,1,0) -> 1 | E10: =IF(B10>=$E$2,1,0) -> 1 | F10: =IF(B10>=($D$2+$E$2),1,0) -> 0 | G10: =$B10/(1+($E$2/$D$2)) -> 560 | H10: =$B10/(1+($D$2/$E$2)) -> 1120 | I10: =$B10/(1+1/$F$2) -> 1120 | J10: =$B10/(1+$F$2) -> 560 | K10: =(G10+I10)/2 -> 840 | L10: =(H10+J10)/2 -> 840 | M10: =$B10/(1+1/$G$2) -> 840 | N10: =$B10/(1+$G$2) -> 840 | O10: =IF($F10=0,G10,D$2+(($B10-SUM($D$2:$E$2))/(1+1/$F$2))) -> 560 | P10: =IF($F10=0,H10,E$2+(($B10-SUM($D$2:$E$2))/(1+$F$2))) -> 1120 | Q10: =MIN(B10,$D$2) -> 640 | R10: =B10-Q10 -> 1040 | S10: =B10-T10 -> 400 | T10: =MIN(B10,$E$2) -> 1280 | U10: =IF(F10=0,Q10,S10) -> 640 | V10: =B10-U10 -> 1040 | W10: =MIN(MAX($B10/2+($D$2-$E$2)/2,0),$B10) -> 520 | X10: =MIN(MAX($B10/2+($E$2-$D$2)/2,0),$B10) -> 1160 | Y10: =IF(F10=1,IF(J10<$E$2,S10,I10),MIN(I10,Q10)) -> 640 | Z10: =B10-Y10 -> 1040 | AA10: =$B10/2 -> 840 | AB10: =$B10/2 -> 840 | AC10: =K10/L10 -> 1
A11: 7 | B11: =$B$5*C11 -> 1920 | C11: 8 | D11: =IF(B11>=$D$2,1,0) -> 1 | E11: =IF(B11>=$E$2,1,0) -> 1 | F11: =IF(B11>=($D$2+$E$2),1,0) -> 1 | G11: =$B11/(1+($E$2/$D$2)) -> 640 | H11: =$B11/(1+($D$2/$E$2)) -> 1280 | I11: =$B11/(1+1/$F$2) -> 1280 | J11: =$B11/(1+$F$2) -> 640 | K11: =(G11+I11)/2 -> 960 | L11: =(H11+J11)/2 -> 960 | M11: =$B11/(1+1/$G$2) -> 960 | N11: =$B11/(1+$G$2) -> 960 | O11: =IF($F11=0,G11,D$2+(($B11-SUM($D$2:$E$2))/(1+1/$F$2))) -> 640 | P11: =IF($F11=0,H11,E$2+(($B11-SUM($D$2:$E$2))/(1+$F$2))) -> 1280 | Q11: =MIN(B11,$D$2) -> 640 | R11: =B11-Q11 -> 1280 | S11: =B11-T11 -> 640 | T11: =MIN(B11,$E$2) -> 1280 | U11: =IF(F11=0,Q11,S11) -> 640 | V11: =B11-U11 -> 1280 | W11: =MIN(MAX($B11/2+($D$2-$E$2)/2,0),$B11) -> 640 | X11: =MIN(MAX($B11/2+($E$2-$D$2)/2,0),$B11) -> 1280 | Y11: =IF(F11=1,IF(J11<$E$2,S11,I11),MIN(I11,Q11)) -> 640 | Z11: =B11-Y11 -> 1280 | AA11: =$B11/2 -> 960 | AB11: =$B11/2 -> 960 | AC11: =K11/L11 -> 1
A12: 8 | B12: =$B$5*C12 -> 2400 | C12: 10 | D12: =IF(B12>=$D$2,1,0) -> 1 | E12: =IF(B12>=$E$2,1,0) -> 1 | F12: =IF(B12>=($D$2+$E$2),1,0) -> 1 | G12: =$B12/(1+($E$2/$D$2)) -> 800 | H12: =$B12/(1+($D$2/$E$2)) -> 1600 | I12: =$B12/(1+1/$F$2) -> 1600 | J12: =$B12/(1+$F$2) -> 800 | K12: =(G12+I12)/2 -> 1200 | L12: =(H12+J12)/2 -> 1200 | M12: =$B12/(1+1/$G$2) -> 1200 | N12: =$B12/(1+$G$2) -> 1200 | O12: =IF($F12=0,G12,D$2+(($B12-SUM($D$2:$E$2))/(1+1/$F$2))) -> 960 | P12: =IF($F12=0,H12,E$2+(($B12-SUM($D$2:$E$2))/(1+$F$2))) -> 1440 | Q12: =MIN(B12,$D$2) -> 640 | R12: =B12-Q12 -> 1760 | S12: =B12-T12 -> 1120 | T12: =MIN(B12,$E$2) -> 1280 | U12: =IF(F12=0,Q12,S12) -> 1120 | V12: =B12-U12 -> 1280 | W12: =MIN(MAX($B12/2+($D$2-$E$2)/2,0),$B12) -> 880 | X12: =MIN(MAX($B12/2+($E$2-$D$2)/2,0),$B12) -> 1520 | Y12: =IF(F12=1,IF(J12<$E$2,S12,I12),MIN(I12,Q12)) -> 1120 | Z12: =B12-Y12 -> 1280 | AA12: =$B12/2 -> 1200 | AB12: =$B12/2 -> 1200 | AC12: =K12/L12 -> 1
A13: 9 | B13: =$B$5*C13 -> 3120 | C13: 13 | D13: =IF(B13>=$D$2,1,0) -> 1 | E13: =IF(B13>=$E$2,1,0) -> 1 | F13: =IF(B13>=($D$2+$E$2),1,0) -> 1 | G13: =$B13/(1+($E$2/$D$2)) -> 1040 | H13: =$B13/(1+($D$2/$E$2)) -> 2080 | I13: =$B13/(1+1/$F$2) -> 2080 | J13: =$B13/(1+$F$2) -> 1040 | K13: =(G13+I13)/2 -> 1560 | L13: =(H13+J13)/2 -> 1560 | M13: =$B13/(1+1/$G$2) -> 1560 | N13: =$B13/(1+$G$2) -> 1560 | O13: =IF($F13=0,G13,D$2+(($B13-SUM($D$2:$E$2))/(1+1/$F$2))) -> 1440 | P13: =IF($F13=0,H13,E$2+(($B13-SUM($D$2:$E$2))/(1+$F$2))) -> 1680 | Q13: =MIN(B13,$D$2) -> 640 | R13: =B13-Q13 -> 2480 | S13: =B13-T13 -> 1840 | T13: =MIN(B13,$E$2) -> 1280 | U13: =IF(F13=0,Q13,S13) -> 1840 | V13: =B13-U13 -> 1280 | W13: =MIN(MAX($B13/2+($D$2-$E$2)/2,0),$B13) -> 1240 | X13: =MIN(MAX($B13/2+($E$2-$D$2)/2,0),$B13) -> 1880 | Y13: =IF(F13=1,IF(J13<$E$2,S13,I13),MIN(I13,Q13)) -> 1840 | Z13: =B13-Y13 -> 1280 | AA13: =$B13/2 -> 1560 | AB13: =$B13/2 -> 1560 | AC13: =K13/L13 -> 1
A14: 10 | B14: =$B$5*C14 -> 4320 | C14: 18 | D14: =IF(B14>=$D$2,1,0) -> 1 | E14: =IF(B14>=$E$2,1,0) -> 1 | F14: =IF(B14>=($D$2+$E$2),1,0) -> 1 | G14: =$B14/(1+($E$2/$D$2)) -> 1440 | H14: =$B14/(1+($D$2/$E$2)) -> 2880 | I14: =$B14/(1+1/$F$2) -> 2880 | J14: =$B14/(1+$F$2) -> 1440 | K14: =(G14+I14)/2 -> 2160 | L14: =(H14+J14)/2 -> 2160 | M14: =$B14/(1+1/$G$2) -> 2160 | N14: =$B14/(1+$G$2) -> 2160 | O14: =IF($F14=0,G14,D$2+(($B14-SUM($D$2:$E$2))/(1+1/$F$2))) -> 2240 | P14: =IF($F14=0,H14,E$2+(($B14-SUM($D$2:$E$2))/(1+$F$2))) -> 2080 | Q14: =MIN(B14,$D$2) -> 640 | R14: =B14-Q14 -> 3680 | S14: =B14-T14 -> 3040 | T14: =MIN(B14,$E$2) -> 1280 | U14: =IF(F14=0,Q14,S14) -> 3040 | V14: =B14-U14 -> 1280 | W14: =MIN(MAX($B14/2+($D$2-$E$2)/2,0),$B14) -> 1840 | X14: =MIN(MAX($B14/2+($E$2-$D$2)/2,0),$B14) -> 2480 | Y14: =IF(F14=1,IF(J14<$E$2,S14,I14),MIN(I14,Q14)) -> 2880 | Z14: =B14-Y14 -> 1440 | AA14: =$B14/2 -> 2160 | AB14: =$B14/2 -> 2160 | AC14: =K14/L14 -> 1
A15: 11 | B15: =$B$5*C15 -> 5520 | C15: 23 | D15: =IF(B15>=$D$2,1,0) -> 1 | E15: =IF(B15>=$E$2,1,0) -> 1 | F15: =IF(B15>=($D$2+$E$2),1,0) -> 1 | G15: =$B15/(1+($E$2/$D$2)) -> 1840 | H15: =$B15/(1+($D$2/$E$2)) -> 3680 | I15: =$B15/(1+1/$F$2) -> 3680 | J15: =$B15/(1+$F$2) -> 1840 | K15: =(G15+I15)/2 -> 2760 | L15: =(H15+J15)/2 -> 2760 | M15: =$B15/(1+1/$G$2) -> 2760 | N15: =$B15/(1+$G$2) -> 2760 | O15: =IF($F15=0,G15,D$2+(($B15-SUM($D$2:$E$2))/(1+1/$F$2))) -> 3040 | P15: =IF($F15=0,H15,E$2+(($B15-SUM($D$2:$E$2))/(1+$F$2))) -> 2480 | Q15: =MIN(B15,$D$2) -> 640 | R15: =B15-Q15 -> 4880 | S15: =B15-T15 -> 4240 | T15: =MIN(B15,$E$2) -> 1280 | U15: =IF(F15=0,Q15,S15) -> 4240 | V15: =B15-U15 -> 1280 | W15: =MIN(MAX($B15/2+($D$2-$E$2)/2,0),$B15) -> 2440 | X15: =MIN(MAX($B15/2+($E$2-$D$2)/2,0),$B15) -> 3080 | Y15: =IF(F15=1,IF(J15<$E$2,S15,I15),MIN(I15,Q15)) -> 3680 | Z15: =B15-Y15 -> 1840 | AA15: =$B15/2 -> 2760 | AB15: =$B15/2 -> 2760 | AC15: =K15/L15 -> 1
A16: 12 | B16: =$B$5*C16 -> 6720 | C16: 28 | D16: =IF(B16>=$D$2,1,0) -> 1 | E16: =IF(B16>=$E$2,1,0) -> 1 | F16: =IF(B16>=($D$2+$E$2),1,0) -> 1 | G16: =$B16/(1+($E$2/$D$2)) -> 2240 | H16: =$B16/(1+($D$2/$E$2)) -> 4480 | I16: =$B16/(1+1/$F$2) -> 4480 | J16: =$B16/(1+$F$2) -> 2240 | K16: =(G16+I16)/2 -> 3360 | L16: =(H16+J16)/2 -> 3360 | M16: =$B16/(1+1/$G$2) -> 3360 | N16: =$B16/(1+$G$2) -> 3360 | O16: =IF($F16=0,G16,D$2+(($B16-SUM($D$2:$E$2))/(1+1/$F$2))) -> 3840 | P16: =IF($F16=0,H16,E$2+(($B16-SUM($D$2:$E$2))/(1+$F$2))) -> 2880 | Q16: =MIN(B16,$D$2) -> 640 | R16: =B16-Q16 -> 6080 | S16: =B16-T16 -> 5440 | T16: =MIN(B16,$E$2) -> 1280 | U16: =IF(F16=0,Q16,S16) -> 5440 | V16: =B16-U16 -> 1280 | W16: =MIN(MAX($B16/2+($D$2-$E$2)/2,0),$B16) -> 3040 | X16: =MIN(MAX($B16/2+($E$2-$D$2)/2,0),$B16) -> 3680 | Y16: =IF(F16=1,IF(J16<$E$2,S16,I16),MIN(I16,Q16)) -> 4480 | Z16: =B16-Y16 -> 2240 | AA16: =$B16/2 -> 3360 | AB16: =$B16/2 -> 3360 | AC16: =K16/L16 -> 1
A17: 13 | B17: =$B$5*C17 -> 7920 | C17: 33 | D17: =IF(B17>=$D$2,1,0) -> 1 | E17: =IF(B17>=$E$2,1,0) -> 1 | F17: =IF(B17>=($D$2+$E$2),1,0) -> 1 | G17: =$B17/(1+($E$2/$D$2)) -> 2640 | H17: =$B17/(1+($D$2/$E$2)) -> 5280 | I17: =$B17/(1+1/$F$2) -> 5280 | J17: =$B17/(1+$F$2) -> 2640 | K17: =(G17+I17)/2 -> 3960 | L17: =(H17+J17)/2 -> 3960 | M17: =$B17/(1+1/$G$2) -> 3960 | N17: =$B17/(1+$G$2) -> 3960 | O17: =IF($F17=0,G17,D$2+(($B17-SUM($D$2:$E$2))/(1+1/$F$2))) -> 4640 | P17: =IF($F17=0,H17,E$2+(($B17-SUM($D$2:$E$2))/(1+$F$2))) -> 3280 | Q17: =MIN(B17,$D$2) -> 640 | R17: =B17-Q17 -> 7280 | S17: =B17-T17 -> 6640 | T17: =MIN(B17,$E$2) -> 1280 | U17: =IF(F17=0,Q17,S17) -> 6640 | V17: =B17-U17 -> 1280 | W17: =MIN(MAX($B17/2+($D$2-$E$2)/2,0),$B17) -> 3640 | X17: =MIN(MAX($B17/2+($E$2-$D$2)/2,0),$B17) -> 4280 | Y17: =IF(F17=1,IF(J17<$E$2,S17,I17),MIN(I17,Q17)) -> 5280 | Z17: =B17-Y17 -> 2640 | AA17: =$B17/2 -> 3960 | AB17: =$B17/2 -> 3960 | AC17: =K17/L17 -> 1
A18: 14 | B18: =$B$5*C18 -> 0 | D18: =IF(B18>=$D$2,1,0) -> 0 | E18: =IF(B18>=$E$2,1,0) -> 0 | F18: =IF(B18>=($D$2+$E$2),1,0) -> 0 | G18: =$B18/(1+($E$2/$D$2)) -> 0 | H18: =$B18/(1+($D$2/$E$2)) -> 0 | I18: =$B18/(1+1/$F$2) -> 0 | J18: =$B18/(1+$F$2) -> 0 | K18: =(G18+I18)/2 -> 0 | L18: =(H18+J18)/2 -> 0 | M18: =$B18/(1+1/$G$2) -> 0 | N18: =$B18/(1+$G$2) -> 0 | O18: =IF($F18=0,G18,D$2+(($B18-SUM($D$2:$E$2))/(1+1/$F$2))) -> 0 | P18: =IF($F18=0,H18,E$2+(($B18-SUM($D$2:$E$2))/(1+$F$2))) -> 0 | Q18: =MIN(B18,$D$2) -> 0 | R18: =B18-Q18 -> 0 | S18: =B18-T18 -> 0 | T18: =MIN(B18,$E$2) -> 0 | U18: =IF(F18=0,Q18,S18) -> 0 | V18: =B18-U18 -> 0 | W18: =MIN(MAX($B18/2+($D$2-$E$2)/2,0),$B18) -> 0 | X18: =MIN(MAX($B18/2+($E$2-$D$2)/2,0),$B18) -> 0 | Y18: =IF(D18=0,I18,IF(E18=0,Q18,IF(J18<$E$2,S18,I18))) -> 0 | Z18: =B18-Y18 -> 0 | AA18: =$B18/2 -> 0 | AB18: =$B18/2 -> 0 | AC18: =K18/L18 -> #DIV/0!
C20: =1920 -> 1920

Sheet Block 2 neu N
D1: Bedarf E | E1: Bedarf N | F1: Leistung A/B | G1: Verdienst A / Verdienst B | I1: Skalierung
D2: =Block2!C2*'Block 2 neu N'!$I$2 -> 384 | E2: =Block2!D2*'Block 2 neu N'!$I$2 -> 1536 | F2: 1 | G2: =(D2/E2)*F2 -> 0.25 | I2: 1.28 | J2: =D2+E2 -> 1920
G3: Relativ zum Bedarf | I3: Nach Leistung | K3: Arithm. Mitelwert Leistung und Bedarf | M3: Geometrischer Mitelwert Leistung und Bedarf | O3: Erst Bedarfe, dann Leistung | Q3: Priority E | S3: Priority N | U3: First Priority E, then Priority N | W3: Gleiche Distanz zum Bedarf | Y3: Priority E, then equity with lower bound of need N | AA3: Gleichverteilung
B4: Menge | D4: Bedarf E erfüllbar | E4: Bedarf N erfüllbar | F4: Beide Bedarfe erfüllbar | G4: E | H4: N | I4: E | J4: N | K4: E | L4: N | M4: E | N4: N | O4: E | P4: N | Q4: E | R4: N | S4: E | T4: N | U4: E | V4: N | W4: A | X4: B | Y4: E | Z4: N | AA4: A | AB4: B
A5: 1 | B5: 240 | D5: =IF(B5>=$D$2,1,0) -> 0 | E5: =IF(B5>=$E$2,1,0) -> 0 | F5: =IF(B5>=($D$2+$E$2),1,0) -> 0 | G5: =$B5/(1+($E$2/$D$2)) -> 48 | H5: =$B5/(1+($D$2/$E$2)) -> 192 | I5: =$B5/(1+1/$F$2) -> 120 | J5: =$B5/(1+$F$2) -> 120 | K5: =(G5+I5)/2 -> 84 | L5: =(H5+J5)/2 -> 156 | M5: =$B5/(1+1/$G$2) -> 48 | N5: =$B5/(1+$G$2) -> 192 | O5: =IF($F5=0,G5,D$2+(($B5-SUM($D$2:$E$2))/(1+1/$F$2))) -> 48 | P5: =IF($F5=0,H5,E$2+(($B5-SUM($D$2:$E$2))/(1+$F$2))) -> 192 | Q5: =MIN(B5,$D$2) -> 240 | R5: =B5-Q5 -> 0 | S5: =B5-T5 -> 0 | T5: =MIN(B5,$E$2) -> 240 | U5: =IF(F5=0,Q5,S5) -> 240 | V5: =B5-U5 -> 0 | W5: =MIN(MAX($B5/2+($D$2-$E$2)/2,0),$B5) -> 0 | X5: =MIN(MAX($B5/2+($E$2-$D$2)/2,0),$B5) -> 240 | Y5: =IF(F5=1,IF(J5<$E$2,S5,I5),MIN(I5,Q5)) -> 120 | Z5: =B5-Y5 -> 120 | AA5: =$B5/2 -> 120 | AB5: =$B5/2 -> 120 | AC5: =K5/L5 -> 0.53846154
A6: 2 | B6: =$B$5*C6 -> 360 | C6: 1.5 | D6: =IF(B6>=$D$2,1,0) -> 0 | E6: =IF(B6>=$E$2,1,0) -> 0 | F6: =IF(B6>=($D$2+$E$2),1,0) -> 0 | G6: =$B6/(1+($E$2/$D$2)) -> 72 | H6: =$B6/(1+($D$2/$E$2)) -> 288 | I6: =$B6/(1+1/$F$2) -> 180 | J6: =$B6/(1+$F$2) -> 180 | K6: =(G6+I6)/2 -> 126 | L6: =(H6+J6)/2 -> 234 | M6: =$B6/(1+1/$G$2) -> 72 | N6: =$B6/(1+$G$2) -> 288 | O6: =IF($F6=0,G6,D$2+(($B6-SUM($D$2:$E$2))/(1+1/$F$2))) -> 72 | P6: =IF($F6=0,H6,E$2+(($B6-SUM($D$2:$E$2))/(1+$F$2))) -> 288 | Q6: =MIN(B6,$D$2) -> 360 | R6: =B6-Q6 -> 0 | S6: =B6-T6 -> 0 | T6: =MIN(B6,$E$2) -> 360 | U6: =IF(F6=0,Q6,S6) -> 360 | V6: =B6-U6 -> 0 | W6: =MIN(MAX($B6/2+($D$2-$E$2)/2,0),$B6) -> 0 | X6: =MIN(MAX($B6/2+($E$2-$D$2)/2,0),$B6) -> 360 | Y6: =IF(F6=1,IF(J6<$E$2,S6,I6),MIN(I6,Q6)) -> 180 | Z6: =B6-Y6 -> 180 | AA6: =$B6/2 -> 180 | AB6: =$B6/2 -> 180 | AC6: =K6/L6 -> 0.53846154
A7: 3 | B7: =$B$5*C7 -> 480 | C7: 2 | D7: =IF(B7>=$D$2,1,0) -> 1 | E7: =IF(B7>=$E$2,1,0) -> 0 | F7: =IF(B7>=($D$2+$E$2),1,0) -> 0 | G7: =$B7/(1+($E$2/$D$2)) -> 96 | H7: =$B7/(1+($D$2/$E$2)) -> 384 | I7: =$B7/(1+1/$F$2) -> 240 | J7: =$B7/(1+$F$2) -> 240 | K7: =(G7+I7)/2 -> 168 | L7: =(H7+J7)/2 -> 312 | M7: =$B7/(1+1/$G$2) -> 96 | N7: =$B7/(1+$G$2) -> 384 | O7: =IF($F7=0,G7,D$2+(($B7-SUM($D$2:$E$2))/(1+1/$F$2))) -> 96 | P7: =IF($F7=0,H7,E$2+(($B7-SUM($D$2:$E$2))/(1+$F$2))) -> 384 | Q7: =MIN(B7,$D$2) -> 384 | R7: =B7-Q7 -> 96 | S7: =B7-T7 -> 0 | T7: =MIN(B7,$E$2) -> 480 | U7: =IF(F7=0,Q7,S7) -> 384 | V7: =B7-U7 -> 96 | W7: =MIN(MAX($B7/2+($D$2-$E$2)/2,0),$B7) -> 0 | X7: =MIN(MAX($B7/2+($E$2-$D$2)/2,0),$B7) -> 480 | Y7: =IF(F7=1,IF(J7<$E$2,S7,I7),MIN(I7,Q7)) -> 240 | Z7: =B7-Y7 -> 240 | AA7: =$B7/2 -> 240 | AB7: =$B7/2 -> 240 | AC7: =K7/L7 -> 0.53846154
A8: 4 | B8: =$B$5*C8 -> 720 | C8: 3 | D8: =IF(B8>=$D$2,1,0) -> 1 | E8: =IF(B8>=$E$2,1,0) -> 0 | F8: =IF(B8>=($D$2+$E$2),1,0) -> 0 | G8: =$B8/(1+($E$2/$D$2)) -> 144 | H8: =$B8/(1+($D$2/$E$2)) -> 576 | I8: =$B8/(1+1/$F$2) -> 360 | J8: =$B8/(1+$F$2) -> 360 | K8: =(G8+I8)/2 -> 252 | L8: =(H8+J8)/2 -> 468 | M8: =$B8/(1+1/$G$2) -> 144 | N8: =$B8/(1+$G$2) -> 576 | O8: =IF($F8=0,G8,D$2+(($B8-SUM($D$2:$E$2))/(1+1/$F$2))) -> 144 | P8: =IF($F8=0,H8,E$2+(($B8-SUM($D$2:$E$2))/(1+$F$2))) -> 576 | Q8: =MIN(B8,$D$2) -> 384 | R8: =B8-Q8 -> 336 | S8: =B8-T8 -> 0 | T8: =MIN(B8,$E$2) -> 720 | U8: =IF(F8=0,Q8,S8) -> 384 | V8: =B8-U8 -> 336 | W8: =MIN(MAX($B8/2+($D$2-$E$2)/2,0),$B8) -> 0 | X8: =MIN(MAX($B8/2+($E$2-$D$2)/2,0),$B8) -> 720 | Y8: =IF(F8=1,IF(J8<$E$2,S8,I8),MIN(I8,Q8)) -> 360 | Z8: =B8-Y8 -> 360 | AA8: =$B8/2 -> 360 | AB8: =$B8/2 -> 360 | AC8: =K8/L8 -> 0.53846154
A9: 5 | B9: =$B$5*C9 -> 1200 | C9: 5 | D9: =IF(B9>=$D$2,1,0) -> 1 | E9: =IF(B9>=$E$2,1,0) -> 0 | F9: =IF(B9>=($D$2+$E$2),1,0) -> 0 | G9: =$B9/(1+($E$2/$D$2)) -> 240 | H9: =$B9/(1+($D$2/$E$2)) -> 960 | I9: =$B9/(1+1/$F$2) -> 600 | J9: =$B9/(1+$F$2) -> 600 | K9: =(G9+I9)/2 -> 420 | L9: =(H9+J9)/2 -> 780 | M9: =$B9/(1+1/$G$2) -> 240 | N9: =$B9/(1+$G$2) -> 960 | O9: =IF($F9=0,G9,D$2+(($B9-SUM($D$2:$E$2))/(1+1/$F$2))) -> 240 | P9: =IF($F9=0,H9,E$2+(($B9-SUM($D$2:$E$2))/(1+$F$2))) -> 960 | Q9: =MIN(B9,$D$2) -> 384 | R9: =B9-Q9 -> 816 | S9: =B9-T9 -> 0 | T9: =MIN(B9,$E$2) -> 1200 | U9: =IF(F9=0,Q9,S9) -> 384 | V9: =B9-U9 -> 816 | W9: =MIN(MAX($B9/2+($D$2-$E$2)/2,0),$B9) -> 24 | X9: =MIN(MAX($B9/2+($E$2-$D$2)/2,0),$B9) -> 1176 | Y9: =IF(F9=1,IF(J9<$E$2,S9,I9),MIN(I9,Q9)) -> 384 | Z9: =B9-Y9 -> 816 | AA9: =$B9/2 -> 600 | AB9: =$B9/2 -> 600 | AC9: =K9/L9 -> 0.53846154
A10: 6 | B10: =$B$5*C10 -> 1680 | C10: 7 | D10: =IF(B10>=$D$2,1,0) -> 1 | E10: =IF(B10>=$E$2,1,0) -> 1 | F10: =IF(B10>=($D$2+$E$2),1,0) -> 0 | G10: =$B10/(1+($E$2/$D$2)) -> 336 | H10: =$B10/(1+($D$2/$E$2)) -> 1344 | I10: =$B10/(1+1/$F$2) -> 840 | J10: =$B10/(1+$F$2) -> 840 | K10: =(G10+I10)/2 -> 588 | L10: =(H10+J10)/2 -> 1092 | M10: =$B10/(1+1/$G$2) -> 336 | N10: =$B10/(1+$G$2) -> 1344 | O10: =IF($F10=0,G10,D$2+(($B10-SUM($D$2:$E$2))/(1+1/$F$2))) -> 336 | P10: =IF($F10=0,H10,E$2+(($B10-SUM($D$2:$E$2))/(1+$F$2))) -> 1344 | Q10: =MIN(B10,$D$2) -> 384 | R10: =B10-Q10 -> 1296 | S10: =B10-T10 -> 144 | T10: =MIN(B10,$E$2) -> 1536 | U10: =IF(F10=0,Q10,S10) -> 384 | V10: =B10-U10 -> 1296 | W10: =MIN(MAX($B10/2+($D$2-$E$2)/2,0),$B10) -> 264 | X10: =MIN(MAX($B10/2+($E$2-$D$2)/2,0),$B10) -> 1416 | Y10: =IF(F10=1,IF(J10<$E$2,S10,I10),MIN(I10,Q10)) -> 384 | Z10: =B10-Y10 -> 1296 | AA10: =$B10/2 -> 840 | AB10: =$B10/2 -> 840 | AC10: =K10/L10 -> 0.53846154
A11: 7 | B11: =$B$5*C11 -> 1920 | C11: 8 | D11: =IF(B11>=$D$2,1,0) -> 1 | E11: =IF(B11>=$E$2,1,0) -> 1 | F11: =IF(B11>=($D$2+$E$2),1,0) -> 1 | G11: =$B11/(1+($E$2/$D$2)) -> 384 | H11: =$B11/(1+($D$2/$E$2)) -> 1536 | I11: =$B11/(1+1/$F$2) -> 960 | J11: =$B11/(1+$F$2) -> 960 | K11: =(G11+I11)/2 -> 672 | L11: =(H11+J11)/2 -> 1248 | M11: =$B11/(1+1/$G$2) -> 384 | N11: =$B11/(1+$G$2) -> 1536 | O11: =IF($F11=0,G11,D$2+(($B11-SUM($D$2:$E$2))/(1+1/$F$2))) -> 384 | P11: =IF($F11=0,H11,E$2+(($B11-SUM($D$2:$E$2))/(1+$F$2))) -> 1536 | Q11: =MIN(B11,$D$2) -> 384 | R11: =B11-Q11 -> 1536 | S11: =B11-T11 -> 384 | T11: =MIN(B11,$E$2) -> 1536 | U11: =IF(F11=0,Q11,S11) -> 384 | V11: =B11-U11 -> 1536 | W11: =MIN(MAX($B11/2+($D$2-$E$2)/2,0),$B11) -> 384 | X11: =MIN(MAX($B11/2+($E$2-$D$2)/2,0),$B11) -> 1536 | Y11: =IF(F11=1,IF(J11<$E$2,S11,I11),MIN(I11,Q11)) -> 384 | Z11: =B11-Y11 -> 1536 | AA11: =$B11/2 -> 960 | AB11: =$B11/2 -> 960 | AC11: =K11/L11 -> 0.53846154
A12: 8 | B12: =$B$5*C12 -> 2400 | C12: 10 | D12: =IF(B12>=$D$2,1,0) -> 1 | E12: =IF(B12>=$E$2,1,0) -> 1 | F12: =IF(B12>=($D$2+$E$2),1,0) -> 1 | G12: =$B12/(1+($E$2/$D$2)) -> 480 | H12: =$B12/(1+($D$2/$E$2)) -> 1920 | I12: =$B12/(1+1/$F$2) -> 1200 | J12: =$B12/(1+$F$2) -> 1200 | K12: =(G12+I12)/2 -> 840 | L12: =(H12+J12)/2 -> 1560 | M12: =$B12/(1+1/$G$2) -> 480 | N12: =$B12/(1+$G$2) -> 1920 | O12: =IF($F12=0,G12,D$2+(($B12-SUM($D$2:$E$2))/(1+1/$F$2))) -> 624 | P12: =IF($F12=0,H12,E$2+(($B12-SUM($D$2:$E$2))/(1+$F$2))) -> 1776 | Q12: =MIN(B12,$D$2) -> 384 | R12: =B12-Q12 -> 2016 | S12: =B12-T12 -> 864 | T12: =MIN(B12,$E$2) -> 1536 | U12: =IF(F12=0,Q12,S12) -> 864 | V12: =B12-U12 -> 1536 | W12: =MIN(MAX($B12/2+($D$2-$E$2)/2,0),$B12) -> 624 | X12: =MIN(MAX($B12/2+($E$2-$D$2)/2,0),$B12) -> 1776 | Y12: =IF(F12=1,IF(J12<$E$2,S12,I12),MIN(I12,Q12)) -> 864 | Z12: =B12-Y12 -> 1536 | AA12: =$B12/2 -> 1200 | AB12: =$B12/2 -> 1200 | AC12: =K12/L12 -> 0.53846154
A13: 9 | B13: =$B$5*C13 -> 3120 | C13: 13 | D13: =IF(B13>=$D$2,1,0) -> 1 | E13: =IF(B13>=$E$2,1,0) -> 1 | F13: =IF(B13>=($D$2+$E$2),1,0) -> 1 | G13: =$B13/(1+($E$2/$D$2)) -> 624 | H13: =$B13/(1+($D$2/$E$2)) -> 2496 | I13: =$B13/(1+1/$F$2) -> 1560 | J13: =$B13/(1+$F$2) -> 1560 | K13: =(G13+I13)/2 -> 1092 | L13: =(H13+J13)/2 -> 2028 | M13: =$B13/(1+1/$G$2) -> 624 | N13: =$B13/(1+$G$2) -> 2496 | O13: =IF($F13=0,G13,D$2+(($B13-SUM($D$2:$E$2))/(1+1/$F$2))) -> 984 | P13: =IF($F13=0,H13,E$2+(($B13-SUM($D$2:$E$2))/(1+$F$2))) -> 2136 | Q13: =MIN(B13,$D$2) -> 384 | R13: =B13-Q13 -> 2736 | S13: =B13-T13 -> 1584 | T13: =MIN(B13,$E$2) -> 1536 | U13: =IF(F13=0,Q13,S13) -> 1584 | V13: =B13-U13 -> 1536 | W13: =MIN(MAX($B13/2+($D$2-$E$2)/2,0),$B13) -> 984 | X13: =MIN(MAX($B13/2+($E$2-$D$2)/2,0),$B13) -> 2136 | Y13: =IF(F13=1,IF(J13<$E$2,S13,I13),MIN(I13,Q13)) -> 1560 | Z13: =B13-Y13 -> 1560 | AA13: =$B13/2 -> 1560 | AB13: =$B13/2 -> 1560 | AC13: =K13/L13 -> 0.53846154
A14: 10 | B14: =$B$5*C14 -> 4320 | C14: 18 | D14: =IF(B14>=$D$2,1,0) -> 1 | E14: =IF(B14>=$E$2,1,0) -> 1 | F14: =IF(B14>=($D$2+$E$2),1,0) -> 1 | G14: =$B14/(1+($E$2/$D$2)) -> 864 | H14: =$B14/(1+($D$2/$E$2)) -> 3456 | I14: =$B14/(1+1/$F$2) -> 2160 | J14: =$B14/(1+$F$2) -> 2160 | K14: =(G14+I14)/2 -> 1512 | L14: =(H14+J14)/2 -> 2808 | M14: =$B14/(1+1/$G$2) -> 864 | N14: =$B14/(1+$G$2) -> 3456 | O14: =IF($F14=0,G14,D$2+(($B14-SUM($D$2:$E$2))/(1+1/$F$2))) -> 1584 | P14: =IF($F14=0,H14,E$2+(($B14-SUM($D$2:$E$2))/(1+$F$2))) -> 2736 | Q14: =MIN(B14,$D$2) -> 384 | R14: =B14-Q14 -> 3936 | S14: =B14-T14 -> 2784 | T14: =MIN(B14,$E$2) -> 1536 | U14: =IF(F14=0,Q14,S14) -> 2784 | V14: =B14-U14 -> 1536 | W14: =MIN(MAX($B14/2+($D$2-$E$2)/2,0),$B14) -> 1584 | X14: =MIN(MAX($B14/2+($E$2-$D$2)/2,0),$B14) -> 2736 | Y14: =IF(F14=1,IF(J14<$E$2,S14,I14),MIN(I14,Q14)) -> 2160 | Z14: =B14-Y14 -> 2160 | AA14: =$B14/2 -> 2160 | AB14: =$B14/2 -> 2160 | AC14: =K14/L14 -> 0.53846154
A15: 11 | B15: =$B$5*C15 -> 5520 | C15: 23 | D15: =IF(B15>=$D$2,1,0) -> 1 | E15: =IF(B15>=$E$2,1,0) -> 1 | F15: =IF(B15>=($D$2+$E$2),1,0) -> 1 | G15: =$B15/(1+($E$2/$D$2)) -> 1104 | H15: =$B15/(1+($D$2/$E$2)) -> 4416 | I15: =$B15/(1+1/$F$2) -> 2760 | J15: =$B15/(1+$F$2) -> 2760 | K15: =(G15+I15)/2 -> 1932 | L15: =(H15+J15)/2 -> 3588 | M15: =$B15/(1+1/$G$2) -> 1104 | N15: =$B15/(1+$G$2) -> 4416 | O15: =IF($F15=0,G15,D$2+(($B15-SUM($D$2:$E$2))/(1+1/$F$2))) -> 2184 | P15: =IF($F15=0,H15,E$2+(($B15-SUM($D$2:$E$2))/(1+$F$2))) -> 3336 | Q15: =MIN(B15,$D$2) -> 384 | R15: =B15-Q15 -> 5136 | S15: =B15-T15 -> 3984 | T15: =MIN(B15,$E$2) -> 1536 | U15: =IF(F15=0,Q15,S15) -> 3984 | V15: =B15-U15 -> 1536 | W15: =MIN(MAX($B15/2+($D$2-$E$2)/2,0),$B15) -> 2184 | X15: =MIN(MAX($B15/2+($E$2-$D$2)/2,0),$B15) -> 3336 | Y15: =IF(F15=1,IF(J15<$E$2,S15,I15),MIN(I15,Q15)) -> 2760 | Z15: =B15-Y15 -> 2760 | AA15: =$B15/2 -> 2760 | AB15: =$B15/2 -> 2760 | AC15: =K15/L15 -> 0.53846154
A16: 12 | B16: =$B$5*C16 -> 6720 | C16: 28 | D16: =IF(B16>=$D$2,1,0) -> 1 | E16: =IF(B16>=$E$2,1,0) -> 1 | F16: =IF(B16>=($D$2+$E$2),1,0) -> 1 | G16: =$B16/(1+($E$2/$D$2)) -> 1344 | H16: =$B16/(1+($D$2/$E$2)) -> 5376 | I16: =$B16/(1+1/$F$2) -> 3360 | J16: =$B16/(1+$F$2) -> 3360 | K16: =(G16+I16)/2 -> 2352 | L16: =(H16+J16)/2 -> 4368 | M16: =$B16/(1+1/$G$2) -> 1344 | N16: =$B16/(1+$G$2) -> 5376 | O16: =IF($F16=0,G16,D$2+(($B16-SUM($D$2:$E$2))/(1+1/$F$2))) -> 2784 | P16: =IF($F16=0,H16,E$2+(($B16-SUM($D$2:$E$2))/(1+$F$2))) -> 3936 | Q16: =MIN(B16,$D$2) -> 384 | R16: =B16-Q16 -> 6336 | S16: =B16-T16 -> 5184 | T16: =MIN(B16,$E$2) -> 1536 | U16: =IF(F16=0,Q16,S16) -> 5184 | V16: =B16-U16 -> 1536 | W16: =MIN(MAX($B16/2+($D$2-$E$2)/2,0),$B16) -> 2784 | X16: =MIN(MAX($B16/2+($E$2-$D$2)/2,0),$B16) -> 3936 | Y16: =IF(F16=1,IF(J16<$E$2,S16,I16),MIN(I16,Q16)) -> 3360 | Z16: =B16-Y16 -> 3360 | AA16: =$B16/2 -> 3360 | AB16: =$B16/2 -> 3360 | AC16: =K16/L16 -> 0.53846154
A17: 13 | B17: =$B$5*C17 -> 7920 | C17: 33 | D17: =IF(B17>=$D$2,1,0) -> 1 | E17: =IF(B17>=$E$2,1,0) -> 1 | F17: =IF(B17>=($D$2+$E$2),1,0) -> 1 | G17: =$B17/(1+($E$2/$D$2)) -> 1584 | H17: =$B17/(1+($D$2/$E$2)) -> 6336 | I17: =$B17/(1+1/$F$2) -> 3960 | J17: =$B17/(1+$F$2) -> 3960 | K17: =(G17+I17)/2 -> 2772 | L17: =(H17+J17)/2 -> 5148 | M17: =$B17/(1+1/$G$2) -> 1584 | N17: =$B17/(1+$G$2) -> 6336 | O17: =IF($F17=0,G17,D$2+(($B17-SUM($D$2:$E$2))/(1+1/$F$2))) -> 3384 | P17: =IF($F17=0,H17,E$2+(($B17-SUM($D$2:$E$2))/(1+$F$2))) -> 4536 | Q17: =MIN(B17,$D$2) -> 384 | R17: =B17-Q17 -> 7536 | S17: =B17-T17 -> 6384 | T17: =MIN(B17,$E$2) -> 1536 | U17: =IF(F17=0,Q17,S17) -> 6384 | V17: =B17-U17 -> 1536 | W17: =MIN(MAX($B17/2+($D$2-$E$2)/2,0),$B17) -> 3384 | X17: =MIN(MAX($B17/2+($E$2-$D$2)/2,0),$B17) -> 4536 | Y17: =IF(F17=1,IF(J17<$E$2,S17,I17),MIN(I17,Q17)) -> 3960 | Z17: =B17-Y17 -> 3960 | AA17: =$B17/2 -> 3960 | AB17: =$B17/2 -> 3960 | AC17: =K17/L17 -> 0.53846154
A18: 14 | B18: =$B$5*C18 -> 0 | D18: =IF(B18>=$D$2,1,0) -> 0 | E18: =IF(B18>=$E$2,1,0) -> 0 | F18: =IF(B18>=($D$2+$E$2),1,0) -> 0 | G18: =$B18/(1+($E$2/$D$2)) -> 0 | H18: =$B18/(1+($D$2/$E$2)) -> 0 | I18: =$B18/(1+1/$F$2) -> 0 | J18: =$B18/(1+$F$2) -> 0 | K18: =(G18+I18)/2 -> 0 | L18: =(H18+J18)/2 -> 0 | M18: =$B18/(1+1/$G$2) -> 0 | N18: =$B18/(1+$G$2) -> 0 | O18: =IF($F18=0,G18,D$2+(($B18-SUM($D$2:$E$2))/(1+1/$F$2))) -> 0 | P18: =IF($F18=0,H18,E$2+(($B18-SUM($D$2:$E$2))/(1+$F$2))) -> 0 | Q18: =MIN(B18,$D$2) -> 0 | R18: =B18-Q18 -> 0 | S18: =B18-T18 -> 0 | T18: =MIN(B18,$E$2) -> 0 | U18: =IF(F18=0,Q18,S18) -> 0 | V18: =B18-U18 -> 0 | W18: =MIN(MAX($B18/2+($D$2-$E$2)/2,0),$B18) -> 0 | X18: =MIN(MAX($B18/2+($E$2-$D$2)/2,0),$B18) -> 0 | Y18: =IF(D18=0,I18,IF(E18=0,Q18,IF(J18<$E$2,S18,I18))) -> 0 | Z18: =B18-Y18 -> 0 | AA18: =$B18/2 -> 0 | AB18: =$B18/2 -> 0 | AC18: =K18/L18 -> #DIV/0!
C20: =1920 -> 1920
A22: Voll nach Leistung heißt:
A23: Block 1: 1/5 für B und 4/5 A
A24: 0 nach Leistung heißt:

Sheet Block 2 neu E
D1: Bedarf E | E1: Bedarf N | F1: Leistung A/B | G1: Verdienst A / Verdienst B | I1: Skalierung
D2: =('Block1 alte Studie'!C2*'Block 1 neu E'!$I$2+'Block1 alte Studie'!D2*'Block 1 neu E'!$I$2)/2 -> 960 | E2: =('Block1 alte Studie'!C2*'Block 1 neu E'!$I$2+'Block1 alte Studie'!D2*'Block 1 neu E'!$I$2)/2 -> 960 | F2: 4 | G2: =(D2/E2)*F2 -> 4 | I2: 1.28 | J2: =D2+E2 -> 1920
G3: Relativ zum Bedarf | I3: Nach Leistung | K3: Arithm. Mitelwert Leistung und Bedarf | M3: Geometrischer Mitelwert Leistung und Bedarf | O3: Erst Bedarfe, dann Leistung | Q3: Priority E | S3: Priority N | U3: First Priority E, then Priority N | W3: Gleiche Distanz zum Bedarf | Y3: Priority E, then equity with lower bound of need N | AA3: Gleichverteilung
B4: Menge | D4: Bedarf E erfüllbar | E4: Bedarf N erfüllbar | F4: Beide Bedarfe erfüllbar | G4: E | H4: N | I4: E | J4: N | K4: E | L4: N | M4: E | N4: N | O4: E | P4: N | Q4: E | R4: N | S4: E | T4: N | U4: E | V4: N | W4: A | X4: B | Y4: E | Z4: N | AA4: A | AB4: B
A5: 1 | B5: 240 | D5: =IF(B5>=$D$2,1,0) -> 0 | E5: =IF(B5>=$E$2,1,0) -> 0 | F5: =IF(B5>=($D$2+$E$2),1,0) -> 0 | G5: =$B5/(1+($E$2/$D$2)) -> 120 | H5: =$B5/(1+($D$2/$E$2)) -> 120 | I5: =$B5/(1+1/$F$2) -> 192 | J5: =$B5/(1+$F$2) -> 48 | K5: =(G5+I5)/2 -> 156 | L5: =(H5+J5)/2 -> 84 | M5: =$B5/(1+1/$G$2) -> 192 | N5: =$B5/(1+$G$2) -> 48 | O5: =IF($F5=0,G5,D$2+(($B5-SUM($D$2:$E$2))/(1+1/$F$2))) -> 120 | P5: =IF($F5=0,H5,E$2+(($B5-SUM($D$2:$E$2))/(1+$F$2))) -> 120 | Q5: =MIN(B5,$D$2) -> 240 | R5: =B5-Q5 -> 0 | S5: =B5-T5 -> 0 | T5: =MIN(B5,$E$2) -> 240 | U5: =IF(F5=0,Q5,S5) -> 240 | V5: =B5-U5 -> 0 | W5: =MIN(MAX($B5/2+($D$2-$E$2)/2,0),$B5) -> 120 | X5: =MIN(MAX($B5/2+($E$2-$D$2)/2,0),$B5) -> 120 | Y5: =IF(F5=1,IF(J5<$E$2,S5,I5),MIN(I5,Q5)) -> 192 | Z5: =B5-Y5 -> 48 | AA5: =$B5/2 -> 120 | AB5: =$B5/2 -> 120 | AC5: =K5/L5 -> 1.8571429
A6: 2 | B6: =$B$5*C6 -> 360 | C6: 1.5 | D6: =IF(B6>=$D$2,1,0) -> 0 | E6: =IF(B6>=$E$2,1,0) -> 0 | F6: =IF(B6>=($D$2+$E$2),1,0) -> 0 | G6: =$B6/(1+($E$2/$D$2)) -> 180 | H6: =$B6/(1+($D$2/$E$2)) -> 180 | I6: =$B6/(1+1/$F$2) -> 288 | J6: =$B6/(1+$F$2) -> 72 | K6: =(G6+I6)/2 -> 234 | L6: =(H6+J6)/2 -> 126 | M6: =$B6/(1+1/$G$2) -> 288 | N6: =$B6/(1+$G$2) -> 72 | O6: =IF($F6=0,G6,D$2+(($B6-SUM($D$2:$E$2))/(1+1/$F$2))) -> 180 | P6: =IF($F6=0,H6,E$2+(($B6-SUM($D$2:$E$2))/(1+$F$2))) -> 180 | Q6: =MIN(B6,$D$2) -> 360 | R6: =B6-Q6 -> 0 | S6: =B6-T6 -> 0 | T6: =MIN(B6,$E$2) -> 360 | U6: =IF(F6=0,Q6,S6) -> 360 | V6: =B6-U6 -> 0 | W6: =MIN(MAX($B6/2+($D$2-$E$2)/2,0),$B6) -> 180 | X6: =MIN(MAX($B6/2+($E$2-$D$2)/2,0),$B6) -> 180 | Y6: =IF(F6=1,IF(J6<$E$2,S6,I6),MIN(I6,Q6)) -> 288 | Z6: =B6-Y6 -> 72 | AA6: =$B6/2 -> 180 | AB6: =$B6/2 -> 180 | AC6: =K6/L6 -> 1.8571429
A7: 3 | B7: =$B$5*C7 -> 480 | C7: 2 | D7: =IF(B7>=$D$2,1,0) -> 0 | E7: =IF(B7>=$E$2,1,0) -> 0 | F7: =IF(B7>=($D$2+$E$2),1,0) -> 0 | G7: =$B7/(1+($E$2/$D$2)) -> 240 | H7: =$B7/(1+($D$2/$E$2)) -> 240 | I7: =$B7/(1+1/$F$2) -> 384 | J7: =$B7/(1+$F$2) -> 96 | K7: =(G7+I7)/2 -> 312 | L7: =(H7+J7)/2 -> 168 | M7: =$B7/(1+1/$G$2) -> 384 | N7: =$B7/(1+$G$2) -> 96 | O7: =IF($F7=0,G7,D$2+(($B7-SUM($D$2:$E$2))/(1+1/$F$2))) -> 240 | P7: =IF($F7=0,H7,E$2+(($B7-SUM($D$2:$E$2))/(1+$F$2))) -> 240 | Q7: =MIN(B7,$D$2) -> 480 | R7: =B7-Q7 -> 0 | S7: =B7-T7 -> 0 | T7: =MIN(B7,$E$2) -> 480 | U7: =IF(F7=0,Q7,S7) -> 480 | V7: =B7-U7 -> 0 | W7: =MIN(MAX($B7/2+($D$2-$E$2)/2,0),$B7) -> 240 | X7: =MIN(MAX($B7/2+($E$2-$D$2)/2,0),$B7) -> 240 | Y7: =IF(F7=1,IF(J7<$E$2,S7,I7),MIN(I7,Q7)) -> 384 | Z7: =B7-Y7 -> 96 | AA7: =$B7/2 -> 240 | AB7: =$B7/2 -> 240 | AC7: =K7/L7 -> 1.8571429
A8: 4 | B8: =$B$5*C8 -> 720 | C8: 3 | D8: =IF(B8>=$D$2,1,0) -> 0 | E8: =IF(B8>=$E$2,1,0) -> 0 | F8: =IF(B8>=($D$2+$E$2),1,0) -> 0 | G8: =$B8/(1+($E$2/$D$2)) -> 360 | H8: =$B8/(1+($D$2/$E$2)) -> 360 | I8: =$B8/(1+1/$F$2) -> 576 | J8: =$B8/(1+$F$2) -> 144 | K8: =(G8+I8)/2 -> 468 | L8: =(H8+J8)/2 -> 252 | M8: =$B8/(1+1/$G$2) -> 576 | N8: =$B8/(1+$G$2) -> 144 | O8: =IF($F8=0,G8,D$2+(($B8-SUM($D$2:$E$2))/(1+1/$F$2))) -> 360 | P8: =IF($F8=0,H8,E$2+(($B8-SUM($D$2:$E$2))/(1+$F$2))) -> 360 | Q8: =MIN(B8,$D$2) -> 720 | R8: =B8-Q8 -> 0 | S8: =B8-T8 -> 0 | T8: =MIN(B8,$E$2) -> 720 | U8: =IF(F8=0,Q8,S8) -> 720 | V8: =B8-U8 -> 0 | W8: =MIN(MAX($B8/2+($D$2-$E$2)/2,0),$B8) -> 360 | X8: =MIN(MAX($B8/2+($E$2-$D$2)/2,0),$B8) -> 360 | Y8: =IF(F8=1,IF(J8<$E$2,S8,I8),MIN(I8,Q8)) -> 576 | Z8: =B8-Y8 -> 144 | AA8: =$B8/2 -> 360 | AB8: =$B8/2 -> 360 | AC8: =K8/L8 -> 1.8571429
A9: 5 | B9: =$B$5*C9 -> 1200 | C9: 5 | D9: =IF(B9>=$D$2,1,0) -> 1 | E9: =IF(B9>=$E$2,1,0) -> 1 | F9: =IF(B9>=($D$2+$E$2),1,0) -> 0 | G9: =$B9/(1+($E$2/$D$2)) -> 600 | H9: =$B9/(1+($D$2/$E$2)) -> 600 | I9: =$B9/(1+1/$F$2) -> 960 | J9: =$B9/(1+$F$2) -> 240 | K9: =(G9+I9)/2 -> 780 | L9: =(H9+J9)/2 -> 420 | M9: =$B9/(1+1/$G$2) -> 960 | N9: =$B9/(1+$G$2) -> 240 | O9: =IF($F9=0,G9,D$2+(($B9-SUM($D$2:$E$2))/(1+1/$F$2))) -> 600 | P9: =IF($F9=0,H9,E$2+(($B9-SUM($D$2:$E$2))/(1+$F$2))) -> 600 | Q9: =MIN(B9,$D$2) -> 960 | R9: =B9-Q9 -> 240 | S9: =B9-T9 -> 240 | T9: =MIN(B9,$E$2) -> 960 | U9: =IF(F9=0,Q9,S9) -> 960 | V9: =B9-U9 -> 240 | W9: =MIN(MAX($B9/2+($D$2-$E$2)/2,0),$B9) -> 600 | X9: =MIN(MAX($B9/2+($E$2-$D$2)/2,0),$B9) -> 600 | Y9: =IF(F9=1,IF(J9<$E$2,S9,I9),MIN(I9,Q9)) -> 960 | Z9: =B9-Y9 -> 240 | AA9: =$B9/2 -> 600 | AB9: =$B9/2 -> 600 | AC9: =K9/L9 -> 1.8571429
A10: 6 | B10: =$B$5*C10 -> 1680 | C10: 7 | D10: =IF(B10>=$D$2,1,0) -> 1 | E10: =IF(B10>=$E$2,1,0) -> 1 | F10: =IF(B10>=($D$2+$E$2),1,0) -> 0 | G10: =$B10/(1+($E$2/$D$2)) -> 840 | H10: =$B10/(1+($D$2/$E$2)) -> 840 | I10: =$B10/(1+1/$F$2) -> 1344 | J10: =$B10/(1+$F$2) -> 336 | K10: =(G10+I10)/2 -> 1092 | L10: =(H10+J10)/2 -> 588 | M10: =$B10/(1+1/$G$2) -> 1344 | N10: =$B10/(1+$G$2) -> 336 | O10: =IF($F10=0,G10,D$2+(($B10-SUM($D$2:$E$2))/(1+1/$F$2))) -> 840 | P10: =IF($F10=0,H10,E$2+(($B10-SUM($D$2:$E$2))/(1+$F$2))) -> 840 | Q10: =MIN(B10,$D$2) -> 960 | R10: =B10-Q10 -> 720 | S10: =B10-T10 -> 720 | T10: =MIN(B10,$E$2) -> 960 | U10: =IF(F10=0,Q10,S10) -> 960 | V10: =B10-U10 -> 720 | W10: =MIN(MAX($B10/2+($D$2-$E$2)/2,0),$B10) -> 840 | X10: =MIN(MAX($B10/2+($E$2-$D$2)/2,0),$B10) -> 840 | Y10: =IF(F10=1,IF(J10<$E$2,S10,I10),MIN(I10,Q10)) -> 960 | Z10: =B10-Y10 -> 720 | AA10: =$B10/2 -> 840 | AB10: =$B10/2 -> 840 | AC10: =K10/L10 -> 1.8571429
A11: 7 | B11: =$B$5*C11 -> 1920 | C11: 8 | D11: =IF(B11>=$D$2,1,0) -> 1 | E11: =IF(B11>=$E$2,1,0) -> 1 | F11: =IF(B11>=($D$2+$E$2),1,0) -> 1 | G11: =$B11/(1+($E$2/$D$2)) -> 960 | H11: =$B11/(1+($D$2/$E$2)) -> 960 | I11: =$B11/(1+1/$F$2) -> 1536 | J11: =$B11/(1+$F$2) -> 384 | K11: =(G11+I11)/2 -> 1248 | L11: =(H11+J11)/2 -> 672 | M11: =$B11/(1+1/$G$2) -> 1536 | N11: =$B11/(1+$G$2) -> 384 | O11: =IF($F11=0,G11,D$2+(($B11-SUM($D$2:$E$2))/(1+1/$F$2))) -> 960 | P11: =IF($F11=0,H11,E$2+(($B11-SUM($D$2:$E$2))/(1+$F$2))) -> 960 | Q11: =MIN(B11,$D$2) -> 960 | R11: =B11-Q11 -> 960 | S11: =B11-T11 -> 960 | T11: =MIN(B11,$E$2) -> 960 | U11: =IF(F11=0,Q11,S11) -> 960 | V11: =B11-U11 -> 960 | W11: =MIN(MAX($B11/2+($D$2-$E$2)/2,0),$B11) -> 960 | X11: =MIN(MAX($B11/2+($E$2-$D$2)/2,0),$B11) -> 960 | Y11: =IF(F11=1,IF(J11<$E$2,S11,I11),MIN(I11,Q11)) -> 960 | Z11: =B11-Y11 -> 960 | AA11: =$B11/2 -> 960 | AB11: =$B11/2 -> 960 | AC11: =K11/L11 -> 1.8571429
A12: 8 | B12: =$B$5*C12 -> 2400 | C12: 10 | D12: =IF(B12>=$D$2,1,0) -> 1 | E12: =IF(B12>=$E$2,1,0) -> 1 | F12: =IF(B12>=($D$2+$E$2),1,0) -> 1 | G12: =$B12/(1+($E$2/$D$2)) -> 1200 | H12: =$B12/(1+($D$2/$E$2)) -> 1200 | I12: =$B12/(1+1/$F$2) -> 1920 | J12: =$B12/(1+$F$2) -> 480 | K12: =(G12+I12)/2 -> 1560 | L12: =(H12+J12)/2 -> 840 | M12: =$B12/(1+1/$G$2) -> 1920 | N12: =$B12/(1+$G$2) -> 480 | O12: =IF($F12=0,G12,D$2+(($B12-SUM($D$2:$E$2))/(1+1/$F$2))) -> 1344 | P12: =IF($F12=0,H12,E$2+(($B12-SUM($D$2:$E$2))/(1+$F$2))) -> 1056 | Q12: =MIN(B12,$D$2) -> 960 | R12: =B12-Q12 -> 1440 | S12: =B12-T12 -> 1440 | T12: =MIN(B12,$E$2) -> 960 | U12: =IF(F12=0,Q12,S12) -> 1440 | V12: =B12-U12 -> 960 | W12: =MIN(MAX($B12/2+($D$2-$E$2)/2,0),$B12) -> 1200 | X12: =MIN(MAX($B12/2+($E$2-$D$2)/2,0),$B12) -> 1200 | Y12: =IF(F12=1,IF(J12<$E$2,S12,I12),MIN(I12,Q12)) -> 1440 | Z12: =B12-Y12 -> 960 | AA12: =$B12/2 -> 1200 | AB12: =$B12/2 -> 1200 | AC12: =K12/L12 -> 1.8571429
A13: 9 | B13: =$B$5*C13 -> 3120 | C13: 13 | D13: =IF(B13>=$D$2,1,0) -> 1 | E13: =IF(B13>=$E$2,1,0) -> 1 | F13: =IF(B13>=($D$2+$E$2),1,0) -> 1 | G13: =$B13/(1+($E$2/$D$2)) -> 1560 | H13: =$B13/(1+($D$2/$E$2)) -> 1560 | I13: =$B13/(1+1/$F$2) -> 2496 | J13: =$B13/(1+$F$2) -> 624 | K13: =(G13+I13)/2 -> 2028 | L13: =(H13+J13)/2 -> 1092 | M13: =$B13/(1+1/$G$2) -> 2496 | N13: =$B13/(1+$G$2) -> 624 | O13: =IF($F13=0,G13,D$2+(($B13-SUM($D$2:$E$2))/(1+1/$F$2))) -> 1920 | P13: =IF($F13=0,H13,E$2+(($B13-SUM($D$2:$E$2))/(1+$F$2))) -> 1200 | Q13: =MIN(B13,$D$2) -> 960 | R13: =B13-Q13 -> 2160 | S13: =B13-T13 -> 2160 | T13: =MIN(B13,$E$2) -> 960 | U13: =IF(F13=0,Q13,S13) -> 2160 | V13: =B13-U13 -> 960 | W13: =MIN(MAX($B13/2+($D$2-$E$2)/2,0),$B13) -> 1560 | X13: =MIN(MAX($B13/2+($E$2-$D$2)/2,0),$B13) -> 1560 | Y13: =IF(F13=1,IF(J13<$E$2,S13,I13),MIN(I13,Q13)) -> 2160 | Z13: =B13-Y13 -> 960 | AA13: =$B13/2 -> 1560 | AB13: =$B13/2 -> 1560 | AC13: =K13/L13 -> 1.8571429
A14: 10 | B14: =$B$5*C14 -> 4320 | C14: 18 | D14: =IF(B14>=$D$2,1,0) -> 1 | E14: =IF(B14>=$E$2,1,0) -> 1 | F14: =IF(B14>=($D$2+$E$2),1,0) -> 1 | G14: =$B14/(1+($E$2/$D$2)) -> 2160 | H14: =$B14/(1+($D$2/$E$2)) -> 2160 | I14: =$B14/(1+1/$F$2) -> 3456 | J14: =$B14/(1+$F$2) -> 864 | K14: =(G14+I14)/2 -> 2808 | L14: =(H14+J14)/2 -> 1512 | M14: =$B14/(1+1/$G$2) -> 3456 | N14: =$B14/(1+$G$2) -> 864 | O14: =IF($F14=0,G14,D$2+(($B14-SUM($D$2:$E$2))/(1+1/$F$2))) -> 2880 | P14: =IF($F14=0,H14,E$2+(($B14-SUM($D$2:$E$2))/(1+$F$2))) -> 1440 | Q14: =MIN(B14,$D$2) -> 960 | R14: =B14-Q14 -> 3360 | S14: =B14-T14 -> 3360 | T14: =MIN(B14,$E$2) -> 960 | U14: =IF(F14=0,Q14,S14) -> 3360 | V14: =B14-U14 -> 960 | W14: =MIN(MAX($B14/2+($D$2-$E$2)/2,0),$B14) -> 2160 | X14: =MIN(MAX($B14/2+($E$2-$D$2)/2,0),$B14) -> 2160 | Y14: =IF(F14=1,IF(J14<$E$2,S14,I14),MIN(I14,Q14)) -> 3360 | Z14: =B14-Y14 -> 960 | AA14: =$B14/2 -> 2160 | AB14: =$B14/2 -> 2160 | AC14: =K14/L14 -> 1.8571429
A15: 11 | B15: =$B$5*C15 -> 5520 | C15: 23 | D15: =IF(B15>=$D$2,1,0) -> 1 | E15: =IF(B15>=$E$2,1,0) -> 1 | F15: =IF(B15>=($D$2+$E$2),1,0) -> 1 | G15: =$B15/(1+($E$2/$D$2)) -> 2760 | H15: =$B15/(1+($D$2/$E$2)) -> 2760 | I15: =$B15/(1+1/$F$2) -> 4416 | J15: =$B15/(1+$F$2) -> 1104 | K15: =(G15+I15)/2 -> 3588 | L15: =(H15+J15)/2 -> 1932 | M15: =$B15/(1+1/$G$2) -> 4416 | N15: =$B15/(1+$G$2) -> 1104 | O15: =IF($F15=0,G15,D$2+(($B15-SUM($D$2:$E$2))/(1+1/$F$2))) -> 3840 | P15: =IF($F15=0,H15,E$2+(($B15-SUM($D$2:$E$2))/(1+$F$2))) -> 1680 | Q15: =MIN(B15,$D$2) -> 960 | R15: =B15-Q15 -> 4560 | S15: =B15-T15 -> 4560 | T15: =MIN(B15,$E$2) -> 960 | U15: =IF(F15=0,Q15,S15) -> 4560 | V15: =B15-U15 -> 960 | W15: =MIN(MAX($B15/2+($D$2-$E$2)/2,0),$B15) -> 2760 | X15: =MIN(MAX($B15/2+($E$2-$D$2)/2,0),$B15) -> 2760 | Y15: =IF(F15=1,IF(J15<$E$2,S15,I15),MIN(I15,Q15)) -> 4416 | Z15: =B15-Y15 -> 1104 | AA15: =$B15/2 -> 2760 | AB15: =$B15/2 -> 2760 | AC15: =K15/L15 -> 1.8571429
A16: 12 | B16: =$B$5*C16 -> 6720 | C16: 28 | D16: =IF(B16>=$D$2,1,0) -> 1 | E16: =IF(B16>=$E$2,1,0) -> 1 | F16: =IF(B16>=($D$2+$E$2),1,0) -> 1 | G16: =$B16/(1+($E$2/$D$2)) -> 3360 | H16: =$B16/(1+($D$2/$E$2)) -> 3360 | I16: =$B16/(1+1/$F$2) -> 5376 | J16: =$B16/(1+$F$2) -> 1344 | K16: =(G16+I16)/2 -> 4368 | L16: =(H16+J16)/2 -> 2352 | M16: =$B16/(1+1/$G$2) -> 5376 | N16: =$B16/(1+$G$2) -> 1344 | O16: =IF($F16=0,G16,D$2+(($B16-SUM($D$2:$E$2))/(1+1/$F$2))) -> 4800 | P16: =IF($F16=0,H16,E$2+(($B16-SUM($D$2:$E$2))/(1+$F$2))) -> 1920 | Q16: =MIN(B16,$D$2) -> 960 | R16: =B16-Q16 -> 5760 | S16: =B16-T16 -> 5760 | T16: =MIN(B16,$E$2) -> 960 | U16: =IF(F16=0,Q16,S16) -> 5760 | V16: =B16-U16 -> 960 | W16: =MIN(MAX($B16/2+($D$2-$E$2)/2,0),$B16) -> 3360 | X16: =MIN(MAX($B16/2+($E$2-$D$2)/2,0),$B16) -> 3360 | Y16: =IF(F16=1,IF(J16<$E$2,S16,I16),MIN(I16,Q16)) -> 5376 | Z16: =B16-Y16 -> 1344 | AA16: =$B16/2 -> 3360 | AB16: =$B16/2 -> 3360 | AC16: =K16/L16 -> 1.8571429
A17: 13 | B17: =$B$5*C17 -> 7920 | C17: 33 | D17: =IF(B17>=$D$2,1,0) -> 1 | E17: =IF(B17>=$E$2,1,0) -> 1 | F17: =IF(B17>=($D$2+$E$2),1,0) -> 1 | G17: =$B17/(1+($E$2/$D$2)) -> 3960 | H17: =$B17/(1+($D$2/$E$2)) -> 3960 | I17: =$B17/(1+1/$F$2) -> 6336 | J17: =$B17/(1+$F$2) -> 1584 | K17: =(G17+I17)/2 -> 5148 | L17: =(H17+J17)/2 -> 2772 | M17: =$B17/(1+1/$G$2) -> 6336 | N17: =$B17/(1+$G$2) -> 1584 | O17: =IF($F17=0,G17,D$2+(($B17-SUM($D$2:$E$2))/(1+1/$F$2))) -> 5760 | P17: =IF($F17=0,H17,E$2+(($B17-SUM($D$2:$E$2))/(1+$F$2))) -> 2160 | Q17: =MIN(B17,$D$2) -> 960 | R17: =B17-Q17 -> 6960 | S17: =B17-T17 -> 6960 | T17: =MIN(B17,$E$2) -> 960 | U17: =IF(F17=0,Q17,S17) -> 6960 | V17: =B17-U17 -> 960 | W17: =MIN(MAX($B17/2+($D$2-$E$2)/2,0),$B17) -> 3960 | X17: =MIN(MAX($B17/2+($E$2-$D$2)/2,0),$B17) -> 3960 | Y17: =IF(F17=1,IF(J17<$E$2,S17,I17),MIN(I17,Q17)) -> 6336 | Z17: =B17-Y17 -> 1584 | AA17: =$B17/2 -> 3960 | AB17: =$B17/2 -> 3960 | AC17: =K17/L17 -> 1.8571429
A18: 14 | B18: =$B$5*C18 -> 0 | D18: =IF(B18>=$D$2,1,0) -> 0 | E18: =IF(B18>=$E$2,1,0) -> 0 | F18: =IF(B18>=($D$2+$E$2),1,0) -> 0 | G18: =$B18/(1+($E$2/$D$2)) -> 0 | H18: =$B18/(1+($D$2/$E$2)) -> 0 | I18: =$B18/(1+1/$F$2) -> 0 | J18: =$B18/(1+$F$2) -> 0 | K18: =(G18+I18)/2 -> 0 | L18: =(H18+J18)/2 -> 0 | M18: =$B18/(1+1/$G$2) -> 0 | N18: =$B18/(1+$G$2) -> 0 | O18: =IF($F18=0,G18,D$2+(($B18-SUM($D$2:$E$2))/(1+1/$F$2))) -> 0 | P18: =IF($F18=0,H18,E$2+(($B18-SUM($D$2:$E$2))/(1+$F$2))) -> 0 | Q18: =MIN(B18,$D$2) -> 0 | R18: =B18-Q18 -> 0 | S18: =B18-T18 -> 0 | T18: =MIN(B18,$E$2) -> 0 | U18: =IF(F18=0,Q18,S18) -> 0 | V18: =B18-U18 -> 0 | W18: =MIN(MAX($B18/2+($D$2-$E$2)/2,0),$B18) -> 0 | X18: =MIN(MAX($B18/2+($E$2-$D$2)/2,0),$B18) -> 0 | Y18: =IF(D18=0,I18,IF(E18=0,Q18,IF(J18<$E$2,S18,I18))) -> 0 | Z18: =B18-Y18 -> 0 | AA18: =$B18/2 -> 0 | AB18: =$B18/2 -> 0 | AC18: =K18/L18 -> #DIV/0!
C20: =1920 -> 1920
A22: Voll nach Leistung heißt:
A23: Block 1: 1/5 für B und 4/5 A
A24: 0 nach Leistung heißt:

Sheet Block 2 neu NE
D1: Bedarf E | E1: Bedarf N | F1: Leistung A/B | G1: Verdienst A / Verdienst B | I1: Skalierung
D2: =Block2!C2*'Block 2 neu NE'!$I$2 -> 384 | E2: =Block2!D2*'Block 2 neu NE'!$I$2 -> 1536 | F2: 4 | G2: =(D2/E2)*F2 -> 1 | I2: 1.28 | J2: =D2+E2 -> 1920
G3: Relativ zum Bedarf | I3: Nach Leistung | K3: Arithm. Mitelwert Leistung und Bedarf | M3: Geometrischer Mitelwert Leistung und Bedarf | O3: Erst Bedarfe, dann Leistung | Q3: Priority E | S3: Priority N | U3: First Priority E, then Priority N | W3: Gleiche Distanz zum Bedarf | Y3: Priority E, then equity with lower bound of need N | AA3: Gleichverteilung
B4: Menge | D4: Bedarf E erfüllbar | E4: Bedarf N erfüllbar | F4: Beide Bedarfe erfüllbar | G4: E | H4: N | I4: E | J4: N | K4: E | L4: N | M4: E | N4: N | O4: E | P4: N | Q4: E | R4: N | S4: E | T4: N | U4: E | V4: N | W4: A | X4: B | Y4: E | Z4: N | AA4: A | AB4: B
A5: 1 | B5: 240 | D5: =IF(B5>=$D$2,1,0) -> 0 | E5: =IF(B5>=$E$2,1,0) -> 0 | F5: =IF(B5>=($D$2+$E$2),1,0) -> 0 | G5: =$B5/(1+($E$2/$D$2)) -> 48 | H5: =$B5/(1+($D$2/$E$2)) -> 192 | I5: =$B5/(1+1/$F$2) -> 192 | J5: =$B5/(1+$F$2) -> 48 | K5: =(G5+I5)/2 -> 120 | L5: =(H5+J5)/2 -> 120 | M5: =$B5/(1+1/$G$2) -> 120 | N5: =$B5/(1+$G$2) -> 120 | O5: =IF($F5=0,G5,D$2+(($B5-SUM($D$2:$E$2))/(1+1/$F$2))) -> 48 | P5: =IF($F5=0,H5,E$2+(($B5-SUM($D$2:$E$2))/(1+$F$2))) -> 192 | Q5: =MIN(B5,$D$2) -> 240 | R5: =B5-Q5 -> 0 | S5: =B5-T5 -> 0 | T5: =MIN(B5,$E$2) -> 240 | U5: =IF(F5=0,Q5,S5) -> 240 | V5: =B5-U5 -> 0 | W5: =MIN(MAX($B5/2+($D$2-$E$2)/2,0),$B5) -> 0 | X5: =MIN(MAX($B5/2+($E$2-$D$2)/2,0),$B5) -> 240 | Y5: =IF(F5=1,IF(J5<$E$2,S5,I5),MIN(I5,Q5)) -> 192 | Z5: =B5-Y5 -> 48 | AA5: =$B5/2 -> 120 | AB5: =$B5/2 -> 120 | AC5: =K5/L5 -> 1
A6: 2 | B6: =$B$5*C6 -> 360 | C6: 1.5 | D6: =IF(B6>=$D$2,1,0) -> 0 | E6: =IF(B6>=$E$2,1,0) -> 0 | F6: =IF(B6>=($D$2+$E$2),1,0) -> 0 | G6: =$B6/(1+($E$2/$D$2)) -> 72 | H6: =$B6/(1+($D$2/$E$2)) -> 288 | I6: =$B6/(1+1/$F$2) -> 288 | J6: =$B6/(1+$F$2) -> 72 | K6: =(G6+I6)/2 -> 180 | L6: =(H6+J6)/2 -> 180 | M6: =$B6/(1+1/$G$2) -> 180 | N6: =$B6/(1+$G$2) -> 180 | O6: =IF($F6=0,G6,D$2+(($B6-SUM($D$2:$E$2))/(1+1/$F$2))) -> 72 | P6: =IF($F6=0,H6,E$2+(($B6-SUM($D$2:$E$2))/(1+$F$2))) -> 288 | Q6: =MIN(B6,$D$2) -> 360 | R6: =B6-Q6 -> 0 | S6: =B6-T6 -> 0 | T6: =MIN(B6,$E$2) -> 360 | U6: =IF(F6=0,Q6,S6) -> 360 | V6: =B6-U6 -> 0 | W6: =MIN(MAX($B6/2+($D$2-$E$2)/2,0),$B6) -> 0 | X6: =MIN(MAX($B6/2+($E$2-$D$2)/2,0),$B6) -> 360 | Y6: =IF(F6=1,IF(J6<$E$2,S6,I6),MIN(I6,Q6)) -> 288 | Z6: =B6-Y6 -> 72 | AA6: =$B6/2 -> 180 | AB6: =$B6/2 -> 180 | AC6: =K6/L6 -> 1
A7: 3 | B7: =$B$5*C7 -> 480 | C7: 2 | D7: =IF(B7>=$D$2,1,0) -> 1 | E7: =IF(B7>=$E$2,1,0) -> 0 | F7: =IF(B7>=($D$2+$E$2),1,0) -> 0 | G7: =$B7/(1+($E$2/$D$2)) -> 96 | H7: =$B7/(1+($D$2/$E$2)) -> 384 | I7: =$B7/(1+1/$F$2) -> 384 | J7: =$B7/(1+$F$2) -> 96 | K7: =(G7+I7)/2 -> 240 | L7: =(H7+J7)/2 -> 240 | M7: =$B7/(1+1/$G$2) -> 240 | N7: =$B7/(1+$G$2) -> 240 | O7: =IF($F7=0,G7,D$2+(($B7-SUM($D$2:$E$2))/(1+1/$F$2))) -> 96 | P7: =IF($F7=0,H7,E$2+(($B7-SUM($D$2:$E$2))/(1+$F$2))) -> 384 | Q7: =MIN(B7,$D$2) -> 384 | R7: =B7-Q7 -> 96 | S7: =B7-T7 -> 0 | T7: =MIN(B7,$E$2) -> 480 | U7: =IF(F7=0,Q7,S7) -> 384 | V7: =B7-U7 -> 96 | W7: =MIN(MAX($B7/2+($D$2-$E$2)/2,0),$B7) -> 0 | X7: =MIN(MAX($B7/2+($E$2-$D$2)/2,0),$B7) -> 480 | Y7: =IF(F7=1,IF(J7<$E$2,S7,I7),MIN(I7,Q7)) -> 384 | Z7: =B7-Y7 -> 96 | AA7: =$B7/2 -> 240 | AB7: =$B7/2 -> 240 | AC7: =K7/L7 -> 1
A8: 4 | B8: =$B$5*C8 -> 720 | C8: 3 | D8: =IF(B8>=$D$2,1,0) -> 1 | E8: =IF(B8>=$E$2,1,0) -> 0 | F8: =IF(B8>=($D$2+$E$2),1,0) -> 0 | G8: =$B8/(1+($E$2/$D$2)) -> 144 | H8: =$B8/(1+($D$2/$E$2)) -> 576 | I8: =$B8/(1+1/$F$2) -> 576 | J8: =$B8/(1+$F$2) -> 144 | K8: =(G8+I8)/2 -> 360 | L8: =(H8+J8)/2 -> 360 | M8: =$B8/(1+1/$G$2) -> 360 | N8: =$B8/(1+$G$2) -> 360 | O8: =IF($F8=0,G8,D$2+(($B8-SUM($D$2:$E$2))/(1+1/$F$2))) -> 144 | P8: =IF($F8=0,H8,E$2+(($B8-SUM($D$2:$E$2))/(1+$F$2))) -> 576 | Q8: =MIN(B8,$D$2) -> 384 | R8: =B8-Q8 -> 336 | S8: =B8-T8 -> 0 | T8: =MIN(B8,$E$2) -> 720 | U8: =IF(F8=0,Q8,S8) -> 384 | V8: =B8-U8 -> 336 | W8: =MIN(MAX($B8/2+($D$2-$E$2)/2,0),$B8) -> 0 | X8: =MIN(MAX($B8/2+($E$2-$D$2)/2,0),$B8) -> 720 | Y8: =IF(F8=1,IF(J8<$E$2,S8,I8),MIN(I8,Q8)) -> 384 | Z8: =B8-Y8 -> 336 | AA8: =$B8/2 -> 360 | AB8: =$B8/2 -> 360 | AC8: =K8/L8 -> 1
A9: 5 | B9: =$B$5*C9 -> 1200 | C9: 5 | D9: =IF(B9>=$D$2,1,0) -> 1 | E9: =IF(B9>=$E$2,1,0) -> 0 | F9: =IF(B9>=($D$2+$E$2),1,0) -> 0 | G9: =$B9/(1+($E$2/$D$2)) -> 240 | H9: =$B9/(1+($D$2/$E$2)) -> 960 | I9: =$B9/(1+1/$F$2) -> 960 | J9: =$B9/(1+$F$2) -> 240 | K9: =(G9+I9)/2 -> 600 | L9: =(H9+J9)/2 -> 600 | M9: =$B9/(1+1/$G$2) -> 600 | N9: =$B9/(1+$G$2) -> 600 | O9: =IF($F9=0,G9,D$2+(($B9-SUM($D$2:$E$2))/(1+1/$F$2))) -> 240 | P9: =IF($F9=0,H9,E$2+(($B9-SUM($D$2:$E$2))/(1+$F$2))) -> 960 | Q9: =MIN(B9,$D$2) -> 384 | R9: =B9-Q9 -> 816 | S9: =B9-T9 -> 0 | T9: =MIN(B9,$E$2) -> 1200 | U9: =IF(F9=0,Q9,S9) -> 384 | V9: =B9-U9 -> 816 | W9: =MIN(MAX($B9/2+($D$2-$E$2)/2,0),$B9) -> 24 | X9: =MIN(MAX($B9/2+($E$2-$D$2)/2,0),$B9) -> 1176 | Y9: =IF(F9=1,IF(J9<$E$2,S9,I9),MIN(I9,Q9)) -> 384 | Z9: =B9-Y9 -> 816 | AA9: =$B9/2 -> 600 | AB9: =$B9/2 -> 600 | AC9: =K9/L9 -> 1
A10: 6 | B10: =$B$5*C10 -> 1680 | C10: 7 | D10: =IF(B10>=$D$2,1,0) -> 1 | E10: =IF(B10>=$E$2,1,0) -> 1 | F10: =IF(B10>=($D$2+$E$2),1,0) -> 0 | G10: =$B10/(1+($E$2/$D$2)) -> 336 | H10: =$B10/(1+($D$2/$E$2)) -> 1344 | I10: =$B10/(1+1/$F$2) -> 1344 | J10: =$B10/(1+$F$2) -> 336 | K10: =(G10+I10)/2 -> 840 | L10: =(H10+J10)/2 -> 840 | M10: =$B10/(1+1/$G$2) -> 840 | N10: =$B10/(1+$G$2) -> 840 | O10: =IF($F10=0,G10,D$2+(($B10-SUM($D$2:$E$2))/(1+1/$F$2))) -> 336 | P10: =IF($F10=0,H10,E$2+(($B10-SUM($D$2:$E$2))/(1+$F$2))) -> 1344 | Q10: =MIN(B10,$D$2) -> 384 | R10: =B10-Q10 -> 1296 | S10: =B10-T10 -> 144 | T10: =MIN(B10,$E$2) -> 1536 | U10: =IF(F10=0,Q10,S10) -> 384 | V10: =B10-U10 -> 1296 | W10: =MIN(MAX($B10/2+($D$2-$E$2)/2,0),$B10) -> 264 | X10: =MIN(MAX($B10/2+($E$2-$D$2)/2,0),$B10) -> 1416 | Y10: =IF(F10=1,IF(J10<$E$2,S10,I10),MIN(I10,Q10)) -> 384 | Z10: =B10-Y10 -> 1296 | AA10: =$B10/2 -> 840 | AB10: =$B10/2 -> 840 | AC10: =K10/L10 -> 1
A11: 7 | B11: =$B$5*C11 -> 1920 | C11: 8 | D11: =IF(B11>=$D$2,1,0) -> 1 | E11: =IF(B11>=$E$2,1,0) -> 1 | F11: =IF(B11>=($D$2+$E$2),1,0) -> 1 | G11: =$B11/(1+($E$2/$D$2)) -> 384 | H11: =$B11/(1+($D$2/$E$2)) -> 1536 | I11: =$B11/(1+1/$F$2) -> 1536 | J11: =$B11/(1+$F$2) -> 384 | K11: =(G11+I11)/2 -> 960 | L11: =(H11+J11)/2 -> 960 | M11: =$B11/(1+1/$G$2) -> 960 | N11: =$B11/(1+$G$2) -> 960 | O11: =IF($F11=0,G11,D$2+(($B11-SUM($D$2:$E$2))/(1+1/$F$2))) -> 384 | P11: =IF($F11=0,H11,E$2+(($B11-SUM($D$2:$E$2))/(1+$F$2))) -> 1536 | Q11: =MIN(B11,$D$2) -> 384 | R11: =B11-Q11 -> 1536 | S11: =B11-T11 -> 384 | T11: =MIN(B11,$E$2) -> 1536 | U11: =IF(F11=0,Q11,S11) -> 384 | V11: =B11-U11 -> 1536 | W11: =MIN(MAX($B11/2+($D$2-$E$2)/2,0),$B11) -> 384 | X11: =MIN(MAX($B11/2+($E$2-$D$2)/2,0),$B11) -> 1536 | Y11: =IF(F11=1,IF(J11<$E$2,S11,I11),MIN(I11,Q11)) -> 384 | Z11: =B11-Y11 -> 1536 | AA11: =$B11/2 -> 960 | AB11: =$B11/2 -> 960 | AC11: =K11/L11 -> 1
A12: 8 | B12: =$B$5*C12 -> 2400 | C12: 10 | D12: =IF(B12>=$D$2,1,0) -> 1 | E12: =IF(B12>=$E$2,1,0) -> 1 | F12: =IF(B12>=($D$2+$E$2),1,0) -> 1 | G12: =$B12/(1+($E$2/$D$2)) -> 480 | H12: =$B12/(1+($D$2/$E$2)) -> 1920 | I12: =$B12/(1+1/$F$2) -> 1920 | J12: =$B12/(1+$F$2) -> 480 | K12: =(G12+I12)/2 -> 1200 | L12: =(H12+J12)/2 -> 1200 | M12: =$B12/(1+1/$G$2) -> 1200 | N12: =$B12/(1+$G$2) -> 1200 | O12: =IF($F12=0,G12,D$2+(($B12-SUM($D$2:$E$2))/(1+1/$F$2))) -> 768 | P12: =IF($F12=0,H12,E$2+(($B12-SUM($D$2:$E$2))/(1+$F$2))) -> 1632 | Q12: =MIN(B12,$D$2) -> 384 | R12: =B12-Q12 -> 2016 | S12: =B12-T12 -> 864 | T12: =MIN(B12,$E$2) -> 1536 | U12: =IF(F12=0,Q12,S12) -> 864 | V12: =B12-U12 -> 1536 | W12: =MIN(MAX($B12/2+($D$2-$E$2)/2,0),$B12) -> 624 | X12: =MIN(MAX($B12/2+($E$2-$D$2)/2,0),$B12) -> 1776 | Y12: =IF(F12=1,IF(J12<$E$2,S12,I12),MIN(I12,Q12)) -> 864 | Z12: =B12-Y12 -> 1536 | AA12: =$B12/2 -> 1200 | AB12: =$B12/2 -> 1200 | AC12: =K12/L12 -> 1
A13: 9 | B13: =$B$5*C13 -> 3120 | C13: 13 | D13: =IF(B13>=$D$2,1,0) -> 1 | E13: =IF(B13>=$E$2,1,0) -> 1 | F13: =IF(B13>=($D$2+$E$2),1,0) -> 1 | G13: =$B13/(1+($E$2/$D$2)) -> 624 | H13: =$B13/(1+($D$2/$E$2)) -> 2496 | I13: =$B13/(1+1/$F$2) -> 2496 | J13: =$B13/(1+$F$2) -> 624 | K13: =(G13+I13)/2 -> 1560 | L13: =(H13+J13)/2 -> 1560 | M13: =$B13/(1+1/$G$2) -> 1560 | N13: =$B13/(1+$G$2) -> 1560 | O13: =IF($F13=0,G13,D$2+(($B13-SUM($D$2:$E$2))/(1+1/$F$2))) -> 1344 | P13: =IF($F13=0,H13,E$2+(($B13-SUM($D$2:$E$2))/(1+$F$2))) -> 1776 | Q13: =MIN(B13,$D$2) -> 384 | R13: =B13-Q13 -> 2736 | S13: =B13-T13 -> 1584 | T13: =MIN(B13,$E$2) -> 1536 | U13: =IF(F13=0,Q13,S13) -> 1584 | V13: =B13-U13 -> 1536 | W13: =MIN(MAX($B13/2+($D$2-$E$2)/2,0),$B13) -> 984 | X13: =MIN(MAX($B13/2+($E$2-$D$2)/2,0),$B13) -> 2136 | Y13: =IF(F13=1,IF(J13<$E$2,S13,I13),MIN(I13,Q13)) -> 1584 | Z13: =B13-Y13 -> 1536 | AA13: =$B13/2 -> 1560 | AB13: =$B13/2 -> 1560 | AC13: =K13/L13 -> 1
A14: 10 | B14: =$B$5*C14 -> 4320 | C14: 18 | D14: =IF(B14>=$D$2,1,0) -> 1 | E14: =IF(B14>=$E$2,1,0) -> 1 | F14: =IF(B14>=($D$2+$E$2),1,0) -> 1 | G14: =$B14/(1+($E$2/$D$2)) -> 864 | H14: =$B14/(1+($D$2/$E$2)) -> 3456 | I14: =$B14/(1+1/$F$2) -> 3456 | J14: =$B14/(1+$F$2) -> 864 | K14: =(G14+I14)/2 -> 2160 | L14: =(H14+J14)/2 -> 2160 | M14: =$B14/(1+1/$G$2) -> 2160 | N14: =$B14/(1+$G$2) -> 2160 | O14: =IF($F14=0,G14,D$2+(($B14-SUM($D$2:$E$2))/(1+1/$F$2))) -> 2304 | P14: =IF($F14=0,H14,E$2+(($B14-SUM($D$2:$E$2))/(1+$F$2))) -> 2016 | Q14: =MIN(B14,$D$2) -> 384 | R14: =B14-Q14 -> 3936 | S14: =B14-T14 -> 2784 | T14: =MIN(B14,$E$2) -> 1536 | U14: =IF(F14=0,Q14,S14) -> 2784 | V14: =B14-U14 -> 1536 | W14: =MIN(MAX($B14/2+($D$2-$E$2)/2,0),$B14) -> 1584 | X14: =MIN(MAX($B14/2+($E$2-$D$2)/2,0),$B14) -> 2736 | Y14: =IF(F14=1,IF(J14<$E$2,S14,I14),MIN(I14,Q14)) -> 2784 | Z14: =B14-Y14 -> 1536 | AA14: =$B14/2 -> 2160 | AB14: =$B14/2 -> 2160 | AC14: =K14/L14 -> 1
A15: 11 | B15: =$B$5*C15 -> 5520 | C15: 23 | D15: =IF(B15>=$D$2,1,0) -> 1 | E15: =IF(B15>=$E$2,1,0) -> 1 | F15: =IF(B15>=($D$2+$E$2),1,0) -> 1 | G15: =$B15/(1+($E$2/$D$2)) -> 1104 | H15: =$B15/(1+($D$2/$E$2)) -> 4416 | I15: =$B15/(1+1/$F$2) -> 4416 | J15: =$B15/(1+$F$2) -> 1104 | K15: =(G15+I15)/2 -> 2760 | L15: =(H15+J15)/2 -> 2760 | M15: =$B15/(1+1/$G$2) -> 2760 | N15: =$B15/(1+$G$2) -> 2760 | O15: =IF($F15=0,G15,D$2+(($B15-SUM($D$2:$E$2))/(1+1/$F$2))) -> 3264 | P15: =IF($F15=0,H15,E$2+(($B15-SUM($D$2:$E$2))/(1+$F$2))) -> 2256 | Q15: =MIN(B15,$D$2) -> 384 | R15: =B15-Q15 -> 5136 | S15: =B15-T15 -> 3984 | T15: =MIN(B15,$E$2) -> 1536 | U15: =IF(F15=0,Q15,S15) -> 3984 | V15: =B15-U15 -> 1536 | W15: =MIN(MAX($B15/2+($D$2-$E$2)/2,0),$B15) -> 2184 | X15: =MIN(MAX($B15/2+($E$2-$D$2)/2,0),$B15) -> 3336 | Y15: =IF(F15=1,IF(J15<$E$2,S15,I15),MIN(I15,Q15)) -> 3984 | Z15: =B15-Y15 -> 1536 | AA15: =$B15/2 -> 2760 | AB15: =$B15/2 -> 2760 | AC15: =K15/L15 -> 1
A16: 12 | B16: =$B$5*C16 -> 6720 | C16: 28 | D16: =IF(B16>=$D$2,1,0) -> 1 | E16: =IF(B16>=$E$2,1,0) -> 1 | F16: =IF(B16>=($D$2+$E$2),1,0) -> 1 | G16: =$B16/(1+($E$2/$D$2)) -> 1344 | H16: =$B16/(1+($D$2/$E$2)) -> 5376 | I16: =$B16/(1+1/$F$2) -> 5376 | J16: =$B16/(1+$F$2) -> 1344 | K16: =(G16+I16)/2 -> 3360 | L16: =(H16+J16)/2 -> 3360 | M16: =$B16/(1+1/$G$2) -> 3360 | N16: =$B16/(1+$G$2) -> 3360 | O16: =IF($F16=0,G16,D$2+(($B16-SUM($D$2:$E$2))/(1+1/$F$2))) -> 4224 | P16: =IF($F16=0,H16,E$2+(($B16-SUM($D$2:$E$2))/(1+$F$2))) -> 2496 | Q16: =MIN(B16,$D$2) -> 384 | R16: =B16-Q16 -> 6336 | S16: =B16-T16 -> 5184 | T16: =MIN(B16,$E$2) -> 1536 | U16: =IF(F16=0,Q16,S16) -> 5184 | V16: =B16-U16 -> 1536 | W16: =MIN(MAX($B16/2+($D$2-$E$2)/2,0),$B16) -> 2784 | X16: =MIN(MAX($B16/2+($E$2-$D$2)/2,0),$B16) -> 3936 | Y16: =IF(F16=1,IF(J16<$E$2,S16,I16),MIN(I16,Q16)) -> 5184 | Z16: =B16-Y16 -> 1536 | AA16: =$B16/2 -> 3360 | AB16: =$B16/2 -> 3360 | AC16: =K16/L16 -> 1
A17: 13 | B17: =$B$5*C17 -> 7920 | C17: 33 | D17: =IF(B17>=$D$2,1,0) -> 1 | E17: =IF(B17>=$E$2,1,0) -> 1 | F17: =IF(B17>=($D$2+$E$2),1,0) -> 1 | G17: =$B17/(1+($E$2/$D$2)) -> 1584 | H17: =$B17/(1+($D$2/$E$2)) -> 6336 | I17: =$B17/(1+1/$F$2) -> 6336 | J17: =$B17/(1+$F$2) -> 1584 | K17: =(G17+I17)/2 -> 3960 | L17: =(H17+J17)/2 -> 3960 | M17: =$B17/(1+1/$G$2) -> 3960 | N17: =$B17/(1+$G$2) -> 3960 | O17: =IF($F17=0,G17,D$2+(($B17-SUM($D$2:$E$2))/(1+1/$F$2))) -> 5184 | P17: =IF($F17=0,H17,E$2+(($B17-SUM($D$2:$E$2))/(1+$F$2))) -> 2736 | Q17: =MIN(B17,$D$2) -> 384 | R17: =B17-Q17 -> 7536 | S17: =B17-T17 -> 6384 | T17: =MIN(B17,$E$2) -> 1536 | U17: =IF(F17=0,Q17,S17) -> 6384 | V17: =B17-U17 -> 1536 | W17: =MIN(MAX($B17/2+($D$2-$E$2)/2,0),$B17) -> 3384 | X17: =MIN(MAX($B17/2+($E$2-$D$2)/2,0),$B17) -> 4536 | Y17: =IF(F17=1,IF(J17<$E$2,S17,I17),MIN(I17,Q17)) -> 6336 | Z17: =B17-Y17 -> 1584 | AA17: =$B17/2 -> 3960 | AB17: =$B17/2 -> 3960 | AC17: =K17/L17 -> 1
A18: 14 | B18: =$B$5*C18 -> 0 | D18: =IF(B18>=$D$2,1,0) -> 0 | E18: =IF(B18>=$E$2,1,0) -> 0 | F18: =IF(B18>=($D$2+$E$2),1,0) -> 0 | G18: =$B18/(1+($E$2/$D$2)) -> 0 | H18: =$B18/(1+($D$2/$E$2)) -> 0 | I18: =$B18/(1+1/$F$2) -> 0 | J18: =$B18/(1+$F$2) -> 0 | K18: =(G18+I18)/2 -> 0 | L18: =(H18+J18)/2 -> 0 | M18: =$B18/(1+1/$G$2) -> 0 | N18: =$B18/(1+$G$2) -> 0 | O18: =IF($F18=0,G18,D$2+(($B18-SUM($D$2:$E$2))/(1+1/$F$2))) -> 0 | P18: =IF($F18=0,H18,E$2+(($B18-SUM($D$2:$E$2))/(1+$F$2))) -> 0 | Q18: =MIN(B18,$D$2) -> 0 | R18: =B18-Q18 -> 0 | S18: =B18-T18 -> 0 | T18: =MIN(B18,$E$2) -> 0 | U18: =IF(F18=0,Q18,S18) -> 0 | V18: =B18-U18 -> 0 | W18: =MIN(MAX($B18/2+($D$2-$E$2)/2,0),$B18) -> 0 | X18: =MIN(MAX($B18/2+($E$2-$D$2)/2,0),$B18) -> 0 | Y18: =IF(D18=0,I18,IF(E18=0,Q18,IF(J18<$E$2,S18,I18))) -> 0 | Z18: =B18-Y18 -> 0 | AA18: =$B18/2 -> 0 | AB18: =$B18/2 -> 0 | AC18: =K18/L18 -> #DIV/0!
C20: =1920 -> 1920
A22: Voll nach Leistung heißt:
A23: Block 1: 1/5 für B und 4/5 A
A24: 0 nach Leistung heißt:

Sheet Tabelle4

Sheet Tabelle3

Sheet Tabelle2
